BEGIN:VCALENDAR
VERSION:2.0
PRODID:-//Randolph School - ECPv6.0.0.1//NONSGML v1.0//EN
CALSCALE:GREGORIAN
METHOD:PUBLISH
X-WR-CALNAME:Randolph School
X-ORIGINAL-URL:https://www.randolphschool.net
X-WR-CALDESC:Events for Randolph School
REFRESH-INTERVAL;VALUE=DURATION:PT1H
X-Robots-Tag:noindex
X-PUBLISHED-TTL:PT1H
BEGIN:VTIMEZONE
TZID:America/Chicago
BEGIN:DAYLIGHT
TZOFFSETFROM:-0600
TZOFFSETTO:-0500
TZNAME:CDT
DTSTART:20200308T080000
END:DAYLIGHT
BEGIN:STANDARD
TZOFFSETFROM:-0500
TZOFFSETTO:-0600
TZNAME:CST
DTSTART:20201101T070000
END:STANDARD
END:VTIMEZONE
BEGIN:VEVENT
DTSTART;VALUE=DATE:20201230
DTEND;VALUE=DATE:20201231
DTSTAMP:20260424T111941
CREATED:20200607T210045Z
LAST-MODIFIED:20200720T140036Z
UID:37643-1609286400-1609372799@www.randolphschool.net
SUMMARY:Winter Break
DESCRIPTION:Winter Break
URL:https://www.randolphschool.net/event/winter-break-19/
END:VEVENT
BEGIN:VEVENT
DTSTART;VALUE=DATE:20201229
DTEND;VALUE=DATE:20201230
DTSTAMP:20260424T111941
CREATED:20200607T210043Z
LAST-MODIFIED:20200720T140036Z
UID:37642-1609200000-1609286399@www.randolphschool.net
SUMMARY:Winter Break
DESCRIPTION:Winter Break
URL:https://www.randolphschool.net/event/winter-break-18/
END:VEVENT
BEGIN:VEVENT
DTSTART;VALUE=DATE:20201228
DTEND;VALUE=DATE:20201229
DTSTAMP:20260424T111941
CREATED:20200607T204008Z
LAST-MODIFIED:20200720T140035Z
UID:37641-1609113600-1609199999@www.randolphschool.net
SUMMARY:Winter Break
DESCRIPTION:Winter Break
URL:https://www.randolphschool.net/event/winter-break-17/
END:VEVENT
BEGIN:VEVENT
DTSTART;VALUE=DATE:20201225
DTEND;VALUE=DATE:20201226
DTSTAMP:20260424T111941
CREATED:20200607T202051Z
LAST-MODIFIED:20200720T140034Z
UID:37640-1608854400-1608940799@www.randolphschool.net
SUMMARY:Winter Break
DESCRIPTION:Winter Break
URL:https://www.randolphschool.net/event/winter-break-16/
END:VEVENT
BEGIN:VEVENT
DTSTART;VALUE=DATE:20201224
DTEND;VALUE=DATE:20201225
DTSTAMP:20260424T111941
CREATED:20200607T202049Z
LAST-MODIFIED:20200720T140034Z
UID:37639-1608768000-1608854399@www.randolphschool.net
SUMMARY:Winter Break
DESCRIPTION:Winter Break
URL:https://www.randolphschool.net/event/winter-break-15/
END:VEVENT
BEGIN:VEVENT
DTSTART;VALUE=DATE:20201223
DTEND;VALUE=DATE:20201224
DTSTAMP:20260424T111941
CREATED:20200607T202046Z
LAST-MODIFIED:20200720T140033Z
UID:37638-1608681600-1608767999@www.randolphschool.net
SUMMARY:Winter Break
DESCRIPTION:Winter Break
URL:https://www.randolphschool.net/event/winter-break-14/
END:VEVENT
BEGIN:VEVENT
DTSTART;VALUE=DATE:20201222
DTEND;VALUE=DATE:20201223
DTSTAMP:20260424T111941
CREATED:20200607T202044Z
LAST-MODIFIED:20200720T140032Z
UID:37637-1608595200-1608681599@www.randolphschool.net
SUMMARY:Winter Break
DESCRIPTION:Winter Break
URL:https://www.randolphschool.net/event/winter-break-13/
END:VEVENT
BEGIN:VEVENT
DTSTART;VALUE=DATE:20201221
DTEND;VALUE=DATE:20201222
DTSTAMP:20260424T111941
CREATED:20200607T202033Z
LAST-MODIFIED:20200720T140031Z
UID:37636-1608508800-1608595199@www.randolphschool.net
SUMMARY:Winter Break
DESCRIPTION:Winter Break
URL:https://www.randolphschool.net/event/winter-break-12/
END:VEVENT
BEGIN:VEVENT
DTSTART;VALUE=DATE:20201218
DTEND;VALUE=DATE:20201219
DTSTAMP:20260424T111941
CREATED:20200607T200016Z
LAST-MODIFIED:20200720T140031Z
UID:37635-1608249600-1608335999@www.randolphschool.net
SUMMARY:Half Day (K-12)
DESCRIPTION:Half Day (K-12)
URL:https://www.randolphschool.net/event/half-day-k-12/
END:VEVENT
BEGIN:VEVENT
DTSTART;VALUE=DATE:20201203
DTEND;VALUE=DATE:20201204
DTSTAMP:20260424T111941
CREATED:20200509T003032Z
LAST-MODIFIED:20200720T140030Z
UID:36770-1606953600-1607039999@www.randolphschool.net
SUMMARY:V Football Game State Championship
DESCRIPTION:V Football Game State Championship
URL:https://www.randolphschool.net/event/v-football-game-state-championship/
END:VEVENT
BEGIN:VEVENT
DTSTART;VALUE=DATE:20201127
DTEND;VALUE=DATE:20201128
DTSTAMP:20260424T111941
CREATED:20200607T194102Z
LAST-MODIFIED:20200720T140030Z
UID:37633-1606435200-1606521599@www.randolphschool.net
SUMMARY:Thanksgiving Holiday
DESCRIPTION:Thanksgiving Holiday
URL:https://www.randolphschool.net/event/thanksgiving-holiday-6/
END:VEVENT
BEGIN:VEVENT
DTSTART;VALUE=DATE:20201127
DTEND;VALUE=DATE:20201128
DTSTAMP:20260424T111941
CREATED:20200509T003030Z
LAST-MODIFIED:20200720T140029Z
UID:36769-1606435200-1606521599@www.randolphschool.net
SUMMARY:V Football Game State Semifinals
DESCRIPTION:V Football Game State Semifinals
URL:https://www.randolphschool.net/event/v-football-game-state-semifinals/
END:VEVENT
BEGIN:VEVENT
DTSTART;VALUE=DATE:20201126
DTEND;VALUE=DATE:20201127
DTSTAMP:20260424T111941
CREATED:20200607T194053Z
LAST-MODIFIED:20200720T140028Z
UID:37632-1606348800-1606435199@www.randolphschool.net
SUMMARY:Thanksgiving Holiday
DESCRIPTION:Thanksgiving Holiday
URL:https://www.randolphschool.net/event/thanksgiving-holiday-5/
END:VEVENT
BEGIN:VEVENT
DTSTART;VALUE=DATE:20201125
DTEND;VALUE=DATE:20201126
DTSTAMP:20260424T111941
CREATED:20200607T194050Z
LAST-MODIFIED:20200720T140028Z
UID:37631-1606262400-1606348799@www.randolphschool.net
SUMMARY:Thanksgiving Holiday
DESCRIPTION:Thanksgiving Holiday
URL:https://www.randolphschool.net/event/thanksgiving-holiday-4/
END:VEVENT
BEGIN:VEVENT
DTSTART;VALUE=DATE:20201120
DTEND;VALUE=DATE:20201121
DTSTAMP:20260424T111941
CREATED:20200509T003028Z
LAST-MODIFIED:20200720T140027Z
UID:36768-1605830400-1605916799@www.randolphschool.net
SUMMARY:V Football Game State Playoff Round 3
DESCRIPTION:V Football Game State Playoff Round 3
URL:https://www.randolphschool.net/event/v-football-game-state-playoff-round-3/
END:VEVENT
BEGIN:VEVENT
DTSTART;VALUE=DATE:20201113
DTEND;VALUE=DATE:20201114
DTSTAMP:20260424T111941
CREATED:20200509T003025Z
LAST-MODIFIED:20200720T140026Z
UID:36767-1605225600-1605311999@www.randolphschool.net
SUMMARY:V Football Game State Playoff Round 2
DESCRIPTION:V Football Game State Playoff Round 2
URL:https://www.randolphschool.net/event/v-football-game-state-playoff-round-2/
END:VEVENT
BEGIN:VEVENT
DTSTART;VALUE=DATE:20201111
DTEND;VALUE=DATE:20201112
DTSTAMP:20260424T111941
CREATED:20200607T194044Z
LAST-MODIFIED:20200720T140026Z
UID:37630-1605052800-1605139199@www.randolphschool.net
SUMMARY:Veteran's Day
DESCRIPTION:Veteran’s Day
URL:https://www.randolphschool.net/event/veterans-day/
END:VEVENT
BEGIN:VEVENT
DTSTART;VALUE=DATE:20201106
DTEND;VALUE=DATE:20201107
DTSTAMP:20260424T111941
CREATED:20200509T003023Z
LAST-MODIFIED:20200720T140025Z
UID:36766-1604620800-1604707199@www.randolphschool.net
SUMMARY:V Football Game State Playoff Round 1
DESCRIPTION:V Football Game State Playoff Round 1
URL:https://www.randolphschool.net/event/v-football-game-state-playoff-round-1/
END:VEVENT
BEGIN:VEVENT
DTSTART;VALUE=DATE:20201024
DTEND;VALUE=DATE:20201025
DTSTAMP:20260424T111941
CREATED:20200509T002023Z
LAST-MODIFIED:20200720T140024Z
UID:36764-1603497600-1603583999@www.randolphschool.net
SUMMARY:V Volleyball Super Regional
DESCRIPTION:V Volleyball Super Regional
URL:https://www.randolphschool.net/event/v-volleyball-super-regional-3/
LOCATION:Von Braun Center
END:VEVENT
BEGIN:VEVENT
DTSTART;TZID=America/Chicago:20201023T190000
DTEND;TZID=America/Chicago:20201023T220000
DTSTAMP:20260424T111941
CREATED:20200509T003016Z
LAST-MODIFIED:20200720T140023Z
UID:36765-1603479600-1603490400@www.randolphschool.net
SUMMARY:V Football Game v DAR (Senior Night)
DESCRIPTION:Senior Night
URL:https://www.randolphschool.net/event/v-football-game-v-dar-senior-night/
LOCATION:SportsMed Field
END:VEVENT
BEGIN:VEVENT
DTSTART;VALUE=DATE:20201023
DTEND;VALUE=DATE:20201024
DTSTAMP:20260424T111941
CREATED:20200509T002021Z
LAST-MODIFIED:20200720T133024Z
UID:36763-1603411200-1603497599@www.randolphschool.net
SUMMARY:V Volleyball Super Regional
DESCRIPTION:V Volleyball Super Regional
URL:https://www.randolphschool.net/event/v-volleyball-super-regional-2/
LOCATION:Von Braun Center
END:VEVENT
BEGIN:VEVENT
DTSTART;VALUE=DATE:20201022
DTEND;VALUE=DATE:20201023
DTSTAMP:20260424T111941
CREATED:20200509T002020Z
LAST-MODIFIED:20200720T133023Z
UID:36762-1603324800-1603411199@www.randolphschool.net
SUMMARY:V Volleyball Super Regional
DESCRIPTION:V Volleyball Super Regional
URL:https://www.randolphschool.net/event/v-volleyball-super-regional/
LOCATION:Von Braun Center
END:VEVENT
BEGIN:VEVENT
DTSTART;VALUE=DATE:20201020
DTEND;VALUE=DATE:20201021
DTSTAMP:20260424T111941
CREATED:20200607T192037Z
LAST-MODIFIED:20200720T133020Z
UID:37629-1603152000-1603238399@www.randolphschool.net
SUMMARY:Parent Conferences
DESCRIPTION:Parent Conferences
URL:https://www.randolphschool.net/event/parent-conferences-28/
END:VEVENT
BEGIN:VEVENT
DTSTART;VALUE=DATE:20201020
DTEND;VALUE=DATE:20201021
DTSTAMP:20260424T111941
CREATED:20200509T002018Z
LAST-MODIFIED:20200720T133022Z
UID:36761-1603152000-1603238399@www.randolphschool.net
SUMMARY:V Volleyball Area Tournament
DESCRIPTION:V Volleyball Area Tournament
URL:https://www.randolphschool.net/event/v-volleyball-area-tournament-6/
END:VEVENT
BEGIN:VEVENT
DTSTART;VALUE=DATE:20201019
DTEND;VALUE=DATE:20201020
DTSTAMP:20260424T111941
CREATED:20200509T002016Z
LAST-MODIFIED:20200720T133019Z
UID:36760-1603065600-1603151999@www.randolphschool.net
SUMMARY:V Volleyball Area Tournament
DESCRIPTION:V Volleyball Area Tournament
URL:https://www.randolphschool.net/event/v-volleyball-area-tournament-5/
END:VEVENT
BEGIN:VEVENT
DTSTART;VALUE=DATE:20201017
DTEND;VALUE=DATE:20201018
DTSTAMP:20260424T111941
CREATED:20200509T001024Z
LAST-MODIFIED:20200720T130028Z
UID:36758-1602892800-1602979199@www.randolphschool.net
SUMMARY:V Volleyball Area Tournament
DESCRIPTION:V Volleyball Area Tournament
URL:https://www.randolphschool.net/event/v-volleyball-area-tournament-4/
END:VEVENT
BEGIN:VEVENT
DTSTART;TZID=America/Chicago:20201016T190000
DTEND;TZID=America/Chicago:20201016T220000
DTSTAMP:20260424T111941
CREATED:20200509T002012Z
LAST-MODIFIED:20200720T133012Z
UID:36759-1602874800-1602885600@www.randolphschool.net
SUMMARY:V Football Game @ Westminster
DESCRIPTION:V Football Game @ Westminster
URL:https://www.randolphschool.net/event/v-football-game-westminster/
LOCATION:Westminster Christian Academy (6-12)
END:VEVENT
BEGIN:VEVENT
DTSTART;TZID=America/Chicago:20201015T230000
DTEND;TZID=America/Chicago:20201015T230000
DTSTAMP:20260424T111941
CREATED:20200720T130027Z
LAST-MODIFIED:20200720T130027Z
UID:38920-1602802800-1602802800@www.randolphschool.net
SUMMARY:MS Football Game v Mt. Gap
DESCRIPTION:MS Football Game v Mt. Gap
URL:https://www.randolphschool.net/event/ms-football-game-v-mt-gap/
LOCATION:SportsMed Field
END:VEVENT
BEGIN:VEVENT
DTSTART;TZID=America/Chicago:20201013T233000
DTEND;TZID=America/Chicago:20201013T233000
DTSTAMP:20260424T111941
CREATED:20200509T001022Z
LAST-MODIFIED:20200720T130026Z
UID:36757-1602631800-1602631800@www.randolphschool.net
SUMMARY:V Volleyball Match v Columbia
DESCRIPTION:V Volleyball Match v Columbia
URL:https://www.randolphschool.net/event/v-volleyball-match-v-columbia/
LOCATION:TOC Court
END:VEVENT
BEGIN:VEVENT
DTSTART;TZID=America/Chicago:20201013T213000
DTEND;TZID=America/Chicago:20201013T213000
DTSTAMP:20260424T111941
CREATED:20200509T001021Z
LAST-MODIFIED:20200720T130025Z
UID:36756-1602624600-1602624600@www.randolphschool.net
SUMMARY:V Volleyball Match v Oakwood (Senior Night)
DESCRIPTION:V Volleyball Match v Oakwood (Senior Night)
URL:https://www.randolphschool.net/event/v-volleyball-match-v-oakwood-senior-night/
LOCATION:TOC Court
END:VEVENT
END:VCALENDAR