BEGIN:VCALENDAR
VERSION:2.0
PRODID:-//Randolph School - ECPv6.0.0.1//NONSGML v1.0//EN
CALSCALE:GREGORIAN
METHOD:PUBLISH
X-WR-CALNAME:Randolph School
X-ORIGINAL-URL:https://www.randolphschool.net
X-WR-CALDESC:Events for Randolph School
REFRESH-INTERVAL;VALUE=DURATION:PT1H
X-Robots-Tag:noindex
X-PUBLISHED-TTL:PT1H
BEGIN:VTIMEZONE
TZID:America/Chicago
BEGIN:DAYLIGHT
TZOFFSETFROM:-0600
TZOFFSETTO:-0500
TZNAME:CDT
DTSTART:20210314T080000
END:DAYLIGHT
BEGIN:STANDARD
TZOFFSETFROM:-0500
TZOFFSETTO:-0600
TZNAME:CST
DTSTART:20211107T070000
END:STANDARD
END:VTIMEZONE
BEGIN:VEVENT
DTSTART;TZID=America/Chicago:20210420T220000
DTEND;TZID=America/Chicago:20210420T220000
DTSTAMP:20260423T190449
CREATED:20210420T212707Z
LAST-MODIFIED:20210420T212707Z
UID:40164-1618956000-1618956000@www.randolphschool.net
SUMMARY:MS Baseball County Tournament  1s Round v New Hope
DESCRIPTION:MS Baseball County Tournament  1s Round v New Hope
URL:https://www.randolphschool.net/event/ms-baseball-county-tournament-1s-round-v-new-hope/
LOCATION:New Hope Middle
END:VEVENT
BEGIN:VEVENT
DTSTART;TZID=America/Chicago:20210419T220000
DTEND;TZID=America/Chicago:20210419T220000
DTSTAMP:20260423T190449
CREATED:20210420T212031Z
LAST-MODIFIED:20210420T212031Z
UID:40160-1618869600-1618869600@www.randolphschool.net
SUMMARY:JVB Soccer Game v Huntsville High
DESCRIPTION:JVB Soccer Game v Huntsville High
URL:https://www.randolphschool.net/event/jvb-soccer-game-v-huntsville-high/
LOCATION:Huntsville High School
END:VEVENT
BEGIN:VEVENT
DTSTART;TZID=America/Chicago:20210419T220000
DTEND;TZID=America/Chicago:20210419T220000
DTSTAMP:20260423T190449
CREATED:20210420T212028Z
LAST-MODIFIED:20210420T212028Z
UID:40159-1618869600-1618869600@www.randolphschool.net
SUMMARY:V Softball Game v Tanner
DESCRIPTION:V Softball Game v Tanner
URL:https://www.randolphschool.net/event/v-softball-game-v-tanner-3/
LOCATION:Garth Softball Field
END:VEVENT
BEGIN:VEVENT
DTSTART;TZID=America/Chicago:20210419T163000
DTEND;TZID=America/Chicago:20210419T183000
DTSTAMP:20260423T190449
CREATED:20210420T212032Z
LAST-MODIFIED:20210420T212032Z
UID:40161-1618849800-1618857000@www.randolphschool.net
SUMMARY:V Baseball Game @ Lindsay Lane
DESCRIPTION:V Baseball Game @ Lindsay Lane
URL:https://www.randolphschool.net/event/v-baseball-game-lindsay-lane/
LOCATION:Lindsay Lane Christian Academy
END:VEVENT
BEGIN:VEVENT
DTSTART;VALUE=DATE:20210419
DTEND;VALUE=DATE:20210420
DTSTAMP:20260423T190449
CREATED:20210420T212020Z
LAST-MODIFIED:20210420T212020Z
UID:40158-1618790400-1618876799@www.randolphschool.net
SUMMARY:MS Baseball County Tournament
DESCRIPTION:MS Baseball County Tournament
URL:https://www.randolphschool.net/event/ms-baseball-county-tournament-8/
END:VEVENT
BEGIN:VEVENT
DTSTART;VALUE=DATE:20210419
DTEND;VALUE=DATE:20210420
DTSTAMP:20260423T190449
CREATED:20210420T212019Z
LAST-MODIFIED:20210420T212019Z
UID:40157-1618790400-1618876799@www.randolphschool.net
SUMMARY:VB Golf Grissom Tournament @ Valley Hill
DESCRIPTION:VB Golf Grissom Tournament @ Valley Hill
URL:https://www.randolphschool.net/event/vb-golf-grissom-tournament-valley-hill/
LOCATION:Valley Hill Country Club
END:VEVENT
BEGIN:VEVENT
DTSTART;VALUE=DATE:20210419
DTEND;VALUE=DATE:20210420
DTSTAMP:20260423T190449
CREATED:20210420T212017Z
LAST-MODIFIED:20210420T212017Z
UID:40156-1618790400-1618876799@www.randolphschool.net
SUMMARY:VB Tennis State Tournament @ Mobile Tennis Center
DESCRIPTION:VB Tennis State Tournament @ Mobile Tennis Center
URL:https://www.randolphschool.net/event/vb-tennis-state-tournament-mobile-tennis-center-2/
LOCATION:Mobile Tennis Center
END:VEVENT
BEGIN:VEVENT
DTSTART;VALUE=DATE:20210419
DTEND;VALUE=DATE:20210420
DTSTAMP:20260423T190449
CREATED:20210420T211034Z
LAST-MODIFIED:20210420T211034Z
UID:40155-1618790400-1618876799@www.randolphschool.net
SUMMARY:VG Tennis State Tournament @ Mobile Tennis Center
DESCRIPTION:VG Tennis State Tournament @ Mobile Tennis Center
URL:https://www.randolphschool.net/event/vg-tennis-state-tournament-mobile-tennis-center/
LOCATION:Mobile Tennis Center
END:VEVENT
BEGIN:VEVENT
DTSTART;TZID=America/Chicago:20210418T140000
DTEND;TZID=America/Chicago:20210418T160000
DTSTAMP:20260423T190449
CREATED:20210420T211029Z
LAST-MODIFIED:20210420T211029Z
UID:40154-1618754400-1618761600@www.randolphschool.net
SUMMARY:US Spring Play: The Farnsworth Invention
DESCRIPTION:US Spring Play: The Farnsworth Invention
URL:https://www.randolphschool.net/event/us-spring-play-the-farnsworth-invention-4/
LOCATION:Thurber Arts Center Auditorium
END:VEVENT
BEGIN:VEVENT
DTSTART;TZID=America/Chicago:20210417T190000
DTEND;TZID=America/Chicago:20210417T210000
DTSTAMP:20260423T190449
CREATED:20210420T211027Z
LAST-MODIFIED:20210420T211027Z
UID:40153-1618686000-1618693200@www.randolphschool.net
SUMMARY:US Spring Play: The Farnsworth Invention
DESCRIPTION:US Spring Play: The Farnsworth Invention
URL:https://www.randolphschool.net/event/us-spring-play-the-farnsworth-invention-3/
LOCATION:Thurber Arts Center Auditorium
END:VEVENT
BEGIN:VEVENT
DTSTART;TZID=America/Chicago:20210417T150000
DTEND;TZID=America/Chicago:20210417T170000
DTSTAMP:20260423T190449
CREATED:20210420T211025Z
LAST-MODIFIED:20210420T211025Z
UID:40152-1618671600-1618678800@www.randolphschool.net
SUMMARY:VG Soccer Game v Guntersville
DESCRIPTION:VG Soccer Game v Guntersville
URL:https://www.randolphschool.net/event/vg-soccer-game-v-guntersville/
LOCATION:SportsMed Field
END:VEVENT
BEGIN:VEVENT
DTSTART;TZID=America/Chicago:20210417T150000
DTEND;TZID=America/Chicago:20210417T170000
DTSTAMP:20260423T190449
CREATED:20210420T211020Z
LAST-MODIFIED:20210420T211020Z
UID:40149-1618671600-1618678800@www.randolphschool.net
SUMMARY:V Baseball Game v Guntersville
DESCRIPTION:V Baseball Game v Guntersville
URL:https://www.randolphschool.net/event/v-baseball-game-v-guntersville-2/
LOCATION:Garth Baseball Field
END:VEVENT
BEGIN:VEVENT
DTSTART;TZID=America/Chicago:20210417T140000
DTEND;TZID=America/Chicago:20210417T160000
DTSTAMP:20260423T190449
CREATED:20210420T211024Z
LAST-MODIFIED:20210420T211024Z
UID:40151-1618668000-1618675200@www.randolphschool.net
SUMMARY:US Spring Play: The Farnsworth Invention
DESCRIPTION:US Spring Play: The Farnsworth Invention
URL:https://www.randolphschool.net/event/us-spring-play-the-farnsworth-invention-2/
LOCATION:Thurber Arts Center Auditorium
END:VEVENT
BEGIN:VEVENT
DTSTART;TZID=America/Chicago:20210417T140000
DTEND;TZID=America/Chicago:20210417T140000
DTSTAMP:20260423T190449
CREATED:20210420T211017Z
LAST-MODIFIED:20210420T211017Z
UID:40148-1618668000-1618668000@www.randolphschool.net
SUMMARY:V  Outdoor Track Meet @ Milton Frank
DESCRIPTION:Huntsville Big Cat Invitational
URL:https://www.randolphschool.net/event/v-outdoor-track-meet-milton-frank-3/
LOCATION:Milton Frank Stadium
END:VEVENT
BEGIN:VEVENT
DTSTART;TZID=America/Chicago:20210417T130000
DTEND;TZID=America/Chicago:20210417T150000
DTSTAMP:20260423T190449
CREATED:20210420T211022Z
LAST-MODIFIED:20210420T211022Z
UID:40150-1618664400-1618671600@www.randolphschool.net
SUMMARY:VB Soccer Game v Guntersville
DESCRIPTION:VB Soccer Game v Guntersville
URL:https://www.randolphschool.net/event/vb-soccer-game-v-guntersville/
LOCATION:SportsMed Field
END:VEVENT
BEGIN:VEVENT
DTSTART;TZID=America/Chicago:20210416T213000
DTEND;TZID=America/Chicago:20210416T213000
DTSTAMP:20260423T190449
CREATED:20210420T210029Z
LAST-MODIFIED:20210420T210029Z
UID:40144-1618608600-1618608600@www.randolphschool.net
SUMMARY:V Baseball Game @ Guntersville
DESCRIPTION:V Baseball Game @ Guntersville
URL:https://www.randolphschool.net/event/v-baseball-game-guntersville-4/
LOCATION:Guntersville High School
END:VEVENT
BEGIN:VEVENT
DTSTART;TZID=America/Chicago:20210416T200000
DTEND;TZID=America/Chicago:20210416T200000
DTSTAMP:20260423T190449
CREATED:20210420T210025Z
LAST-MODIFIED:20210420T210025Z
UID:40143-1618603200-1618603200@www.randolphschool.net
SUMMARY:V Outdoor Track Meet @ Milton Frank
DESCRIPTION:Huntsville Big Cat Invitational
URL:https://www.randolphschool.net/event/v-outdoor-track-meet-milton-frank-2/
LOCATION:Milton Frank Stadium
END:VEVENT
BEGIN:VEVENT
DTSTART;TZID=America/Chicago:20210416T190000
DTEND;TZID=America/Chicago:20210416T210000
DTSTAMP:20260423T190449
CREATED:20210420T210033Z
LAST-MODIFIED:20210420T210033Z
UID:40146-1618599600-1618606800@www.randolphschool.net
SUMMARY:US Spring Play: The Farnsworth Invention
DESCRIPTION:US Spring Play: The Farnsworth Invention
URL:https://www.randolphschool.net/event/us-spring-play-the-farnsworth-invention/
LOCATION:Thurber Arts Center Auditorium
END:VEVENT
BEGIN:VEVENT
DTSTART;TZID=America/Chicago:20210416T170000
DTEND;TZID=America/Chicago:20210416T180000
DTSTAMP:20260423T190449
CREATED:20210420T210031Z
LAST-MODIFIED:20210420T210031Z
UID:40145-1618592400-1618596000@www.randolphschool.net
SUMMARY:V Softball Game v Priceville
DESCRIPTION:V Softball Game v Priceville
URL:https://www.randolphschool.net/event/v-softball-game-v-priceville/
LOCATION:Garth Softball Field
END:VEVENT
BEGIN:VEVENT
DTSTART;TZID=America/Chicago:20210416T163000
DTEND;TZID=America/Chicago:20210416T200000
DTSTAMP:20260423T190449
CREATED:20210420T210035Z
LAST-MODIFIED:20210420T210035Z
UID:40147-1618590600-1618603200@www.randolphschool.net
SUMMARY:MS Baseball Game @ JPII (DH)
DESCRIPTION:MS Baseball Game @ JPII (DH)
URL:https://www.randolphschool.net/event/ms-baseball-game-jpii-dh/
LOCATION:St. John Paul II Catholic High School
END:VEVENT
BEGIN:VEVENT
DTSTART;VALUE=DATE:20210416
DTEND;VALUE=DATE:20210417
DTSTAMP:20260423T190449
CREATED:20200607T222105Z
LAST-MODIFIED:20200720T150021Z
UID:37663-1618531200-1618617599@www.randolphschool.net
SUMMARY:LS Grandparent's Day
DESCRIPTION:LS Grandparent’s Day
URL:https://www.randolphschool.net/event/ls-grandparents-day/
END:VEVENT
BEGIN:VEVENT
DTSTART;VALUE=DATE:20210402
DTEND;VALUE=DATE:20210403
DTSTAMP:20260423T190449
CREATED:20200607T222101Z
LAST-MODIFIED:20200720T150020Z
UID:37662-1617321600-1617407999@www.randolphschool.net
SUMMARY:Spring Break
DESCRIPTION:Spring Break
URL:https://www.randolphschool.net/event/spring-break-46/
END:VEVENT
BEGIN:VEVENT
DTSTART;VALUE=DATE:20210401
DTEND;VALUE=DATE:20210402
DTSTAMP:20260423T190449
CREATED:20200607T222053Z
LAST-MODIFIED:20200720T150017Z
UID:37661-1617235200-1617321599@www.randolphschool.net
SUMMARY:Spring Break
DESCRIPTION:Spring Break
URL:https://www.randolphschool.net/event/spring-break-45/
END:VEVENT
BEGIN:VEVENT
DTSTART;VALUE=DATE:20210331
DTEND;VALUE=DATE:20210401
DTSTAMP:20260423T190449
CREATED:20200607T222047Z
LAST-MODIFIED:20200720T150010Z
UID:37660-1617148800-1617235199@www.randolphschool.net
SUMMARY:Spring Break
DESCRIPTION:Spring Break
URL:https://www.randolphschool.net/event/spring-break-44/
END:VEVENT
BEGIN:VEVENT
DTSTART;VALUE=DATE:20210330
DTEND;VALUE=DATE:20210331
DTSTAMP:20260423T190449
CREATED:20200607T220013Z
LAST-MODIFIED:20200720T143030Z
UID:37659-1617062400-1617148799@www.randolphschool.net
SUMMARY:Spring Break
DESCRIPTION:Spring Break
URL:https://www.randolphschool.net/event/spring-break-43/
END:VEVENT
BEGIN:VEVENT
DTSTART;VALUE=DATE:20210329
DTEND;VALUE=DATE:20210330
DTSTAMP:20260423T190449
CREATED:20200607T214059Z
LAST-MODIFIED:20200720T143028Z
UID:37658-1616976000-1617062399@www.randolphschool.net
SUMMARY:Spring Break
DESCRIPTION:Spring Break
URL:https://www.randolphschool.net/event/spring-break-42/
END:VEVENT
BEGIN:VEVENT
DTSTART;VALUE=DATE:20210326
DTEND;VALUE=DATE:20210327
DTSTAMP:20260423T190449
CREATED:20200607T214052Z
LAST-MODIFIED:20200720T143027Z
UID:37657-1616716800-1616803199@www.randolphschool.net
SUMMARY:Interim Week
DESCRIPTION:Interim Week
URL:https://www.randolphschool.net/event/interim-week-5/
END:VEVENT
BEGIN:VEVENT
DTSTART;VALUE=DATE:20210325
DTEND;VALUE=DATE:20210326
DTSTAMP:20260423T190449
CREATED:20200607T214047Z
LAST-MODIFIED:20200720T143026Z
UID:37656-1616630400-1616716799@www.randolphschool.net
SUMMARY:Interim Week
DESCRIPTION:Interim Week
URL:https://www.randolphschool.net/event/interim-week-4/
END:VEVENT
BEGIN:VEVENT
DTSTART;VALUE=DATE:20210324
DTEND;VALUE=DATE:20210325
DTSTAMP:20260423T190449
CREATED:20200607T214043Z
LAST-MODIFIED:20200720T143025Z
UID:37655-1616544000-1616630399@www.randolphschool.net
SUMMARY:Interim Week
DESCRIPTION:Interim Week
URL:https://www.randolphschool.net/event/interim-week-3/
END:VEVENT
BEGIN:VEVENT
DTSTART;VALUE=DATE:20210323
DTEND;VALUE=DATE:20210324
DTSTAMP:20260423T190449
CREATED:20200607T212057Z
LAST-MODIFIED:20200720T143024Z
UID:37654-1616457600-1616543999@www.randolphschool.net
SUMMARY:Interim Week
DESCRIPTION:Interim Week
URL:https://www.randolphschool.net/event/interim-week-2/
END:VEVENT
END:VCALENDAR