BEGIN:VCALENDAR
VERSION:2.0
PRODID:-//Randolph School - ECPv6.0.0.1//NONSGML v1.0//EN
CALSCALE:GREGORIAN
METHOD:PUBLISH
X-WR-CALNAME:Randolph School
X-ORIGINAL-URL:https://www.randolphschool.net
X-WR-CALDESC:Events for Randolph School
REFRESH-INTERVAL;VALUE=DURATION:PT1H
X-Robots-Tag:noindex
X-PUBLISHED-TTL:PT1H
BEGIN:VTIMEZONE
TZID:America/Chicago
BEGIN:DAYLIGHT
TZOFFSETFROM:-0600
TZOFFSETTO:-0500
TZNAME:CDT
DTSTART:20210314T080000
END:DAYLIGHT
BEGIN:STANDARD
TZOFFSETFROM:-0500
TZOFFSETTO:-0600
TZNAME:CST
DTSTART:20211107T070000
END:STANDARD
END:VTIMEZONE
BEGIN:VEVENT
DTSTART;VALUE=DATE:20210430
DTEND;VALUE=DATE:20210501
DTSTAMP:20260422T152923
CREATED:20210420T212820Z
LAST-MODIFIED:20210428T153043Z
UID:40194-1619740800-1619827199@www.randolphschool.net
SUMMARY:V Outdoor Track State Meet @ Gulf Shores Sportsplex
DESCRIPTION:V Outdoor Track State Meet @ Gulf Shores Sportsplex
URL:https://www.randolphschool.net/event/v-outdoor-track-state-meet-gulf-shores-sportsplex-2/
LOCATION:Gulf Shores Sportsplex
END:VEVENT
BEGIN:VEVENT
DTSTART;VALUE=DATE:20210430
DTEND;VALUE=DATE:20210501
DTSTAMP:20260422T152923
CREATED:20210420T212817Z
LAST-MODIFIED:20210428T134021Z
UID:40193-1619740800-1619827199@www.randolphschool.net
SUMMARY:VB Soccer State Playoffs (Round 3)
DESCRIPTION:VB Soccer State Playoffs (Round 3)
URL:https://www.randolphschool.net/event/vb-soccer-state-playoffs-round-3-2/
END:VEVENT
BEGIN:VEVENT
DTSTART;VALUE=DATE:20210430
DTEND;VALUE=DATE:20210501
DTSTAMP:20260422T152923
CREATED:20210420T212815Z
LAST-MODIFIED:20210421T155027Z
UID:40192-1619740800-1619827199@www.randolphschool.net
SUMMARY:CANCELLED: V Softball Area Tournament
DESCRIPTION:CANCELLED: V Softball Area Tournament
URL:https://www.randolphschool.net/event/cancelled-v-softball-area-tournament-5/
END:VEVENT
BEGIN:VEVENT
DTSTART;VALUE=DATE:20210429
DTEND;VALUE=DATE:20210430
DTSTAMP:20260422T152923
CREATED:20210428T163036Z
LAST-MODIFIED:20210428T234022Z
UID:40636-1619654400-1619740799@www.randolphschool.net
SUMMARY:V Outdoor Track State Meet @ Gulf Shores Sportsplex
DESCRIPTION:V Outdoor Track State Meet @ Gulf Shores Sportsplex
URL:https://www.randolphschool.net/event/v-outdoor-track-state-meet-gulf-shores-sportsplex-5/
LOCATION:Gulf Shores Sportsplex
END:VEVENT
BEGIN:VEVENT
DTSTART;VALUE=DATE:20210429
DTEND;VALUE=DATE:20210430
DTSTAMP:20260422T152923
CREATED:20210420T212813Z
LAST-MODIFIED:20210421T222019Z
UID:40191-1619654400-1619740799@www.randolphschool.net
SUMMARY:CANCELLED: V Softball Area Tournament
DESCRIPTION:CANCELLED: V Softball Area Tournament
URL:https://www.randolphschool.net/event/cancelled-v-softball-area-tournament-4/
END:VEVENT
BEGIN:VEVENT
DTSTART;VALUE=DATE:20210429
DTEND;VALUE=DATE:20210430
DTSTAMP:20260422T152923
CREATED:20210420T212812Z
LAST-MODIFIED:20210428T133035Z
UID:40190-1619654400-1619740799@www.randolphschool.net
SUMMARY:VB Soccer State Playoffs (Round 3)
DESCRIPTION:VB Soccer State Playoffs (Round 3)
URL:https://www.randolphschool.net/event/vb-soccer-state-playoffs-round-3/
END:VEVENT
BEGIN:VEVENT
DTSTART;VALUE=DATE:20210429
DTEND;VALUE=DATE:20210430
DTSTAMP:20260422T152923
CREATED:20210420T212808Z
LAST-MODIFIED:20210428T234023Z
UID:40189-1619654400-1619740799@www.randolphschool.net
SUMMARY:VG Soccer State Playoffs (Round 3)
DESCRIPTION:VG Soccer State Playoffs (Round 3)
URL:https://www.randolphschool.net/event/vg-soccer-state-playoffs-round-3/
END:VEVENT
BEGIN:VEVENT
DTSTART;VALUE=DATE:20210429
DTEND;VALUE=DATE:20210430
DTSTAMP:20260422T152923
CREATED:20210420T212806Z
LAST-MODIFIED:20210428T153038Z
UID:40188-1619654400-1619740799@www.randolphschool.net
SUMMARY:V Outdoor Track State Meet @ Gulf Shores Sportsplex
DESCRIPTION:V Outdoor Track State Meet @ Gulf Shores Sportsplex
URL:https://www.randolphschool.net/event/v-outdoor-track-state-meet-gulf-shores-sportsplex/
LOCATION:Gulf Shores Sportsplex
END:VEVENT
BEGIN:VEVENT
DTSTART;TZID=America/Chicago:20210428T153000
DTEND;TZID=America/Chicago:20210428T170000
DTSTAMP:20260422T152923
CREATED:20210421T171022Z
LAST-MODIFIED:20210426T192020Z
UID:40350-1619623800-1619629200@www.randolphschool.net
SUMMARY:MSG Girls Basketball Evals
DESCRIPTION:MSG Girls Basketball Evals
URL:https://www.randolphschool.net/event/msg-girls-basketball-evals-3/
LOCATION:Knight-Lowe Gym
END:VEVENT
BEGIN:VEVENT
DTSTART;TZID=America/Chicago:20210428T000000
DTEND;TZID=America/Chicago:20210428T000000
DTSTAMP:20260422T152923
CREATED:20210426T025034Z
LAST-MODIFIED:20210427T234031Z
UID:40485-1619568000-1619568000@www.randolphschool.net
SUMMARY:VB Soccer State Playoffs (Round 2) v Hartselle
DESCRIPTION:VB Soccer State Playoffs (Round 2) v Hartselle
URL:https://www.randolphschool.net/event/vb-soccer-state-playoffs-round-2-v-hartselle/
LOCATION:SportsMed Field
END:VEVENT
BEGIN:VEVENT
DTSTART;VALUE=DATE:20210428
DTEND;VALUE=DATE:20210429
DTSTAMP:20260422T152923
CREATED:20210426T142013Z
LAST-MODIFIED:20210427T234030Z
UID:40500-1619568000-1619654399@www.randolphschool.net
SUMMARY:V Outdoor Track State Meet @ Gulf Shores Sportsplex
DESCRIPTION:V Outdoor Track State Meet @ Gulf Shores Sportsplex
URL:https://www.randolphschool.net/event/v-outdoor-track-state-meet-gulf-shores-sportsplex-4/
LOCATION:Gulf Shores Sportsplex
END:VEVENT
BEGIN:VEVENT
DTSTART;VALUE=DATE:20210428
DTEND;VALUE=DATE:20210429
DTSTAMP:20260422T152923
CREATED:20210420T212803Z
LAST-MODIFIED:20210421T221022Z
UID:40187-1619568000-1619654399@www.randolphschool.net
SUMMARY:CANCELLED: V Softball Area Tournament
DESCRIPTION:CANCELLED: V Softball Area Tournament
URL:https://www.randolphschool.net/event/cancelled-v-softball-area-tournament-3/
END:VEVENT
BEGIN:VEVENT
DTSTART;TZID=America/Chicago:20210427T220000
DTEND;TZID=America/Chicago:20210427T220000
DTSTAMP:20260422T152923
CREATED:20210426T014143Z
LAST-MODIFIED:20210427T214027Z
UID:40482-1619560800-1619560800@www.randolphschool.net
SUMMARY:VG Soccer State Playoffs (Round 2) V Southside
DESCRIPTION:VG Soccer State Playoffs (Round 2) V Southside
URL:https://www.randolphschool.net/event/vg-soccer-state-playoffs-round-2-v-southside/
LOCATION:SportsMed Field
END:VEVENT
BEGIN:VEVENT
DTSTART;TZID=America/Chicago:20210427T153000
DTEND;TZID=America/Chicago:20210427T170000
DTSTAMP:20260422T152923
CREATED:20210421T171018Z
LAST-MODIFIED:20210426T191025Z
UID:40349-1619537400-1619542800@www.randolphschool.net
SUMMARY:MSG Girls Basketball Evals
DESCRIPTION:MSG Girls Basketball Evals
URL:https://www.randolphschool.net/event/msg-girls-basketball-evals-2/
LOCATION:Knight-Lowe Gym
END:VEVENT
BEGIN:VEVENT
DTSTART;TZID=America/Chicago:20210427T130000
DTEND;TZID=America/Chicago:20210427T130000
DTSTAMP:20260422T152923
CREATED:20210421T144031Z
LAST-MODIFIED:20210426T191024Z
UID:40319-1619528400-1619528400@www.randolphschool.net
SUMMARY:VG Golf Sectionals @ Gunters Landing
DESCRIPTION:VG Golf Sectionals @ Gunters Landing
URL:https://www.randolphschool.net/event/vg-golf-sectionals-gunters-landing-2/
LOCATION:Gunters Landing – Guntersville
END:VEVENT
BEGIN:VEVENT
DTSTART;VALUE=DATE:20210427
DTEND;VALUE=DATE:20210428
DTSTAMP:20260422T152923
CREATED:20210420T212802Z
LAST-MODIFIED:20210426T004036Z
UID:40186-1619481600-1619567999@www.randolphschool.net
SUMMARY:VG Soccer State Playoffs (Round 2)
DESCRIPTION:VG Soccer State Playoffs (Round 2)
URL:https://www.randolphschool.net/event/vg-soccer-state-playoffs-round-2-2/
END:VEVENT
BEGIN:VEVENT
DTSTART;VALUE=DATE:20210427
DTEND;VALUE=DATE:20210428
DTSTAMP:20260422T152923
CREATED:20210420T212759Z
LAST-MODIFIED:20210426T014114Z
UID:40185-1619481600-1619567999@www.randolphschool.net
SUMMARY:VB Soccer State Playoffs (Round 2)
DESCRIPTION:VB Soccer State Playoffs (Round 2)
URL:https://www.randolphschool.net/event/vb-soccer-state-playoffs-round-2-2/
END:VEVENT
BEGIN:VEVENT
DTSTART;VALUE=DATE:20210427
DTEND;VALUE=DATE:20210428
DTSTAMP:20260422T152923
CREATED:20210420T212757Z
LAST-MODIFIED:20210421T220026Z
UID:40184-1619481600-1619567999@www.randolphschool.net
SUMMARY:CANCELLED: V Softball Area Tournament
DESCRIPTION:CANCELLED: V Softball Area Tournament
URL:https://www.randolphschool.net/event/cancelled-v-softball-area-tournament-2/
END:VEVENT
BEGIN:VEVENT
DTSTART;VALUE=DATE:20210427
DTEND;VALUE=DATE:20210428
DTSTAMP:20260422T152923
CREATED:20210420T212755Z
LAST-MODIFIED:20210420T212755Z
UID:40183-1619481600-1619567999@www.randolphschool.net
SUMMARY:VG Golf Sectionals @ Gunters Landing
DESCRIPTION:VG Golf Sectionals @ Gunters Landing
URL:https://www.randolphschool.net/event/vg-golf-sectionals-gunters-landing/
LOCATION:Gunters Landing – Guntersville
END:VEVENT
BEGIN:VEVENT
DTSTART;TZID=America/Chicago:20210426T153000
DTEND;TZID=America/Chicago:20210426T170000
DTSTAMP:20260422T152923
CREATED:20210421T170023Z
LAST-MODIFIED:20210426T191022Z
UID:40348-1619451000-1619456400@www.randolphschool.net
SUMMARY:MSG Girls Basketball Evals
DESCRIPTION:MSG Girls Basketball Evals
URL:https://www.randolphschool.net/event/msg-girls-basketball-evals/
LOCATION:Knight-Lowe Gym
END:VEVENT
BEGIN:VEVENT
DTSTART;TZID=America/Chicago:20210426T130000
DTEND;TZID=America/Chicago:20210426T130000
DTSTAMP:20260422T152923
CREATED:20210421T143028Z
LAST-MODIFIED:20210426T121026Z
UID:40315-1619442000-1619442000@www.randolphschool.net
SUMMARY:VB Golf Sectionals @ Valley Hill
DESCRIPTION:VB Golf Sectionals @ Valley Hill
URL:https://www.randolphschool.net/event/vb-golf-sectionals-valley-hill-2/
LOCATION:Valley Hill Country Club
END:VEVENT
BEGIN:VEVENT
DTSTART;VALUE=DATE:20210426
DTEND;VALUE=DATE:20210427
DTSTAMP:20260422T152923
CREATED:20210420T212752Z
LAST-MODIFIED:20210425T234041Z
UID:40181-1619395200-1619481599@www.randolphschool.net
SUMMARY:VB Soccer State Playoffs (Round 2)
DESCRIPTION:VB Soccer State Playoffs (Round 2)
URL:https://www.randolphschool.net/event/vb-soccer-state-playoffs-round-2/
END:VEVENT
BEGIN:VEVENT
DTSTART;VALUE=DATE:20210426
DTEND;VALUE=DATE:20210427
DTSTAMP:20260422T152923
CREATED:20210420T212751Z
LAST-MODIFIED:20210420T212751Z
UID:40180-1619395200-1619481599@www.randolphschool.net
SUMMARY:VB Golf Sectionals @ Valley Hill
DESCRIPTION:VB Golf Sectionals @ Valley Hill
URL:https://www.randolphschool.net/event/vb-golf-sectionals-valley-hill/
LOCATION:Valley Hill Country Club
END:VEVENT
BEGIN:VEVENT
DTSTART;VALUE=DATE:20210426
DTEND;VALUE=DATE:20210427
DTSTAMP:20260422T152923
CREATED:20210420T212745Z
LAST-MODIFIED:20210421T215026Z
UID:40179-1619395200-1619481599@www.randolphschool.net
SUMMARY:CANCELLED: V Softball Area Tournament
DESCRIPTION:CANCELLED: V Softball Area Tournament
URL:https://www.randolphschool.net/event/cancelled-v-softball-area-tournament/
END:VEVENT
BEGIN:VEVENT
DTSTART;VALUE=DATE:20210426
DTEND;VALUE=DATE:20210427
DTSTAMP:20260422T152923
CREATED:20210420T212743Z
LAST-MODIFIED:20210425T234039Z
UID:40178-1619395200-1619481599@www.randolphschool.net
SUMMARY:VG Soccer State Playoffs (Round 2)
DESCRIPTION:VG Soccer State Playoffs (Round 2)
URL:https://www.randolphschool.net/event/vg-soccer-state-playoffs-round-2/
END:VEVENT
BEGIN:VEVENT
DTSTART;TZID=America/Chicago:20210424T160000
DTEND;TZID=America/Chicago:20210424T160000
DTSTAMP:20260422T152923
CREATED:20210420T212741Z
LAST-MODIFIED:20210424T154023Z
UID:40177-1619280000-1619280000@www.randolphschool.net
SUMMARY:V Softball Priceville Invitational v Priceville
DESCRIPTION:V Softball Priceville Invitational v Priceville
URL:https://www.randolphschool.net/event/v-softball-priceville-invitational-v-priceville/
LOCATION:Priceville High School
END:VEVENT
BEGIN:VEVENT
DTSTART;TZID=America/Chicago:20210424T000000
DTEND;TZID=America/Chicago:20210424T000000
DTSTAMP:20260422T152923
CREATED:20210420T212739Z
LAST-MODIFIED:20210423T234026Z
UID:40176-1619222400-1619222400@www.randolphschool.net
SUMMARY:VB Soccer State Playoffs (Round 1) @ Hazel Green
DESCRIPTION:VB Soccer State Playoffs (Round 1) @ Hazel Green
URL:https://www.randolphschool.net/event/vb-soccer-state-playoffs-round-1-hazel-green/
LOCATION:Hazel Green High School
END:VEVENT
BEGIN:VEVENT
DTSTART;VALUE=DATE:20210424
DTEND;VALUE=DATE:20210425
DTSTAMP:20260422T152923
CREATED:20210420T212736Z
LAST-MODIFIED:20210423T234025Z
UID:40175-1619222400-1619308799@www.randolphschool.net
SUMMARY:V Outdoor Track Sectional @ James Clemens
DESCRIPTION:V Outdoor Track Sectional @ James Clemens
URL:https://www.randolphschool.net/event/v-outdoor-track-sectional-james-clemens-2/
LOCATION:James Clemens High School
END:VEVENT
BEGIN:VEVENT
DTSTART;TZID=America/Chicago:20210423T223000
DTEND;TZID=America/Chicago:20210423T223000
DTSTAMP:20260422T152923
CREATED:20210420T212734Z
LAST-MODIFIED:20210423T213035Z
UID:40174-1619217000-1619217000@www.randolphschool.net
SUMMARY:V Softball Priceville Invitational v DAR
DESCRIPTION:V Softball Priceville Invitational v DAR
URL:https://www.randolphschool.net/event/v-softball-priceville-invitational-v-dar/
LOCATION:Priceville High School
END:VEVENT
BEGIN:VEVENT
DTSTART;TZID=America/Chicago:20210423T211500
DTEND;TZID=America/Chicago:20210423T211500
DTSTAMP:20260422T152923
CREATED:20210420T212732Z
LAST-MODIFIED:20210423T203030Z
UID:40173-1619212500-1619212500@www.randolphschool.net
SUMMARY:VB Soccer Pre-Game Meal
DESCRIPTION:VB Soccer Pre-Game Meal
URL:https://www.randolphschool.net/event/vb-soccer-pre-game-meal/
LOCATION:Garth Commons
END:VEVENT
END:VCALENDAR