BEGIN:VCALENDAR
VERSION:2.0
PRODID:-//Randolph School - ECPv6.0.0.1//NONSGML v1.0//EN
CALSCALE:GREGORIAN
METHOD:PUBLISH
X-ORIGINAL-URL:https://www.randolphschool.net
X-WR-CALDESC:Events for Randolph School
REFRESH-INTERVAL;VALUE=DURATION:PT1H
X-Robots-Tag:noindex
X-PUBLISHED-TTL:PT1H
BEGIN:VTIMEZONE
TZID:America/Chicago
BEGIN:DAYLIGHT
TZOFFSETFROM:-0600
TZOFFSETTO:-0500
TZNAME:CDT
DTSTART:20260308T080000
END:DAYLIGHT
BEGIN:STANDARD
TZOFFSETFROM:-0500
TZOFFSETTO:-0600
TZNAME:CST
DTSTART:20261101T070000
END:STANDARD
END:VTIMEZONE
BEGIN:VEVENT
DTSTART;VALUE=DATE:20261125
DTEND;VALUE=DATE:20261126
DTSTAMP:20260425T222533
CREATED:20260416T025004Z
LAST-MODIFIED:20260426T030002Z
UID:87403-1795564800-1795651199@www.randolphschool.net
SUMMARY:Thanksgiving Holiday
DESCRIPTION:Thanksgiving Holiday
URL:https://www.randolphschool.net/event/thanksgiving-holiday-19/
END:VEVENT
BEGIN:VEVENT
DTSTART;VALUE=DATE:20261126
DTEND;VALUE=DATE:20261127
DTSTAMP:20260425T222533
CREATED:20260425T051502Z
LAST-MODIFIED:20260426T030002Z
UID:87685-1795651200-1795737599@www.randolphschool.net
SUMMARY:Thanksgiving Holiday
DESCRIPTION:Thanksgiving Holiday
URL:https://www.randolphschool.net/event/thanksgiving-holiday-20/
END:VEVENT
BEGIN:VEVENT
DTSTART;VALUE=DATE:20261127
DTEND;VALUE=DATE:20261128
DTSTAMP:20260425T222533
CREATED:20260425T051503Z
LAST-MODIFIED:20260426T030003Z
UID:87686-1795737600-1795823999@www.randolphschool.net
SUMMARY:Thanksgiving Holiday
DESCRIPTION:Thanksgiving Holiday
URL:https://www.randolphschool.net/event/thanksgiving-holiday-21/
END:VEVENT
BEGIN:VEVENT
DTSTART;VALUE=DATE:20261221
DTEND;VALUE=DATE:20261222
DTSTAMP:20260425T222533
CREATED:20260425T051503Z
LAST-MODIFIED:20260426T030003Z
UID:87687-1797811200-1797897599@www.randolphschool.net
SUMMARY:Winter Break
DESCRIPTION:Winter Break
URL:https://www.randolphschool.net/event/winter-break-76/
END:VEVENT
BEGIN:VEVENT
DTSTART;VALUE=DATE:20261222
DTEND;VALUE=DATE:20261223
DTSTAMP:20260425T222533
CREATED:20260425T051504Z
LAST-MODIFIED:20260426T030003Z
UID:87688-1797897600-1797983999@www.randolphschool.net
SUMMARY:Winter Break
DESCRIPTION:Winter Break
URL:https://www.randolphschool.net/event/winter-break-77/
END:VEVENT
BEGIN:VEVENT
DTSTART;VALUE=DATE:20261223
DTEND;VALUE=DATE:20261224
DTSTAMP:20260425T222533
CREATED:20260425T052002Z
LAST-MODIFIED:20260426T030502Z
UID:87689-1797984000-1798070399@www.randolphschool.net
SUMMARY:Winter Break
DESCRIPTION:Winter Break
URL:https://www.randolphschool.net/event/winter-break-78/
END:VEVENT
BEGIN:VEVENT
DTSTART;VALUE=DATE:20261224
DTEND;VALUE=DATE:20261225
DTSTAMP:20260425T222533
CREATED:20260425T052002Z
LAST-MODIFIED:20260426T030503Z
UID:87690-1798070400-1798156799@www.randolphschool.net
SUMMARY:Winter Break
DESCRIPTION:Winter Break
URL:https://www.randolphschool.net/event/winter-break-79/
END:VEVENT
BEGIN:VEVENT
DTSTART;VALUE=DATE:20261225
DTEND;VALUE=DATE:20261226
DTSTAMP:20260425T222533
CREATED:20260425T052002Z
LAST-MODIFIED:20260426T030503Z
UID:87691-1798156800-1798243199@www.randolphschool.net
SUMMARY:Winter Break
DESCRIPTION:Winter Break
URL:https://www.randolphschool.net/event/winter-break-80/
END:VEVENT
BEGIN:VEVENT
DTSTART;VALUE=DATE:20261228
DTEND;VALUE=DATE:20261229
DTSTAMP:20260425T222533
CREATED:20260425T052003Z
LAST-MODIFIED:20260426T030503Z
UID:87692-1798416000-1798502399@www.randolphschool.net
SUMMARY:Winter Break
DESCRIPTION:Winter Break
URL:https://www.randolphschool.net/event/winter-break-81/
END:VEVENT
BEGIN:VEVENT
DTSTART;VALUE=DATE:20261229
DTEND;VALUE=DATE:20261230
DTSTAMP:20260425T222533
CREATED:20260425T052003Z
LAST-MODIFIED:20260426T030503Z
UID:87693-1798502400-1798588799@www.randolphschool.net
SUMMARY:Winter Break
DESCRIPTION:Winter Break
URL:https://www.randolphschool.net/event/winter-break-82/
END:VEVENT
END:VCALENDAR