BEGIN:VCALENDAR
VERSION:2.0
PRODID:-//Randolph School - ECPv6.0.0.1//NONSGML v1.0//EN
CALSCALE:GREGORIAN
METHOD:PUBLISH
X-WR-CALNAME:Randolph School
X-ORIGINAL-URL:https://www.randolphschool.net
X-WR-CALDESC:Events for Randolph School
REFRESH-INTERVAL;VALUE=DURATION:PT1H
X-Robots-Tag:noindex
X-PUBLISHED-TTL:PT1H
BEGIN:VTIMEZONE
TZID:America/Chicago
BEGIN:DAYLIGHT
TZOFFSETFROM:-0600
TZOFFSETTO:-0500
TZNAME:CDT
DTSTART:20200308T080000
END:DAYLIGHT
BEGIN:STANDARD
TZOFFSETFROM:-0500
TZOFFSETTO:-0600
TZNAME:CST
DTSTART:20201101T070000
END:STANDARD
END:VTIMEZONE
BEGIN:VEVENT
DTSTART;TZID=America/Chicago:20200414T190000
DTEND;TZID=America/Chicago:20200414T210000
DTSTAMP:20260424T104230
CREATED:20200524T170103Z
LAST-MODIFIED:20200524T170103Z
UID:37209-1586890800-1586898000@www.randolphschool.net
SUMMARY:CANCELLED: VB Soccer Game vs. Westminster
DESCRIPTION:CANCELLED: VB Soccer Game vs. Westminster
URL:https://www.randolphschool.net/event/cancelled-vb-soccer-game-vs-westminster-18/
END:VEVENT
BEGIN:VEVENT
DTSTART;TZID=America/Chicago:20200414T190000
DTEND;TZID=America/Chicago:20200414T210000
DTSTAMP:20260424T104230
CREATED:20200524T195031Z
LAST-MODIFIED:20200524T195031Z
UID:37214-1586890800-1586898000@www.randolphschool.net
SUMMARY:CANCELLED: VB Soccer Game vs. Westminster
DESCRIPTION:CANCELLED: VB Soccer Game vs. Westminster
URL:https://www.randolphschool.net/event/cancelled-vb-soccer-game-vs-westminster-19/
END:VEVENT
BEGIN:VEVENT
DTSTART;TZID=America/Chicago:20200414T190000
DTEND;TZID=America/Chicago:20200414T210000
DTSTAMP:20260424T104230
CREATED:20200525T004013Z
LAST-MODIFIED:20200525T004013Z
UID:37220-1586890800-1586898000@www.randolphschool.net
SUMMARY:CANCELLED: VB Soccer Game vs. Westminster
DESCRIPTION:CANCELLED: VB Soccer Game vs. Westminster
URL:https://www.randolphschool.net/event/cancelled-vb-soccer-game-vs-westminster-20/
END:VEVENT
BEGIN:VEVENT
DTSTART;TZID=America/Chicago:20200414T190000
DTEND;TZID=America/Chicago:20200414T210000
DTSTAMP:20260424T104230
CREATED:20200525T074032Z
LAST-MODIFIED:20200525T074032Z
UID:37228-1586890800-1586898000@www.randolphschool.net
SUMMARY:CANCELLED: VB Soccer Game vs. Westminster
DESCRIPTION:CANCELLED: VB Soccer Game vs. Westminster
URL:https://www.randolphschool.net/event/cancelled-vb-soccer-game-vs-westminster-21/
END:VEVENT
BEGIN:VEVENT
DTSTART;TZID=America/Chicago:20200414T190000
DTEND;TZID=America/Chicago:20200414T210000
DTSTAMP:20260424T104230
CREATED:20200525T091020Z
LAST-MODIFIED:20200525T091020Z
UID:37232-1586890800-1586898000@www.randolphschool.net
SUMMARY:CANCELLED: VB Soccer Game vs. Westminster
DESCRIPTION:CANCELLED: VB Soccer Game vs. Westminster
URL:https://www.randolphschool.net/event/cancelled-vb-soccer-game-vs-westminster-22/
END:VEVENT
BEGIN:VEVENT
DTSTART;TZID=America/Chicago:20200414T190000
DTEND;TZID=America/Chicago:20200414T210000
DTSTAMP:20260424T104230
CREATED:20200525T225021Z
LAST-MODIFIED:20200525T225021Z
UID:37244-1586890800-1586898000@www.randolphschool.net
SUMMARY:CANCELLED: VB Soccer Game vs. Westminster
DESCRIPTION:CANCELLED: VB Soccer Game vs. Westminster
URL:https://www.randolphschool.net/event/cancelled-vb-soccer-game-vs-westminster-23/
END:VEVENT
BEGIN:VEVENT
DTSTART;TZID=America/Chicago:20200414T190000
DTEND;TZID=America/Chicago:20200414T210000
DTSTAMP:20260424T104230
CREATED:20200526T040022Z
LAST-MODIFIED:20200526T040022Z
UID:37250-1586890800-1586898000@www.randolphschool.net
SUMMARY:CANCELLED: VB Soccer Game vs. Westminster
DESCRIPTION:CANCELLED: VB Soccer Game vs. Westminster
URL:https://www.randolphschool.net/event/cancelled-vb-soccer-game-vs-westminster-24/
END:VEVENT
BEGIN:VEVENT
DTSTART;TZID=America/Chicago:20200414T190000
DTEND;TZID=America/Chicago:20200414T210000
DTSTAMP:20260424T104230
CREATED:20200526T095047Z
LAST-MODIFIED:20200526T095047Z
UID:37257-1586890800-1586898000@www.randolphschool.net
SUMMARY:CANCELLED: VB Soccer Game vs. Westminster
DESCRIPTION:CANCELLED: VB Soccer Game vs. Westminster
URL:https://www.randolphschool.net/event/cancelled-vb-soccer-game-vs-westminster-25/
END:VEVENT
BEGIN:VEVENT
DTSTART;TZID=America/Chicago:20200414T190000
DTEND;TZID=America/Chicago:20200414T210000
DTSTAMP:20260424T104230
CREATED:20200526T130032Z
LAST-MODIFIED:20200526T130032Z
UID:37272-1586890800-1586898000@www.randolphschool.net
SUMMARY:CANCELLED: VB Soccer Game vs. Westminster
DESCRIPTION:CANCELLED: VB Soccer Game vs. Westminster
URL:https://www.randolphschool.net/event/cancelled-vb-soccer-game-vs-westminster-26/
END:VEVENT
BEGIN:VEVENT
DTSTART;TZID=America/Chicago:20200414T190000
DTEND;TZID=America/Chicago:20200414T210000
DTSTAMP:20260424T104230
CREATED:20200527T110042Z
LAST-MODIFIED:20200527T110042Z
UID:37293-1586890800-1586898000@www.randolphschool.net
SUMMARY:CANCELLED: VB Soccer Game vs. Westminster
DESCRIPTION:CANCELLED: VB Soccer Game vs. Westminster
URL:https://www.randolphschool.net/event/cancelled-vb-soccer-game-vs-westminster-27/
END:VEVENT
BEGIN:VEVENT
DTSTART;TZID=America/Chicago:20200414T190000
DTEND;TZID=America/Chicago:20200414T210000
DTSTAMP:20260424T104230
CREATED:20200527T135017Z
LAST-MODIFIED:20200527T135017Z
UID:37298-1586890800-1586898000@www.randolphschool.net
SUMMARY:CANCELLED: VB Soccer Game vs. Westminster
DESCRIPTION:CANCELLED: VB Soccer Game vs. Westminster
URL:https://www.randolphschool.net/event/cancelled-vb-soccer-game-vs-westminster-28/
END:VEVENT
BEGIN:VEVENT
DTSTART;TZID=America/Chicago:20200414T190000
DTEND;TZID=America/Chicago:20200414T210000
DTSTAMP:20260424T104230
CREATED:20200718T082028Z
LAST-MODIFIED:20200718T082028Z
UID:38831-1586890800-1586898000@www.randolphschool.net
SUMMARY:CANCELLED: VB Soccer Game vs. Westminster
DESCRIPTION:CANCELLED: VB Soccer Game vs. Westminster
URL:https://www.randolphschool.net/event/cancelled-vb-soccer-game-vs-westminster-29/
END:VEVENT
BEGIN:VEVENT
DTSTART;TZID=America/Chicago:20200414T190000
DTEND;TZID=America/Chicago:20200414T210000
DTSTAMP:20260424T104230
CREATED:20200719T003024Z
LAST-MODIFIED:20200719T003024Z
UID:38845-1586890800-1586898000@www.randolphschool.net
SUMMARY:CANCELLED: VB Soccer Game vs. Westminster
DESCRIPTION:CANCELLED: VB Soccer Game vs. Westminster
URL:https://www.randolphschool.net/event/cancelled-vb-soccer-game-vs-westminster-30/
END:VEVENT
BEGIN:VEVENT
DTSTART;TZID=America/Chicago:20200414T190000
DTEND;TZID=America/Chicago:20200414T210000
DTSTAMP:20260424T104230
CREATED:20200719T055019Z
LAST-MODIFIED:20200719T055019Z
UID:38851-1586890800-1586898000@www.randolphschool.net
SUMMARY:CANCELLED: VB Soccer Game vs. Westminster
DESCRIPTION:CANCELLED: VB Soccer Game vs. Westminster
URL:https://www.randolphschool.net/event/cancelled-vb-soccer-game-vs-westminster-31/
END:VEVENT
BEGIN:VEVENT
DTSTART;TZID=America/Chicago:20200414T190000
DTEND;TZID=America/Chicago:20200414T210000
DTSTAMP:20260424T104230
CREATED:20200719T092049Z
LAST-MODIFIED:20200719T092049Z
UID:38857-1586890800-1586898000@www.randolphschool.net
SUMMARY:CANCELLED: VB Soccer Game vs. Westminster
DESCRIPTION:CANCELLED: VB Soccer Game vs. Westminster
URL:https://www.randolphschool.net/event/cancelled-vb-soccer-game-vs-westminster-32/
END:VEVENT
BEGIN:VEVENT
DTSTART;TZID=America/Chicago:20200414T190000
DTEND;TZID=America/Chicago:20200414T210000
DTSTAMP:20260424T104230
CREATED:20200719T125046Z
LAST-MODIFIED:20200719T125046Z
UID:38862-1586890800-1586898000@www.randolphschool.net
SUMMARY:CANCELLED: VB Soccer Game vs. Westminster
DESCRIPTION:CANCELLED: VB Soccer Game vs. Westminster
URL:https://www.randolphschool.net/event/cancelled-vb-soccer-game-vs-westminster-33/
END:VEVENT
BEGIN:VEVENT
DTSTART;TZID=America/Chicago:20200414T190000
DTEND;TZID=America/Chicago:20200414T210000
DTSTAMP:20260424T104230
CREATED:20200719T165108Z
LAST-MODIFIED:20200719T165108Z
UID:38868-1586890800-1586898000@www.randolphschool.net
SUMMARY:CANCELLED: VB Soccer Game vs. Westminster
DESCRIPTION:CANCELLED: VB Soccer Game vs. Westminster
URL:https://www.randolphschool.net/event/cancelled-vb-soccer-game-vs-westminster-34/
END:VEVENT
BEGIN:VEVENT
DTSTART;TZID=America/Chicago:20200414T190000
DTEND;TZID=America/Chicago:20200414T210000
DTSTAMP:20260424T104230
CREATED:20200720T191019Z
LAST-MODIFIED:20200720T191019Z
UID:38928-1586890800-1586898000@www.randolphschool.net
SUMMARY:CANCELLED: VB Soccer Game vs. Westminster
DESCRIPTION:CANCELLED: VB Soccer Game vs. Westminster
URL:https://www.randolphschool.net/event/cancelled-vb-soccer-game-vs-westminster-35/
END:VEVENT
BEGIN:VEVENT
DTSTART;TZID=America/Chicago:20200414T190000
DTEND;TZID=America/Chicago:20200414T210000
DTSTAMP:20260424T104231
CREATED:20200720T235019Z
LAST-MODIFIED:20200720T235019Z
UID:38934-1586890800-1586898000@www.randolphschool.net
SUMMARY:CANCELLED: VB Soccer Game vs. Westminster
DESCRIPTION:CANCELLED: VB Soccer Game vs. Westminster
URL:https://www.randolphschool.net/event/cancelled-vb-soccer-game-vs-westminster-36/
END:VEVENT
BEGIN:VEVENT
DTSTART;TZID=America/Chicago:20200414T190000
DTEND;TZID=America/Chicago:20200414T210000
DTSTAMP:20260424T104231
CREATED:20200721T032026Z
LAST-MODIFIED:20200721T032026Z
UID:38939-1586890800-1586898000@www.randolphschool.net
SUMMARY:CANCELLED: VB Soccer Game vs. Westminster
DESCRIPTION:CANCELLED: VB Soccer Game vs. Westminster
URL:https://www.randolphschool.net/event/cancelled-vb-soccer-game-vs-westminster-37/
END:VEVENT
BEGIN:VEVENT
DTSTART;TZID=America/Chicago:20200414T190000
DTEND;TZID=America/Chicago:20200414T210000
DTSTAMP:20260424T104231
CREATED:20200721T082027Z
LAST-MODIFIED:20200721T082027Z
UID:38944-1586890800-1586898000@www.randolphschool.net
SUMMARY:CANCELLED: VB Soccer Game vs. Westminster
DESCRIPTION:CANCELLED: VB Soccer Game vs. Westminster
URL:https://www.randolphschool.net/event/cancelled-vb-soccer-game-vs-westminster-38/
END:VEVENT
BEGIN:VEVENT
DTSTART;TZID=America/Chicago:20200414T190000
DTEND;TZID=America/Chicago:20200414T210000
DTSTAMP:20260424T104231
CREATED:20200721T122028Z
LAST-MODIFIED:20200721T122028Z
UID:38949-1586890800-1586898000@www.randolphschool.net
SUMMARY:CANCELLED: VB Soccer Game vs. Westminster
DESCRIPTION:CANCELLED: VB Soccer Game vs. Westminster
URL:https://www.randolphschool.net/event/cancelled-vb-soccer-game-vs-westminster-39/
END:VEVENT
BEGIN:VEVENT
DTSTART;TZID=America/Chicago:20200414T190000
DTEND;TZID=America/Chicago:20200414T210000
DTSTAMP:20260424T104231
CREATED:20200721T173013Z
LAST-MODIFIED:20200721T173013Z
UID:38957-1586890800-1586898000@www.randolphschool.net
SUMMARY:CANCELLED: VB Soccer Game vs. Westminster
DESCRIPTION:CANCELLED: VB Soccer Game vs. Westminster
URL:https://www.randolphschool.net/event/cancelled-vb-soccer-game-vs-westminster-40/
END:VEVENT
BEGIN:VEVENT
DTSTART;TZID=America/Chicago:20200414T190000
DTEND;TZID=America/Chicago:20200414T210000
DTSTAMP:20260424T104231
CREATED:20200721T221022Z
LAST-MODIFIED:20200721T221022Z
UID:38963-1586890800-1586898000@www.randolphschool.net
SUMMARY:CANCELLED: VB Soccer Game vs. Westminster
DESCRIPTION:CANCELLED: VB Soccer Game vs. Westminster
URL:https://www.randolphschool.net/event/cancelled-vb-soccer-game-vs-westminster-41/
END:VEVENT
BEGIN:VEVENT
DTSTART;TZID=America/Chicago:20200414T190000
DTEND;TZID=America/Chicago:20200414T210000
DTSTAMP:20260424T104231
CREATED:20200722T021023Z
LAST-MODIFIED:20200722T021023Z
UID:38969-1586890800-1586898000@www.randolphschool.net
SUMMARY:CANCELLED: VB Soccer Game vs. Westminster
DESCRIPTION:CANCELLED: VB Soccer Game vs. Westminster
URL:https://www.randolphschool.net/event/cancelled-vb-soccer-game-vs-westminster-42/
END:VEVENT
BEGIN:VEVENT
DTSTART;TZID=America/Chicago:20200414T190000
DTEND;TZID=America/Chicago:20200415T185900
DTSTAMP:20260424T104231
CREATED:20200406T055005Z
LAST-MODIFIED:20200406T055005Z
UID:35607-1586890800-1586977140@www.randolphschool.net
SUMMARY:CANCELLED: MS Baseball County Tournament
DESCRIPTION:CANCELLED: MS Baseball County Tournament
URL:https://www.randolphschool.net/event/cancelled-ms-baseball-county-tournament/
END:VEVENT
BEGIN:VEVENT
DTSTART;TZID=America/Chicago:20200414T190000
DTEND;TZID=America/Chicago:20200415T185900
DTSTAMP:20260424T104231
CREATED:20200406T100031Z
LAST-MODIFIED:20200406T100031Z
UID:35612-1586890800-1586977140@www.randolphschool.net
SUMMARY:CANCELLED: MS Baseball County Tournament
DESCRIPTION:CANCELLED: MS Baseball County Tournament
URL:https://www.randolphschool.net/event/cancelled-ms-baseball-county-tournament-2/
END:VEVENT
BEGIN:VEVENT
DTSTART;TZID=America/Chicago:20200414T190000
DTEND;TZID=America/Chicago:20200415T185900
DTSTAMP:20260424T104231
CREATED:20200406T132055Z
LAST-MODIFIED:20200406T132055Z
UID:35617-1586890800-1586977140@www.randolphschool.net
SUMMARY:CANCELLED: MS Baseball County Tournament
DESCRIPTION:CANCELLED: MS Baseball County Tournament
URL:https://www.randolphschool.net/event/cancelled-ms-baseball-county-tournament-3/
END:VEVENT
BEGIN:VEVENT
DTSTART;TZID=America/Chicago:20200414T190000
DTEND;TZID=America/Chicago:20200415T185900
DTSTAMP:20260424T104231
CREATED:20200406T192022Z
LAST-MODIFIED:20200406T192022Z
UID:35629-1586890800-1586977140@www.randolphschool.net
SUMMARY:CANCELLED: MS Baseball County Tournament
DESCRIPTION:CANCELLED: MS Baseball County Tournament
URL:https://www.randolphschool.net/event/cancelled-ms-baseball-county-tournament-4/
END:VEVENT
BEGIN:VEVENT
DTSTART;TZID=America/Chicago:20200414T190000
DTEND;TZID=America/Chicago:20200415T185900
DTSTAMP:20260424T104231
CREATED:20200407T020026Z
LAST-MODIFIED:20200407T020026Z
UID:35636-1586890800-1586977140@www.randolphschool.net
SUMMARY:CANCELLED: MS Baseball County Tournament
DESCRIPTION:CANCELLED: MS Baseball County Tournament
URL:https://www.randolphschool.net/event/cancelled-ms-baseball-county-tournament-5/
END:VEVENT
END:VCALENDAR