BEGIN:VCALENDAR
VERSION:2.0
PRODID:-//Randolph School - ECPv6.0.0.1//NONSGML v1.0//EN
CALSCALE:GREGORIAN
METHOD:PUBLISH
X-WR-CALNAME:Randolph School
X-ORIGINAL-URL:https://www.randolphschool.net
X-WR-CALDESC:Events for Randolph School
REFRESH-INTERVAL;VALUE=DURATION:PT1H
X-Robots-Tag:noindex
X-PUBLISHED-TTL:PT1H
BEGIN:VTIMEZONE
TZID:America/Chicago
BEGIN:DAYLIGHT
TZOFFSETFROM:-0600
TZOFFSETTO:-0500
TZNAME:CDT
DTSTART:20200308T080000
END:DAYLIGHT
BEGIN:STANDARD
TZOFFSETFROM:-0500
TZOFFSETTO:-0600
TZNAME:CST
DTSTART:20201101T070000
END:STANDARD
END:VTIMEZONE
BEGIN:VEVENT
DTSTART;TZID=America/Chicago:20200414T170000
DTEND;TZID=America/Chicago:20200414T190000
DTSTAMP:20260423T172818
CREATED:20200702T131033Z
LAST-MODIFIED:20200702T131033Z
UID:38410-1586883600-1586890800@www.randolphschool.net
SUMMARY:CANCELLED: V Softball Game @ St. John Paul II
DESCRIPTION:CANCELLED: V Softball Game @ St. John Paul II
URL:https://www.randolphschool.net/event/cancelled-v-softball-game-st-john-paul-ii-101/
END:VEVENT
BEGIN:VEVENT
DTSTART;TZID=America/Chicago:20200414T170000
DTEND;TZID=America/Chicago:20200414T190000
DTSTAMP:20260423T172818
CREATED:20200703T035046Z
LAST-MODIFIED:20200703T035046Z
UID:38423-1586883600-1586890800@www.randolphschool.net
SUMMARY:CANCELLED: V Softball Game @ St. John Paul II
DESCRIPTION:CANCELLED: V Softball Game @ St. John Paul II
URL:https://www.randolphschool.net/event/cancelled-v-softball-game-st-john-paul-ii-102/
END:VEVENT
BEGIN:VEVENT
DTSTART;TZID=America/Chicago:20200414T170000
DTEND;TZID=America/Chicago:20200414T190000
DTSTAMP:20260423T172818
CREATED:20200703T080019Z
LAST-MODIFIED:20200703T080019Z
UID:38428-1586883600-1586890800@www.randolphschool.net
SUMMARY:CANCELLED: V Softball Game @ St. John Paul II
DESCRIPTION:CANCELLED: V Softball Game @ St. John Paul II
URL:https://www.randolphschool.net/event/cancelled-v-softball-game-st-john-paul-ii-103/
END:VEVENT
BEGIN:VEVENT
DTSTART;TZID=America/Chicago:20200414T170000
DTEND;TZID=America/Chicago:20200414T190000
DTSTAMP:20260423T172818
CREATED:20200703T113101Z
LAST-MODIFIED:20200703T113101Z
UID:38434-1586883600-1586890800@www.randolphschool.net
SUMMARY:CANCELLED: V Softball Game @ St. John Paul II
DESCRIPTION:CANCELLED: V Softball Game @ St. John Paul II
URL:https://www.randolphschool.net/event/cancelled-v-softball-game-st-john-paul-ii-104/
END:VEVENT
BEGIN:VEVENT
DTSTART;TZID=America/Chicago:20200414T170000
DTEND;TZID=America/Chicago:20200414T190000
DTSTAMP:20260423T172818
CREATED:20200704T055023Z
LAST-MODIFIED:20200704T055023Z
UID:38448-1586883600-1586890800@www.randolphschool.net
SUMMARY:CANCELLED: V Softball Game @ St. John Paul II
DESCRIPTION:CANCELLED: V Softball Game @ St. John Paul II
URL:https://www.randolphschool.net/event/cancelled-v-softball-game-st-john-paul-ii-105/
END:VEVENT
BEGIN:VEVENT
DTSTART;TZID=America/Chicago:20200414T170000
DTEND;TZID=America/Chicago:20200414T190000
DTSTAMP:20260423T172818
CREATED:20200704T105020Z
LAST-MODIFIED:20200704T105020Z
UID:38455-1586883600-1586890800@www.randolphschool.net
SUMMARY:CANCELLED: V Softball Game @ St. John Paul II
DESCRIPTION:CANCELLED: V Softball Game @ St. John Paul II
URL:https://www.randolphschool.net/event/cancelled-v-softball-game-st-john-paul-ii-106/
END:VEVENT
BEGIN:VEVENT
DTSTART;TZID=America/Chicago:20200414T170000
DTEND;TZID=America/Chicago:20200414T190000
DTSTAMP:20260423T172818
CREATED:20200704T135040Z
LAST-MODIFIED:20200704T135040Z
UID:38460-1586883600-1586890800@www.randolphschool.net
SUMMARY:CANCELLED: V Softball Game @ St. John Paul II
DESCRIPTION:CANCELLED: V Softball Game @ St. John Paul II
URL:https://www.randolphschool.net/event/cancelled-v-softball-game-st-john-paul-ii-107/
END:VEVENT
BEGIN:VEVENT
DTSTART;TZID=America/Chicago:20200414T170000
DTEND;TZID=America/Chicago:20200414T190000
DTSTAMP:20260423T172818
CREATED:20200704T180024Z
LAST-MODIFIED:20200704T180024Z
UID:38465-1586883600-1586890800@www.randolphschool.net
SUMMARY:CANCELLED: V Softball Game @ St. John Paul II
DESCRIPTION:CANCELLED: V Softball Game @ St. John Paul II
URL:https://www.randolphschool.net/event/cancelled-v-softball-game-st-john-paul-ii-108/
END:VEVENT
BEGIN:VEVENT
DTSTART;TZID=America/Chicago:20200414T170000
DTEND;TZID=America/Chicago:20200414T190000
DTSTAMP:20260423T172818
CREATED:20200704T230020Z
LAST-MODIFIED:20200704T230020Z
UID:38472-1586883600-1586890800@www.randolphschool.net
SUMMARY:CANCELLED: V Softball Game @ St. John Paul II
DESCRIPTION:CANCELLED: V Softball Game @ St. John Paul II
URL:https://www.randolphschool.net/event/cancelled-v-softball-game-st-john-paul-ii-109/
END:VEVENT
BEGIN:VEVENT
DTSTART;TZID=America/Chicago:20200414T170000
DTEND;TZID=America/Chicago:20200414T190000
DTSTAMP:20260423T172818
CREATED:20200705T024023Z
LAST-MODIFIED:20200705T024023Z
UID:38477-1586883600-1586890800@www.randolphschool.net
SUMMARY:CANCELLED: V Softball Game @ St. John Paul II
DESCRIPTION:CANCELLED: V Softball Game @ St. John Paul II
URL:https://www.randolphschool.net/event/cancelled-v-softball-game-st-john-paul-ii-110/
END:VEVENT
BEGIN:VEVENT
DTSTART;TZID=America/Chicago:20200414T170000
DTEND;TZID=America/Chicago:20200414T190000
DTSTAMP:20260423T172818
CREATED:20200705T064054Z
LAST-MODIFIED:20200705T064054Z
UID:38483-1586883600-1586890800@www.randolphschool.net
SUMMARY:CANCELLED: V Softball Game @ St. John Paul II
DESCRIPTION:CANCELLED: V Softball Game @ St. John Paul II
URL:https://www.randolphschool.net/event/cancelled-v-softball-game-st-john-paul-ii-111/
END:VEVENT
BEGIN:VEVENT
DTSTART;TZID=America/Chicago:20200414T170000
DTEND;TZID=America/Chicago:20200414T190000
DTSTAMP:20260423T172818
CREATED:20200705T130116Z
LAST-MODIFIED:20200705T130116Z
UID:38490-1586883600-1586890800@www.randolphschool.net
SUMMARY:CANCELLED: V Softball Game @ St. John Paul II
DESCRIPTION:CANCELLED: V Softball Game @ St. John Paul II
URL:https://www.randolphschool.net/event/cancelled-v-softball-game-st-john-paul-ii-112/
END:VEVENT
BEGIN:VEVENT
DTSTART;TZID=America/Chicago:20200414T170000
DTEND;TZID=America/Chicago:20200414T190000
DTSTAMP:20260423T172818
CREATED:20200705T190051Z
LAST-MODIFIED:20200705T190051Z
UID:38497-1586883600-1586890800@www.randolphschool.net
SUMMARY:CANCELLED: V Softball Game @ St. John Paul II
DESCRIPTION:CANCELLED: V Softball Game @ St. John Paul II
URL:https://www.randolphschool.net/event/cancelled-v-softball-game-st-john-paul-ii-113/
END:VEVENT
BEGIN:VEVENT
DTSTART;TZID=America/Chicago:20200414T170000
DTEND;TZID=America/Chicago:20200414T190000
DTSTAMP:20260423T172818
CREATED:20200706T042021Z
LAST-MODIFIED:20200706T042021Z
UID:38505-1586883600-1586890800@www.randolphschool.net
SUMMARY:CANCELLED: V Softball Game @ St. John Paul II
DESCRIPTION:CANCELLED: V Softball Game @ St. John Paul II
URL:https://www.randolphschool.net/event/cancelled-v-softball-game-st-john-paul-ii-114/
END:VEVENT
BEGIN:VEVENT
DTSTART;TZID=America/Chicago:20200414T170000
DTEND;TZID=America/Chicago:20200414T190000
DTSTAMP:20260423T172818
CREATED:20200706T072023Z
LAST-MODIFIED:20200706T072023Z
UID:38510-1586883600-1586890800@www.randolphschool.net
SUMMARY:CANCELLED: V Softball Game @ St. John Paul II
DESCRIPTION:CANCELLED: V Softball Game @ St. John Paul II
URL:https://www.randolphschool.net/event/cancelled-v-softball-game-st-john-paul-ii-115/
END:VEVENT
BEGIN:VEVENT
DTSTART;TZID=America/Chicago:20200414T170000
DTEND;TZID=America/Chicago:20200414T190000
DTSTAMP:20260423T172818
CREATED:20200706T095018Z
LAST-MODIFIED:20200706T095018Z
UID:38515-1586883600-1586890800@www.randolphschool.net
SUMMARY:CANCELLED: V Softball Game @ St. John Paul II
DESCRIPTION:CANCELLED: V Softball Game @ St. John Paul II
URL:https://www.randolphschool.net/event/cancelled-v-softball-game-st-john-paul-ii-116/
END:VEVENT
BEGIN:VEVENT
DTSTART;TZID=America/Chicago:20200414T170000
DTEND;TZID=America/Chicago:20200414T190000
DTSTAMP:20260423T172818
CREATED:20200706T143024Z
LAST-MODIFIED:20200706T143024Z
UID:38521-1586883600-1586890800@www.randolphschool.net
SUMMARY:CANCELLED: V Softball Game @ St. John Paul II
DESCRIPTION:CANCELLED: V Softball Game @ St. John Paul II
URL:https://www.randolphschool.net/event/cancelled-v-softball-game-st-john-paul-ii-117/
END:VEVENT
BEGIN:VEVENT
DTSTART;TZID=America/Chicago:20200414T170000
DTEND;TZID=America/Chicago:20200414T190000
DTSTAMP:20260423T172818
CREATED:20200706T194028Z
LAST-MODIFIED:20200706T194028Z
UID:38527-1586883600-1586890800@www.randolphschool.net
SUMMARY:CANCELLED: V Softball Game @ St. John Paul II
DESCRIPTION:CANCELLED: V Softball Game @ St. John Paul II
URL:https://www.randolphschool.net/event/cancelled-v-softball-game-st-john-paul-ii-118/
END:VEVENT
BEGIN:VEVENT
DTSTART;TZID=America/Chicago:20200414T170000
DTEND;TZID=America/Chicago:20200414T190000
DTSTAMP:20260423T172818
CREATED:20200706T234025Z
LAST-MODIFIED:20200706T234025Z
UID:38533-1586883600-1586890800@www.randolphschool.net
SUMMARY:CANCELLED: V Softball Game @ St. John Paul II
DESCRIPTION:CANCELLED: V Softball Game @ St. John Paul II
URL:https://www.randolphschool.net/event/cancelled-v-softball-game-st-john-paul-ii-119/
END:VEVENT
BEGIN:VEVENT
DTSTART;TZID=America/Chicago:20200414T170000
DTEND;TZID=America/Chicago:20200414T190000
DTSTAMP:20260423T172818
CREATED:20200707T031015Z
LAST-MODIFIED:20200707T031015Z
UID:38538-1586883600-1586890800@www.randolphschool.net
SUMMARY:CANCELLED: V Softball Game @ St. John Paul II
DESCRIPTION:CANCELLED: V Softball Game @ St. John Paul II
URL:https://www.randolphschool.net/event/cancelled-v-softball-game-st-john-paul-ii-120/
END:VEVENT
BEGIN:VEVENT
DTSTART;TZID=America/Chicago:20200414T170000
DTEND;TZID=America/Chicago:20200414T190000
DTSTAMP:20260423T172818
CREATED:20200707T064045Z
LAST-MODIFIED:20200707T064045Z
UID:38544-1586883600-1586890800@www.randolphschool.net
SUMMARY:CANCELLED: V Softball Game @ St. John Paul II
DESCRIPTION:CANCELLED: V Softball Game @ St. John Paul II
URL:https://www.randolphschool.net/event/cancelled-v-softball-game-st-john-paul-ii-121/
END:VEVENT
BEGIN:VEVENT
DTSTART;TZID=America/Chicago:20200414T170000
DTEND;TZID=America/Chicago:20200414T190000
DTSTAMP:20260423T172818
CREATED:20200709T144021Z
LAST-MODIFIED:20200709T144021Z
UID:38599-1586883600-1586890800@www.randolphschool.net
SUMMARY:CANCELLED: V Softball Game @ St. John Paul II
DESCRIPTION:CANCELLED: V Softball Game @ St. John Paul II
URL:https://www.randolphschool.net/event/cancelled-v-softball-game-st-john-paul-ii-122/
END:VEVENT
BEGIN:VEVENT
DTSTART;TZID=America/Chicago:20200414T170000
DTEND;TZID=America/Chicago:20200414T190000
DTSTAMP:20260423T172818
CREATED:20200709T194006Z
LAST-MODIFIED:20200709T194006Z
UID:38606-1586883600-1586890800@www.randolphschool.net
SUMMARY:CANCELLED: V Softball Game @ St. John Paul II
DESCRIPTION:CANCELLED: V Softball Game @ St. John Paul II
URL:https://www.randolphschool.net/event/cancelled-v-softball-game-st-john-paul-ii-123/
END:VEVENT
BEGIN:VEVENT
DTSTART;TZID=America/Chicago:20200414T170000
DTEND;TZID=America/Chicago:20200414T190000
DTSTAMP:20260423T172818
CREATED:20200709T231032Z
LAST-MODIFIED:20200709T231032Z
UID:38611-1586883600-1586890800@www.randolphschool.net
SUMMARY:CANCELLED: V Softball Game @ St. John Paul II
DESCRIPTION:CANCELLED: V Softball Game @ St. John Paul II
URL:https://www.randolphschool.net/event/cancelled-v-softball-game-st-john-paul-ii-124/
END:VEVENT
BEGIN:VEVENT
DTSTART;TZID=America/Chicago:20200414T170000
DTEND;TZID=America/Chicago:20200414T190000
DTSTAMP:20260423T172818
CREATED:20200710T031016Z
LAST-MODIFIED:20200710T031016Z
UID:38617-1586883600-1586890800@www.randolphschool.net
SUMMARY:CANCELLED: V Softball Game @ St. John Paul II
DESCRIPTION:CANCELLED: V Softball Game @ St. John Paul II
URL:https://www.randolphschool.net/event/cancelled-v-softball-game-st-john-paul-ii-125/
END:VEVENT
BEGIN:VEVENT
DTSTART;TZID=America/Chicago:20200414T170000
DTEND;TZID=America/Chicago:20200414T190000
DTSTAMP:20260423T172818
CREATED:20200710T075031Z
LAST-MODIFIED:20200710T075031Z
UID:38623-1586883600-1586890800@www.randolphschool.net
SUMMARY:CANCELLED: V Softball Game @ St. John Paul II
DESCRIPTION:CANCELLED: V Softball Game @ St. John Paul II
URL:https://www.randolphschool.net/event/cancelled-v-softball-game-st-john-paul-ii-126/
END:VEVENT
BEGIN:VEVENT
DTSTART;TZID=America/Chicago:20200414T170000
DTEND;TZID=America/Chicago:20200414T190000
DTSTAMP:20260423T172818
CREATED:20200710T112017Z
LAST-MODIFIED:20200710T112017Z
UID:38628-1586883600-1586890800@www.randolphschool.net
SUMMARY:CANCELLED: V Softball Game @ St. John Paul II
DESCRIPTION:CANCELLED: V Softball Game @ St. John Paul II
URL:https://www.randolphschool.net/event/cancelled-v-softball-game-st-john-paul-ii-127/
END:VEVENT
BEGIN:VEVENT
DTSTART;TZID=America/Chicago:20200414T170000
DTEND;TZID=America/Chicago:20200414T190000
DTSTAMP:20260423T172818
CREATED:20200710T153024Z
LAST-MODIFIED:20200710T153024Z
UID:38638-1586883600-1586890800@www.randolphschool.net
SUMMARY:CANCELLED: V Softball Game @ St. John Paul II
DESCRIPTION:CANCELLED: V Softball Game @ St. John Paul II
URL:https://www.randolphschool.net/event/cancelled-v-softball-game-st-john-paul-ii-128/
END:VEVENT
BEGIN:VEVENT
DTSTART;TZID=America/Chicago:20200414T170000
DTEND;TZID=America/Chicago:20200414T190000
DTSTAMP:20260423T172818
CREATED:20200710T200028Z
LAST-MODIFIED:20200710T200028Z
UID:38644-1586883600-1586890800@www.randolphschool.net
SUMMARY:CANCELLED: V Softball Game @ St. John Paul II
DESCRIPTION:CANCELLED: V Softball Game @ St. John Paul II
URL:https://www.randolphschool.net/event/cancelled-v-softball-game-st-john-paul-ii-129/
END:VEVENT
BEGIN:VEVENT
DTSTART;TZID=America/Chicago:20200414T170000
DTEND;TZID=America/Chicago:20200414T190000
DTSTAMP:20260423T172818
CREATED:20200711T000028Z
LAST-MODIFIED:20200711T000028Z
UID:38649-1586883600-1586890800@www.randolphschool.net
SUMMARY:CANCELLED: V Softball Game @ St. John Paul II
DESCRIPTION:CANCELLED: V Softball Game @ St. John Paul II
URL:https://www.randolphschool.net/event/cancelled-v-softball-game-st-john-paul-ii-130/
END:VEVENT
END:VCALENDAR