BEGIN:VCALENDAR
VERSION:2.0
PRODID:-//Randolph School - ECPv6.0.0.1//NONSGML v1.0//EN
CALSCALE:GREGORIAN
METHOD:PUBLISH
X-WR-CALNAME:Randolph School
X-ORIGINAL-URL:https://www.randolphschool.net
X-WR-CALDESC:Events for Randolph School
REFRESH-INTERVAL;VALUE=DURATION:PT1H
X-Robots-Tag:noindex
X-PUBLISHED-TTL:PT1H
BEGIN:VTIMEZONE
TZID:America/Chicago
BEGIN:DAYLIGHT
TZOFFSETFROM:-0600
TZOFFSETTO:-0500
TZNAME:CDT
DTSTART:20190310T080000
END:DAYLIGHT
BEGIN:STANDARD
TZOFFSETFROM:-0500
TZOFFSETTO:-0600
TZNAME:CST
DTSTART:20191103T070000
END:STANDARD
END:VTIMEZONE
BEGIN:VEVENT
DTSTART;VALUE=DATE:20191227
DTEND;VALUE=DATE:20191228
DTSTAMP:20260425T222140
CREATED:20190903T201719Z
LAST-MODIFIED:20190903T201719Z
UID:28317-1577404800-1577491199@www.randolphschool.net
SUMMARY:Winter Break
DESCRIPTION:Winter Break
URL:https://www.randolphschool.net/event/winter-break-5/
END:VEVENT
BEGIN:VEVENT
DTSTART;VALUE=DATE:20191227
DTEND;VALUE=DATE:20191228
DTSTAMP:20260425T222140
CREATED:20190903T201717Z
LAST-MODIFIED:20190903T201717Z
UID:28316-1577404800-1577491199@www.randolphschool.net
SUMMARY:V G Basketball Game Scottsboro Tournament
DESCRIPTION:V G Basketball Game Scottsboro Tournament
URL:https://www.randolphschool.net/event/v-g-basketball-game-scottsboro-tournament-2/
LOCATION:Scottsboro High School
END:VEVENT
BEGIN:VEVENT
DTSTART;VALUE=DATE:20191227
DTEND;VALUE=DATE:20191228
DTSTAMP:20260425T222140
CREATED:20190903T201716Z
LAST-MODIFIED:20190903T201716Z
UID:28315-1577404800-1577491199@www.randolphschool.net
SUMMARY:V B Basketball Game Scottsboro Tournament
DESCRIPTION:V B Basketball Game Scottsboro Tournament
URL:https://www.randolphschool.net/event/v-b-basketball-game-scottsboro-tournament-2/
LOCATION:Scottsboro High School
END:VEVENT
BEGIN:VEVENT
DTSTART;VALUE=DATE:20191227
DTEND;VALUE=DATE:20191228
DTSTAMP:20260425T222140
CREATED:20190903T201713Z
LAST-MODIFIED:20190903T201713Z
UID:28314-1577404800-1577491199@www.randolphschool.net
SUMMARY:JV B Basketball Game Scottsboro Tournament
DESCRIPTION:JV B Basketball Game Scottsboro Tournament
URL:https://www.randolphschool.net/event/jv-b-basketball-game-scottsboro-tournament-2/
LOCATION:Scottsboro High School
END:VEVENT
BEGIN:VEVENT
DTSTART;VALUE=DATE:20191226
DTEND;VALUE=DATE:20191227
DTSTAMP:20260425T222140
CREATED:20190903T201712Z
LAST-MODIFIED:20190903T201712Z
UID:28313-1577318400-1577404799@www.randolphschool.net
SUMMARY:Winter Break
DESCRIPTION:Winter Break
URL:https://www.randolphschool.net/event/winter-break-4/
END:VEVENT
BEGIN:VEVENT
DTSTART;VALUE=DATE:20191226
DTEND;VALUE=DATE:20191227
DTSTAMP:20260425T222140
CREATED:20190903T201711Z
LAST-MODIFIED:20190903T201711Z
UID:28312-1577318400-1577404799@www.randolphschool.net
SUMMARY:V G Basketball Game Scottsboro Tournament
DESCRIPTION:V G Basketball Game Scottsboro Tournament
URL:https://www.randolphschool.net/event/v-g-basketball-game-scottsboro-tournament/
LOCATION:Scottsboro High School
END:VEVENT
BEGIN:VEVENT
DTSTART;VALUE=DATE:20191226
DTEND;VALUE=DATE:20191227
DTSTAMP:20260425T222140
CREATED:20190903T201710Z
LAST-MODIFIED:20190903T201710Z
UID:28311-1577318400-1577404799@www.randolphschool.net
SUMMARY:V B Basketball Game Scottsboro Tournament
DESCRIPTION:V B Basketball Game Scottsboro Tournament
URL:https://www.randolphschool.net/event/v-b-basketball-game-scottsboro-tournament/
LOCATION:Scottsboro High School
END:VEVENT
BEGIN:VEVENT
DTSTART;VALUE=DATE:20191226
DTEND;VALUE=DATE:20191227
DTSTAMP:20260425T222140
CREATED:20190903T201708Z
LAST-MODIFIED:20190903T201708Z
UID:28310-1577318400-1577404799@www.randolphschool.net
SUMMARY:JV B Basketball Game Scottsboro Tournament
DESCRIPTION:JV B Basketball Game Scottsboro Tournament
URL:https://www.randolphschool.net/event/jv-b-basketball-game-scottsboro-tournament/
LOCATION:Scottsboro High School
END:VEVENT
BEGIN:VEVENT
DTSTART;VALUE=DATE:20191225
DTEND;VALUE=DATE:20191226
DTSTAMP:20260425T222140
CREATED:20190903T201701Z
LAST-MODIFIED:20190903T201701Z
UID:28309-1577232000-1577318399@www.randolphschool.net
SUMMARY:Winter Break
DESCRIPTION:Winter Break
URL:https://www.randolphschool.net/event/winter-break-3/
END:VEVENT
BEGIN:VEVENT
DTSTART;VALUE=DATE:20191224
DTEND;VALUE=DATE:20191225
DTSTAMP:20260425T222140
CREATED:20190903T201700Z
LAST-MODIFIED:20190903T201700Z
UID:28308-1577145600-1577231999@www.randolphschool.net
SUMMARY:Winter Break
DESCRIPTION:Winter Break
URL:https://www.randolphschool.net/event/winter-break-2/
END:VEVENT
BEGIN:VEVENT
DTSTART;VALUE=DATE:20191223
DTEND;VALUE=DATE:20191224
DTSTAMP:20260425T222140
CREATED:20190903T201658Z
LAST-MODIFIED:20190903T201658Z
UID:28307-1577059200-1577145599@www.randolphschool.net
SUMMARY:Winter Break
DESCRIPTION:Winter Break
URL:https://www.randolphschool.net/event/winter-break/
END:VEVENT
BEGIN:VEVENT
DTSTART;TZID=America/Chicago:20191220T190000
DTEND;TZID=America/Chicago:20191220T220000
DTSTAMP:20260425T222140
CREATED:20190903T201657Z
LAST-MODIFIED:20190903T201657Z
UID:28306-1576868400-1576879200@www.randolphschool.net
SUMMARY:Alumni Holiday Party
DESCRIPTION:Alumni Holiday Party
URL:https://www.randolphschool.net/event/alumni-holiday-party-2/
LOCATION:AC Hotel
END:VEVENT
BEGIN:VEVENT
DTSTART;VALUE=DATE:20191220
DTEND;VALUE=DATE:20191221
DTSTAMP:20260425T222140
CREATED:20190903T201656Z
LAST-MODIFIED:20190903T201656Z
UID:28304-1576800000-1576886399@www.randolphschool.net
SUMMARY:JV B Basketball Game @ Holly Pond
DESCRIPTION:JV B Basketball Game @ Holly Pond
URL:https://www.randolphschool.net/event/jv-b-basketball-game-holly-pond/
LOCATION:Holly Pond High School
END:VEVENT
BEGIN:VEVENT
DTSTART;VALUE=DATE:20191220
DTEND;VALUE=DATE:20191221
DTSTAMP:20260425T222140
CREATED:20190903T201654Z
LAST-MODIFIED:20190903T201654Z
UID:28303-1576800000-1576886399@www.randolphschool.net
SUMMARY:V B Basketball Game @ Holly Pond
DESCRIPTION:V B Basketball Game @ Holly Pond
URL:https://www.randolphschool.net/event/v-b-basketball-game-holly-pond/
LOCATION:Holly Pond High School
END:VEVENT
BEGIN:VEVENT
DTSTART;VALUE=DATE:20191220
DTEND;VALUE=DATE:20191221
DTSTAMP:20260425T222140
CREATED:20190903T201652Z
LAST-MODIFIED:20190903T201652Z
UID:28302-1576800000-1576886399@www.randolphschool.net
SUMMARY:V G Basketball Game @ Holly Pond
DESCRIPTION:V G Basketball Game @ Holly Pond
URL:https://www.randolphschool.net/event/v-g-basketball-game-holly-pond/
LOCATION:Holly Pond High School
END:VEVENT
BEGIN:VEVENT
DTSTART;TZID=America/Chicago:20191219T230000
DTEND;TZID=America/Chicago:20191219T230000
DTSTAMP:20260425T222140
CREATED:20190903T201650Z
LAST-MODIFIED:20190903T201650Z
UID:28301-1576796400-1576796400@www.randolphschool.net
SUMMARY:MS G Basketball Game v Whitesburg Christian
DESCRIPTION:MS G Basketball Game v Whitesburg Christian
URL:https://www.randolphschool.net/event/ms-g-basketball-game-v-whitesburg-christian/
LOCATION:Knight-Lowe Gym
END:VEVENT
BEGIN:VEVENT
DTSTART;TZID=America/Chicago:20191217T013000
DTEND;TZID=America/Chicago:20191217T013000
DTSTAMP:20260425T222140
CREATED:20190903T201649Z
LAST-MODIFIED:20190903T201649Z
UID:28300-1576546200-1576546200@www.randolphschool.net
SUMMARY:V B Basketball Game v Woodville
DESCRIPTION:V B Basketball Game v Woodville
URL:https://www.randolphschool.net/event/v-b-basketball-game-v-woodville/
LOCATION:TOC Court
END:VEVENT
BEGIN:VEVENT
DTSTART;TZID=America/Chicago:20191217T000000
DTEND;TZID=America/Chicago:20191217T000000
DTSTAMP:20260425T222140
CREATED:20190903T201645Z
LAST-MODIFIED:20190903T201645Z
UID:28298-1576540800-1576540800@www.randolphschool.net
SUMMARY:MS G Basketball Game v Central
DESCRIPTION:MS G Basketball Game v Central
URL:https://www.randolphschool.net/event/ms-g-basketball-game-v-central/
LOCATION:Knight-Lowe Gym
END:VEVENT
BEGIN:VEVENT
DTSTART;TZID=America/Chicago:20191216T181500
DTEND;TZID=America/Chicago:20191216T193000
DTSTAMP:20260425T222140
CREATED:20190903T201647Z
LAST-MODIFIED:20190903T201647Z
UID:28299-1576520100-1576524600@www.randolphschool.net
SUMMARY:V G Basketball Game v Woodville
DESCRIPTION:V G Basketball Game v Woodville
URL:https://www.randolphschool.net/event/v-g-basketball-game-v-woodville/
LOCATION:TOC Court
END:VEVENT
BEGIN:VEVENT
DTSTART;TZID=America/Chicago:20191216T170000
DTEND;TZID=America/Chicago:20191216T181500
DTSTAMP:20260425T222140
CREATED:20190903T201643Z
LAST-MODIFIED:20190903T201643Z
UID:28297-1576515600-1576520100@www.randolphschool.net
SUMMARY:JV B Basketball Game v Woodville
DESCRIPTION:JV B Basketball Game v Woodville
URL:https://www.randolphschool.net/event/jv-b-basketball-game-v-woodville/
LOCATION:TOC Court
END:VEVENT
BEGIN:VEVENT
DTSTART;TZID=America/Chicago:20191214T013000
DTEND;TZID=America/Chicago:20191214T013000
DTSTAMP:20260425T222140
CREATED:20190903T201641Z
LAST-MODIFIED:20190903T201641Z
UID:28296-1576287000-1576287000@www.randolphschool.net
SUMMARY:V B Basketball Game @ West Morgan
DESCRIPTION:V B Basketball Game @ West Morgan
URL:https://www.randolphschool.net/event/v-b-basketball-game-west-morgan/
LOCATION:West Morgan High School
END:VEVENT
BEGIN:VEVENT
DTSTART;TZID=America/Chicago:20191213T223000
DTEND;TZID=America/Chicago:20191213T223000
DTSTAMP:20260425T222140
CREATED:20200211T221613Z
LAST-MODIFIED:20200211T221613Z
UID:32790-1576276200-1576276200@www.randolphschool.net
SUMMARY:V Bowling Match (Boys Only) v Westminster
DESCRIPTION:V Bowling Match (Boys Only) v Westminster
URL:https://www.randolphschool.net/event/v-bowling-match-boys-only-v-westminster/
LOCATION:AMF Pin Palace Lanes
END:VEVENT
BEGIN:VEVENT
DTSTART;TZID=America/Chicago:20191213T223000
DTEND;TZID=America/Chicago:20191213T223000
DTSTAMP:20260425T222140
CREATED:20190903T201637Z
LAST-MODIFIED:20190903T201637Z
UID:28294-1576276200-1576276200@www.randolphschool.net
SUMMARY:JV B Basketball Game @ West Morgan
DESCRIPTION:JV B Basketball Game @ West Morgan
URL:https://www.randolphschool.net/event/jv-b-basketball-game-west-morgan/
LOCATION:West Morgan High School
END:VEVENT
BEGIN:VEVENT
DTSTART;TZID=America/Chicago:20191213T220000
DTEND;TZID=America/Chicago:20191213T220000
DTSTAMP:20260425T222140
CREATED:20200211T221610Z
LAST-MODIFIED:20200211T221610Z
UID:32789-1576274400-1576274400@www.randolphschool.net
SUMMARY:V Indoor Track Meet (Holiday Invite) @ Crossplex
DESCRIPTION:V Indoor Track Meet (Holiday Invite) @ Crossplex
URL:https://www.randolphschool.net/event/v-indoor-track-meet-holiday-invite-crossplex/
LOCATION:Birmingham Crossplex
END:VEVENT
BEGIN:VEVENT
DTSTART;TZID=America/Chicago:20191213T180000
DTEND;TZID=America/Chicago:20191213T193000
DTSTAMP:20260425T222140
CREATED:20190903T201639Z
LAST-MODIFIED:20190903T201639Z
UID:28295-1576260000-1576265400@www.randolphschool.net
SUMMARY:V G Basketball Game @ West Morgan
DESCRIPTION:V G Basketball Game @ West Morgan
URL:https://www.randolphschool.net/event/v-g-basketball-game-west-morgan/
LOCATION:West Morgan High School
END:VEVENT
BEGIN:VEVENT
DTSTART;TZID=America/Chicago:20191212T183000
DTEND;TZID=America/Chicago:20191212T210000
DTSTAMP:20260425T222140
CREATED:20200211T221607Z
LAST-MODIFIED:20200211T221607Z
UID:32787-1576175400-1576184400@www.randolphschool.net
SUMMARY:Candlelight Concert
DESCRIPTION:Candlelight Concert
URL:https://www.randolphschool.net/event/candlelight-concert-2/
LOCATION:Thurber Arts Center Auditorium
END:VEVENT
BEGIN:VEVENT
DTSTART;TZID=America/Chicago:20191211T183000
DTEND;TZID=America/Chicago:20191211T203000
DTSTAMP:20260425T222140
CREATED:20200211T221603Z
LAST-MODIFIED:20200211T221603Z
UID:32786-1576089000-1576096200@www.randolphschool.net
SUMMARY:Swim & Dive Banquet
DESCRIPTION:Swim & Dive Banquet
URL:https://www.randolphschool.net/event/swim-dive-banquet/
LOCATION:Garth Commons
END:VEVENT
BEGIN:VEVENT
DTSTART;TZID=America/Chicago:20191211T180000
DTEND;TZID=America/Chicago:20191211T190000
DTSTAMP:20260425T222140
CREATED:20200211T221558Z
LAST-MODIFIED:20200211T221558Z
UID:32785-1576087200-1576090800@www.randolphschool.net
SUMMARY:5/6 RAP BKB Game: B. White (White) @ Holy Family
DESCRIPTION:5/6 RAP BKB Game: B. White (White) @ Holy Family
URL:https://www.randolphschool.net/event/5-6-rap-bkb-game-b-white-white-holy-family-2/
LOCATION:Holy Family Catholic School
END:VEVENT
BEGIN:VEVENT
DTSTART;TZID=America/Chicago:20191211T170000
DTEND;TZID=America/Chicago:20191211T180000
DTSTAMP:20260425T222140
CREATED:20200211T221556Z
LAST-MODIFIED:20200211T221556Z
UID:32783-1576083600-1576087200@www.randolphschool.net
SUMMARY:5/6 RAP BKB Game: G. White (Jensen) @ Holy Family
DESCRIPTION:5/6 RAP BKB Game: G. White (Jensen) @ Holy Family
URL:https://www.randolphschool.net/event/5-6-rap-bkb-game-g-white-jensen-holy-family-2/
LOCATION:Holy Family Catholic School
END:VEVENT
BEGIN:VEVENT
DTSTART;TZID=America/Chicago:20191211T170000
DTEND;TZID=America/Chicago:20191211T180000
DTSTAMP:20260425T222140
CREATED:20200211T221555Z
LAST-MODIFIED:20200211T221555Z
UID:32782-1576083600-1576087200@www.randolphschool.net
SUMMARY:5/6 RAP BKB Game: G. White (Jensen) @ Holy Family
DESCRIPTION:5/6 RAP BKB Game: G. White (Jensen) @ Holy Family
URL:https://www.randolphschool.net/event/5-6-rap-bkb-game-g-white-jensen-holy-family/
LOCATION:Holy Family Catholic School
END:VEVENT
END:VCALENDAR