BEGIN:VCALENDAR
VERSION:2.0
PRODID:-//Randolph School - ECPv6.0.0.1//NONSGML v1.0//EN
CALSCALE:GREGORIAN
METHOD:PUBLISH
X-WR-CALNAME:Randolph School
X-ORIGINAL-URL:https://www.randolphschool.net
X-WR-CALDESC:Events for Randolph School
REFRESH-INTERVAL;VALUE=DURATION:PT1H
X-Robots-Tag:noindex
X-PUBLISHED-TTL:PT1H
BEGIN:VTIMEZONE
TZID:America/Chicago
BEGIN:DAYLIGHT
TZOFFSETFROM:-0600
TZOFFSETTO:-0500
TZNAME:CDT
DTSTART:20190310T080000
END:DAYLIGHT
BEGIN:STANDARD
TZOFFSETFROM:-0500
TZOFFSETTO:-0600
TZNAME:CST
DTSTART:20191103T070000
END:STANDARD
BEGIN:DAYLIGHT
TZOFFSETFROM:-0600
TZOFFSETTO:-0500
TZNAME:CDT
DTSTART:20200308T080000
END:DAYLIGHT
BEGIN:STANDARD
TZOFFSETFROM:-0500
TZOFFSETTO:-0600
TZNAME:CST
DTSTART:20201101T070000
END:STANDARD
END:VTIMEZONE
BEGIN:VEVENT
DTSTART;TZID=America/Chicago:20200110T000000
DTEND;TZID=America/Chicago:20200110T000000
DTSTAMP:20260425T074348
CREATED:20190903T201746Z
LAST-MODIFIED:20190903T201746Z
UID:28331-1578614400-1578614400@www.randolphschool.net
SUMMARY:MS G Basketball Game v Madison Academy
DESCRIPTION:MS G Basketball Game v Madison Academy
URL:https://www.randolphschool.net/event/ms-g-basketball-game-v-madison-academy/
LOCATION:Knight-Lowe Gym
END:VEVENT
BEGIN:VEVENT
DTSTART;TZID=America/Chicago:20200109T180000
DTEND;TZID=America/Chicago:20200109T190000
DTSTAMP:20260425T074348
CREATED:20200211T221822Z
LAST-MODIFIED:20200320T004017Z
UID:32813-1578592800-1578596400@www.randolphschool.net
SUMMARY:MS G Basketball Game v Madison Academy
DESCRIPTION:MS G Basketball Game v Madison Academy
URL:https://www.randolphschool.net/event/ms-g-basketball-game-v-madison-academy-3/
LOCATION:Knight-Lowe Gym
END:VEVENT
BEGIN:VEVENT
DTSTART;TZID=America/Chicago:20200109T180000
DTEND;TZID=America/Chicago:20200109T190000
DTSTAMP:20260425T074348
CREATED:20200211T221821Z
LAST-MODIFIED:20200320T004016Z
UID:32812-1578592800-1578596400@www.randolphschool.net
SUMMARY:MS G Basketball Game v Madison Academy
DESCRIPTION:MS G Basketball Game v Madison Academy
URL:https://www.randolphschool.net/event/ms-g-basketball-game-v-madison-academy-2/
END:VEVENT
BEGIN:VEVENT
DTSTART;TZID=America/Chicago:20200109T170000
DTEND;TZID=America/Chicago:20200109T180000
DTSTAMP:20260425T074348
CREATED:20200211T221819Z
LAST-MODIFIED:20200320T004015Z
UID:32811-1578589200-1578592800@www.randolphschool.net
SUMMARY:5/6 RAP BKB Game: G. White (Jensen) @ Holy Family
DESCRIPTION:5/6 RAP BKB Game: G. White (Jensen) @ Holy Family
URL:https://www.randolphschool.net/event/5-6-rap-bkb-game-g-white-jensen-holy-family-3/
LOCATION:Holy Family Catholic School
END:VEVENT
BEGIN:VEVENT
DTSTART;TZID=America/Chicago:20200109T170000
DTEND;TZID=America/Chicago:20200109T180000
DTSTAMP:20260425T074348
CREATED:20200211T221818Z
LAST-MODIFIED:20200320T004014Z
UID:32810-1578589200-1578592800@www.randolphschool.net
SUMMARY:MS B Basketball Game (7) v Madison Academy
DESCRIPTION:MS B Basketball Game (7) v Madison Academy
URL:https://www.randolphschool.net/event/ms-b-basketball-game-7-v-madison-academy/
LOCATION:Knight-Lowe Gym
END:VEVENT
BEGIN:VEVENT
DTSTART;TZID=America/Chicago:20200109T080000
DTEND;TZID=America/Chicago:20200109T160000
DTSTAMP:20260425T074348
CREATED:20200211T221816Z
LAST-MODIFIED:20200320T004010Z
UID:32809-1578556800-1578585600@www.randolphschool.net
SUMMARY:Private School Honor Band Festival
DESCRIPTION:Private School Honor Band Festival
URL:https://www.randolphschool.net/event/private-school-honor-band-festival/
LOCATION:Thurber Arts Center Auditorium
END:VEVENT
BEGIN:VEVENT
DTSTART;TZID=America/Chicago:20200108T013000
DTEND;TZID=America/Chicago:20200108T013000
DTSTAMP:20260425T074348
CREATED:20190903T201745Z
LAST-MODIFIED:20200217T190229Z
UID:28330-1578447000-1578447000@www.randolphschool.net
SUMMARY:V B Basketball Game v New Hope
DESCRIPTION:V B Basketball Game v New Hope
URL:https://www.randolphschool.net/event/v-b-basketball-game-v-new-hope/
LOCATION:TOC Court
END:VEVENT
BEGIN:VEVENT
DTSTART;TZID=America/Chicago:20200107T190000
DTEND;TZID=America/Chicago:20200107T200000
DTSTAMP:20260425T074348
CREATED:20200211T221810Z
LAST-MODIFIED:20200320T002025Z
UID:32807-1578423600-1578427200@www.randolphschool.net
SUMMARY:5/6 RAP BKB Game: B. Gray (Leo) @ Athens Bible (Gold)
DESCRIPTION:5/6 RAP BKB Game: B. Gray (Leo) @ Athens Bible (Gold)
URL:https://www.randolphschool.net/event/5-6-rap-bkb-game-b-gray-leo-athens-bible-gold/
LOCATION:Athens Bible School
END:VEVENT
BEGIN:VEVENT
DTSTART;TZID=America/Chicago:20200107T181500
DTEND;TZID=America/Chicago:20200107T193000
DTSTAMP:20260425T074348
CREATED:20190903T201742Z
LAST-MODIFIED:20190903T201742Z
UID:28329-1578420900-1578425400@www.randolphschool.net
SUMMARY:V G Basketball Game v New Hope
DESCRIPTION:V G Basketball Game v New Hope
URL:https://www.randolphschool.net/event/v-g-basketball-game-v-new-hope/
LOCATION:TOC Court
END:VEVENT
BEGIN:VEVENT
DTSTART;TZID=America/Chicago:20200107T180000
DTEND;TZID=America/Chicago:20200107T193000
DTSTAMP:20260425T074348
CREATED:20200211T221807Z
LAST-MODIFIED:20200320T002017Z
UID:32806-1578420000-1578425400@www.randolphschool.net
SUMMARY:V G Basketball Game v New Hope
DESCRIPTION:V G Basketball Game v New Hope
URL:https://www.randolphschool.net/event/v-g-basketball-game-v-new-hope-2/
LOCATION:TOC Court
END:VEVENT
BEGIN:VEVENT
DTSTART;TZID=America/Chicago:20200107T180000
DTEND;TZID=America/Chicago:20200107T190000
DTSTAMP:20260425T074348
CREATED:20200211T221806Z
LAST-MODIFIED:20200320T002019Z
UID:32805-1578420000-1578423600@www.randolphschool.net
SUMMARY:5/6 RAP BKB Game: B. White (White) @ Athens Bible (Green)
DESCRIPTION:5/6 RAP BKB Game: B. White (White) @ Athens Bible (Green)
URL:https://www.randolphschool.net/event/5-6-rap-bkb-game-b-white-white-athens-bible-green/
LOCATION:Athens Bible School
END:VEVENT
BEGIN:VEVENT
DTSTART;TZID=America/Chicago:20200107T180000
DTEND;TZID=America/Chicago:20200107T190000
DTSTAMP:20260425T074348
CREATED:20200211T221804Z
LAST-MODIFIED:20200320T002018Z
UID:32804-1578420000-1578423600@www.randolphschool.net
SUMMARY:5/6 RAP BKB Game: B. Navy (Schmitz) @ Holy Spirit
DESCRIPTION:5/6 RAP BKB Game: B. Navy (Schmitz) @ Holy Spirit
URL:https://www.randolphschool.net/event/5-6-rap-bkb-game-b-navy-schmitz-holy-spirit/
LOCATION:Holy Spirit Regional Catholic School
END:VEVENT
BEGIN:VEVENT
DTSTART;TZID=America/Chicago:20200107T170000
DTEND;TZID=America/Chicago:20200107T181500
DTSTAMP:20260425T074348
CREATED:20190903T201740Z
LAST-MODIFIED:20190903T201740Z
UID:28328-1578416400-1578420900@www.randolphschool.net
SUMMARY:JV B Basketball Game v New Hope
DESCRIPTION:JV B Basketball Game v New Hope
URL:https://www.randolphschool.net/event/jv-b-basketball-game-v-new-hope/
LOCATION:TOC Court
END:VEVENT
BEGIN:VEVENT
DTSTART;TZID=America/Chicago:20200107T170000
DTEND;TZID=America/Chicago:20200107T180000
DTSTAMP:20260425T074348
CREATED:20200211T221803Z
LAST-MODIFIED:20200320T002016Z
UID:32803-1578416400-1578420000@www.randolphschool.net
SUMMARY:5/6 RAP BKB Game: G. White (Jensen) @ Holy Spirit
DESCRIPTION:5/6 RAP BKB Game: G. White (Jensen) @ Holy Spirit
URL:https://www.randolphschool.net/event/5-6-rap-bkb-game-g-white-jensen-holy-spirit/
LOCATION:Holy Spirit Regional Catholic School
END:VEVENT
BEGIN:VEVENT
DTSTART;TZID=America/Chicago:20200107T170000
DTEND;TZID=America/Chicago:20200107T180000
DTSTAMP:20260425T074348
CREATED:20200211T221801Z
LAST-MODIFIED:20200320T002014Z
UID:32802-1578416400-1578420000@www.randolphschool.net
SUMMARY:5/6 RAP BKB Game: G. Navy (Batey) @ Athens Bible
DESCRIPTION:5/6 RAP BKB Game: G. Navy (Batey) @ Athens Bible
URL:https://www.randolphschool.net/event/5-6-rap-bkb-game-g-navy-batey-athens-bible/
LOCATION:Athens Bible School
END:VEVENT
BEGIN:VEVENT
DTSTART;TZID=America/Chicago:20200107T163000
DTEND;TZID=America/Chicago:20200107T180000
DTSTAMP:20260425T074348
CREATED:20200211T221759Z
LAST-MODIFIED:20200320T002010Z
UID:32801-1578414600-1578420000@www.randolphschool.net
SUMMARY:JV B Basketball Game v New Hope
DESCRIPTION:JV B Basketball Game v New Hope
URL:https://www.randolphschool.net/event/jv-b-basketball-game-v-new-hope-2/
LOCATION:TOC Court
END:VEVENT
BEGIN:VEVENT
DTSTART;VALUE=DATE:20200106
DTEND;VALUE=DATE:20200107
DTSTAMP:20260425T074348
CREATED:20190903T201739Z
LAST-MODIFIED:20200217T190220Z
UID:28327-1578268800-1578355199@www.randolphschool.net
SUMMARY:Faculty Professional Learning Day
DESCRIPTION:Faculty Professional Learning Day
URL:https://www.randolphschool.net/event/faculty-professional-learning-day-4/
END:VEVENT
BEGIN:VEVENT
DTSTART;VALUE=DATE:20200106
DTEND;VALUE=DATE:20200107
DTSTAMP:20260425T074348
CREATED:20190903T201732Z
LAST-MODIFIED:20200217T190219Z
UID:28326-1578268800-1578355199@www.randolphschool.net
SUMMARY:Winter Break
DESCRIPTION:Winter Break
URL:https://www.randolphschool.net/event/winter-break-11/
END:VEVENT
BEGIN:VEVENT
DTSTART;TZID=America/Chicago:20200104T140000
DTEND;TZID=America/Chicago:20200104T140000
DTSTAMP:20260425T074348
CREATED:20200211T221757Z
LAST-MODIFIED:20200217T190219Z
UID:32798-1578146400-1578146400@www.randolphschool.net
SUMMARY:V Wresting Match: Big Red Rumble
DESCRIPTION:V Wresting Match: Big Red Rumble
URL:https://www.randolphschool.net/event/v-wresting-match-big-red-rumble/
LOCATION:Huntsville High School
END:VEVENT
BEGIN:VEVENT
DTSTART;TZID=America/Chicago:20200104T010000
DTEND;TZID=America/Chicago:20200104T010000
DTSTAMP:20260425T074348
CREATED:20200211T221755Z
LAST-MODIFIED:20200217T190218Z
UID:32797-1578099600-1578099600@www.randolphschool.net
SUMMARY:V B Basketball Game @ SJP II
DESCRIPTION:V B Basketball Game @ SJP II
URL:https://www.randolphschool.net/event/v-b-basketball-game-sjp-ii-2/
LOCATION:St. John Paul II Catholic High School
END:VEVENT
BEGIN:VEVENT
DTSTART;TZID=America/Chicago:20200103T234500
DTEND;TZID=America/Chicago:20200103T234500
DTSTAMP:20260425T074348
CREATED:20200211T221754Z
LAST-MODIFIED:20200217T190217Z
UID:32796-1578095100-1578095100@www.randolphschool.net
SUMMARY:V G Basketball Game @ SJP II
DESCRIPTION:V G Basketball Game @ SJP II
URL:https://www.randolphschool.net/event/v-g-basketball-game-sjp-ii-2/
LOCATION:St. John Paul II Catholic High School
END:VEVENT
BEGIN:VEVENT
DTSTART;TZID=America/Chicago:20200103T223000
DTEND;TZID=America/Chicago:20200103T223000
DTSTAMP:20260425T074348
CREATED:20200211T221752Z
LAST-MODIFIED:20200217T190216Z
UID:32795-1578090600-1578090600@www.randolphschool.net
SUMMARY:JV B Basketball Game @ SJP II
DESCRIPTION:JV B Basketball Game @ SJP II
URL:https://www.randolphschool.net/event/jv-b-basketball-game-sjp-ii-2/
LOCATION:St. John Paul II Catholic High School
END:VEVENT
BEGIN:VEVENT
DTSTART;VALUE=DATE:20200103
DTEND;VALUE=DATE:20200104
DTSTAMP:20260425T074348
CREATED:20190903T201731Z
LAST-MODIFIED:20200217T190215Z
UID:28325-1578009600-1578095999@www.randolphschool.net
SUMMARY:Winter Break
DESCRIPTION:Winter Break
URL:https://www.randolphschool.net/event/winter-break-10/
END:VEVENT
BEGIN:VEVENT
DTSTART;VALUE=DATE:20200103
DTEND;VALUE=DATE:20200104
DTSTAMP:20260425T074348
CREATED:20190903T201729Z
LAST-MODIFIED:20190903T201729Z
UID:28324-1578009600-1578095999@www.randolphschool.net
SUMMARY:JV B Basketball Game @ SJP II
DESCRIPTION:JV B Basketball Game @ SJP II
URL:https://www.randolphschool.net/event/jv-b-basketball-game-sjp-ii/
LOCATION:St. John Paul II Catholic High School
END:VEVENT
BEGIN:VEVENT
DTSTART;VALUE=DATE:20200103
DTEND;VALUE=DATE:20200104
DTSTAMP:20260425T074348
CREATED:20190903T201727Z
LAST-MODIFIED:20190903T201727Z
UID:28323-1578009600-1578095999@www.randolphschool.net
SUMMARY:V B Basketball Game @ SJP II
DESCRIPTION:V B Basketball Game @ SJP II
URL:https://www.randolphschool.net/event/v-b-basketball-game-sjp-ii/
LOCATION:St. John Paul II Catholic High School
END:VEVENT
BEGIN:VEVENT
DTSTART;VALUE=DATE:20200103
DTEND;VALUE=DATE:20200104
DTSTAMP:20260425T074348
CREATED:20190903T201726Z
LAST-MODIFIED:20190903T201726Z
UID:28322-1578009600-1578095999@www.randolphschool.net
SUMMARY:V G Basketball Game @ SJP II
DESCRIPTION:V G Basketball Game @ SJP II
URL:https://www.randolphschool.net/event/v-g-basketball-game-sjp-ii/
LOCATION:St. John Paul II Catholic High School
END:VEVENT
BEGIN:VEVENT
DTSTART;VALUE=DATE:20200102
DTEND;VALUE=DATE:20200103
DTSTAMP:20260425T074348
CREATED:20190903T201725Z
LAST-MODIFIED:20200217T190214Z
UID:28321-1577923200-1578009599@www.randolphschool.net
SUMMARY:Winter Break
DESCRIPTION:Winter Break
URL:https://www.randolphschool.net/event/winter-break-9/
END:VEVENT
BEGIN:VEVENT
DTSTART;VALUE=DATE:20200101
DTEND;VALUE=DATE:20200102
DTSTAMP:20260425T074348
CREATED:20190903T201723Z
LAST-MODIFIED:20200217T190213Z
UID:28320-1577836800-1577923199@www.randolphschool.net
SUMMARY:Winter Break
DESCRIPTION:Winter Break
URL:https://www.randolphschool.net/event/winter-break-8/
END:VEVENT
BEGIN:VEVENT
DTSTART;VALUE=DATE:20191231
DTEND;VALUE=DATE:20200101
DTSTAMP:20260425T074348
CREATED:20190903T201721Z
LAST-MODIFIED:20190903T201721Z
UID:28319-1577750400-1577836799@www.randolphschool.net
SUMMARY:Winter Break
DESCRIPTION:Winter Break
URL:https://www.randolphschool.net/event/winter-break-7/
END:VEVENT
BEGIN:VEVENT
DTSTART;VALUE=DATE:20191230
DTEND;VALUE=DATE:20191231
DTSTAMP:20260425T074348
CREATED:20190903T201720Z
LAST-MODIFIED:20190903T201720Z
UID:28318-1577664000-1577750399@www.randolphschool.net
SUMMARY:Winter Break
DESCRIPTION:Winter Break
URL:https://www.randolphschool.net/event/winter-break-6/
END:VEVENT
END:VCALENDAR