BEGIN:VCALENDAR
VERSION:2.0
PRODID:-//Randolph School - ECPv6.0.0.1//NONSGML v1.0//EN
CALSCALE:GREGORIAN
METHOD:PUBLISH
X-WR-CALNAME:Randolph School
X-ORIGINAL-URL:https://www.randolphschool.net
X-WR-CALDESC:Events for Randolph School
REFRESH-INTERVAL;VALUE=DURATION:PT1H
X-Robots-Tag:noindex
X-PUBLISHED-TTL:PT1H
BEGIN:VTIMEZONE
TZID:America/Chicago
BEGIN:DAYLIGHT
TZOFFSETFROM:-0600
TZOFFSETTO:-0500
TZNAME:CDT
DTSTART:20180311T080000
END:DAYLIGHT
BEGIN:STANDARD
TZOFFSETFROM:-0500
TZOFFSETTO:-0600
TZNAME:CST
DTSTART:20181104T070000
END:STANDARD
END:VTIMEZONE
BEGIN:VEVENT
DTSTART;TZID=America/Chicago:20181011T190100
DTEND;TZID=America/Chicago:20181012T185900
DTSTAMP:20260424T221615
CREATED:20180910T232240Z
LAST-MODIFIED:20180910T232240Z
UID:7080-1539284460-1539370740@www.randolphschool.net
SUMMARY:Fall Break
DESCRIPTION:Fall Break
URL:https://www.randolphschool.net/event/fall-break-7/
END:VEVENT
BEGIN:VEVENT
DTSTART;TZID=America/Chicago:20181011T190100
DTEND;TZID=America/Chicago:20181012T185900
DTSTAMP:20260424T221615
CREATED:20180910T222202Z
LAST-MODIFIED:20180910T222202Z
UID:7077-1539284460-1539370740@www.randolphschool.net
SUMMARY:Fall Break
DESCRIPTION:Fall Break
URL:https://www.randolphschool.net/event/fall-break-6/
END:VEVENT
BEGIN:VEVENT
DTSTART;VALUE=DATE:20181011
DTEND;VALUE=DATE:20181012
DTSTAMP:20260424T221615
CREATED:20180816T202119Z
LAST-MODIFIED:20180916T213257Z
UID:5623-1539216000-1539302399@www.randolphschool.net
SUMMARY:Fall Break
DESCRIPTION:Fall Break
URL:https://www.randolphschool.net/event/fall-break-4/
END:VEVENT
BEGIN:VEVENT
DTSTART;VALUE=DATE:20181010
DTEND;VALUE=DATE:20181011
DTSTAMP:20260424T221615
CREATED:20180816T202116Z
LAST-MODIFIED:20180916T213256Z
UID:5622-1539129600-1539215999@www.randolphschool.net
SUMMARY:Fall Break
DESCRIPTION:Fall Break
URL:https://www.randolphschool.net/event/fall-break-3/
END:VEVENT
BEGIN:VEVENT
DTSTART;VALUE=DATE:20181009
DTEND;VALUE=DATE:20181010
DTSTAMP:20260424T221615
CREATED:20180816T202113Z
LAST-MODIFIED:20180916T213255Z
UID:5621-1539043200-1539129599@www.randolphschool.net
SUMMARY:Fall Break
DESCRIPTION:Fall Break
URL:https://www.randolphschool.net/event/fall-break-2/
END:VEVENT
BEGIN:VEVENT
DTSTART;VALUE=DATE:20181008
DTEND;VALUE=DATE:20181009
DTSTAMP:20260424T221615
CREATED:20180816T202106Z
LAST-MODIFIED:20180916T213254Z
UID:5620-1538956800-1539043199@www.randolphschool.net
SUMMARY:Fall Break
DESCRIPTION:Fall Break
URL:https://www.randolphschool.net/event/fall-break/
END:VEVENT
BEGIN:VEVENT
DTSTART;TZID=America/Chicago:20181006T090000
DTEND;TZID=America/Chicago:20181006T120000
DTSTAMP:20260424T221615
CREATED:20180912T195140Z
LAST-MODIFIED:20180916T213249Z
UID:7170-1538816400-1538827200@www.randolphschool.net
SUMMARY:V & MS Cross Country (Boys & Girls) Meet
DESCRIPTION:V & MS Cross Country (Boys & Girls) Meet
URL:https://www.randolphschool.net/event/v-ms-cross-country-boys-girls-meet-4/
LOCATION:Guntersville High School
END:VEVENT
BEGIN:VEVENT
DTSTART;TZID=America/Chicago:20181005T190000
DTEND;TZID=America/Chicago:20181005T220000
DTSTAMP:20260424T221615
CREATED:20180831T195841Z
LAST-MODIFIED:20180916T213246Z
UID:6013-1538766000-1538776800@www.randolphschool.net
SUMMARY:V Football (Away) @ D.A.R.
DESCRIPTION:V Football (Away) @ D.A.R.
URL:https://www.randolphschool.net/event/v-football-away-d-a-r/
LOCATION:Kate Duncan Smith DAR School
END:VEVENT
BEGIN:VEVENT
DTSTART;TZID=America/Chicago:20181004T173000
DTEND;TZID=America/Chicago:20181004T183000
DTSTAMP:20260424T221615
CREATED:20180831T195835Z
LAST-MODIFIED:20180916T213241Z
UID:6012-1538674200-1538677800@www.randolphschool.net
SUMMARY:3/4 White Soccer vs. Oakwood
DESCRIPTION:Wear WHITE side of jersey!
URL:https://www.randolphschool.net/event/3-4-white-soccer-vs-oakwood/
LOCATION:Drake Soccer Field
END:VEVENT
BEGIN:VEVENT
DTSTART;TZID=America/Chicago:20181004T163000
DTEND;TZID=America/Chicago:20181004T173000
DTSTAMP:20260424T221615
CREATED:20180831T195832Z
LAST-MODIFIED:20180916T213239Z
UID:6011-1538670600-1538674200@www.randolphschool.net
SUMMARY:3/4 Blue vs. Westminster
DESCRIPTION:Wear WHITE side of jersey!
URL:https://www.randolphschool.net/event/3-4-blue-vs-westminster/
LOCATION:Drake Soccer Field
END:VEVENT
BEGIN:VEVENT
DTSTART;TZID=America/Chicago:20181003T173000
DTEND;TZID=America/Chicago:20181003T183000
DTSTAMP:20260424T221615
CREATED:20180831T195829Z
LAST-MODIFIED:20180909T191252Z
UID:6010-1538587800-1538591400@www.randolphschool.net
SUMMARY:5/6 Girls Soccer Blue vs. Gray
DESCRIPTION:Wear BLUE side of jersey!
URL:https://www.randolphschool.net/event/5-6-girls-soccer-blue-vs-gray/
LOCATION:Drake Soccer Field
END:VEVENT
BEGIN:VEVENT
DTSTART;TZID=America/Chicago:20181003T163000
DTEND;TZID=America/Chicago:20181003T173000
DTSTAMP:20260424T221615
CREATED:20180831T195827Z
LAST-MODIFIED:20180916T213237Z
UID:6009-1538584200-1538587800@www.randolphschool.net
SUMMARY:3/4 Gray Soccer @ Holy Family 2
DESCRIPTION:Reschedule from 8/29/18.  Wear WHITE side of jersey!  Playing Holy Family 2.
URL:https://www.randolphschool.net/event/3-4-gray-soccer-holy-family-2-2/
LOCATION:Drake Soccer Field
END:VEVENT
BEGIN:VEVENT
DTSTART;TZID=America/Chicago:20181002T173000
DTEND;TZID=America/Chicago:20181002T183000
DTSTAMP:20260424T221615
CREATED:20180831T195824Z
LAST-MODIFIED:20180916T213235Z
UID:6008-1538501400-1538505000@www.randolphschool.net
SUMMARY:3/4 White Soccer vs. Westminster
DESCRIPTION:Wear WHITE side of jersey!
URL:https://www.randolphschool.net/event/3-4-white-soccer-vs-westminster/
LOCATION:Drake Soccer Field
END:VEVENT
BEGIN:VEVENT
DTSTART;TZID=America/Chicago:20181002T170000
DTEND;TZID=America/Chicago:20181002T190000
DTSTAMP:20260424T221615
CREATED:20180831T195821Z
LAST-MODIFIED:20180916T213233Z
UID:6007-1538499600-1538506800@www.randolphschool.net
SUMMARY:MS Football (Home) vs. St. John Paul II
DESCRIPTION:MS Football (Home) vs. St. John Paul II
URL:https://www.randolphschool.net/event/ms-football-home-vs-st-john-paul-ii/
LOCATION:SportsMed Field
END:VEVENT
BEGIN:VEVENT
DTSTART;TZID=America/Chicago:20181002T163000
DTEND;TZID=America/Chicago:20181002T173000
DTSTAMP:20260424T221615
CREATED:20180831T195817Z
LAST-MODIFIED:20180916T213226Z
UID:6006-1538497800-1538501400@www.randolphschool.net
SUMMARY:V Volleyball (Home) vs. St. John Paul II
DESCRIPTION:V Volleyball (Home) vs. St. John Paul II
URL:https://www.randolphschool.net/event/v-volleyball-home-vs-st-john-paul-ii/
LOCATION:TOC Court
END:VEVENT
BEGIN:VEVENT
DTSTART;TZID=America/Chicago:20181002T163000
DTEND;TZID=America/Chicago:20181002T173000
DTSTAMP:20260424T221615
CREATED:20180831T195810Z
LAST-MODIFIED:20180916T213225Z
UID:6005-1538497800-1538501400@www.randolphschool.net
SUMMARY:3/4 Blue Soccer @ Whitesburg
DESCRIPTION:Wear the BLUE side of jersey!  Playing Whitesburg 1.
URL:https://www.randolphschool.net/event/3-4-blue-soccer-whitesburg/
LOCATION:Whitesburg Christian Academy
END:VEVENT
BEGIN:VEVENT
DTSTART;TZID=America/Chicago:20181001T173000
DTEND;TZID=America/Chicago:20181001T193000
DTSTAMP:20260424T221615
CREATED:20180831T195806Z
LAST-MODIFIED:20180916T213223Z
UID:6004-1538415000-1538422200@www.randolphschool.net
SUMMARY:V Volleyball (Away) @ Madison Academy/Ardmore
DESCRIPTION:V Volleyball (Away) @ Madison Academy/Ardmore
URL:https://www.randolphschool.net/event/v-volleyball-away-madison-academy-ardmore/
LOCATION:Madison Academy
END:VEVENT
BEGIN:VEVENT
DTSTART;TZID=America/Chicago:20180929T100000
DTEND;TZID=America/Chicago:20180929T113000
DTSTAMP:20260424T221615
CREATED:20180831T195803Z
LAST-MODIFIED:20180916T213221Z
UID:6002-1538215200-1538220600@www.randolphschool.net
SUMMARY:5/6 Volleyball Open Gym
DESCRIPTION:5/6 Volleyball Open Gym
URL:https://www.randolphschool.net/event/5-6-volleyball-open-gym-4/
LOCATION:K\, Sweden\, Sweden
END:VEVENT
BEGIN:VEVENT
DTSTART;TZID=America/Chicago:20180929T081500
DTEND;TZID=America/Chicago:20180929T111500
DTSTAMP:20260424T221615
CREATED:20180912T195122Z
LAST-MODIFIED:20180916T213217Z
UID:7169-1538208900-1538219700@www.randolphschool.net
SUMMARY:V & MS Cross Country (Boys & Girls) Meet
DESCRIPTION:V & MS Cross Country (Boys & Girls) Meet
URL:https://www.randolphschool.net/event/v-ms-cross-country-boys-girls-meet-3/
LOCATION:Cold Springs High School
END:VEVENT
BEGIN:VEVENT
DTSTART;TZID=America/Chicago:20180929T081500
DTEND;TZID=America/Chicago:20180929T111500
DTSTAMP:20260424T221615
CREATED:20180910T222143Z
LAST-MODIFIED:20180916T213213Z
UID:7076-1538208900-1538219700@www.randolphschool.net
SUMMARY:V & MS Cross Country (Boys & Girls) Meet
DESCRIPTION:V & MS Cross Country (Boys & Girls) Meet
URL:https://www.randolphschool.net/event/v-ms-cross-country-boys-girls-meet-2/
END:VEVENT
BEGIN:VEVENT
DTSTART;TZID=America/Chicago:20180928T190000
DTEND;TZID=America/Chicago:20180928T220000
DTSTAMP:20260424T221615
CREATED:20180831T195759Z
LAST-MODIFIED:20180916T213209Z
UID:6001-1538161200-1538172000@www.randolphschool.net
SUMMARY:V Football (Away) @ Westminster
DESCRIPTION:V Football (Away) @ Westminster
URL:https://www.randolphschool.net/event/v-football-away-westminster-2/
LOCATION:Westminster Christian Academy
END:VEVENT
BEGIN:VEVENT
DTSTART;TZID=America/Chicago:20180927T173000
DTEND;TZID=America/Chicago:20180927T183000
DTSTAMP:20260424T221615
CREATED:20180831T194943Z
LAST-MODIFIED:20180916T213205Z
UID:5960-1538069400-1538073000@www.randolphschool.net
SUMMARY:3/4 White Soccer vs. 3/4 Silver
DESCRIPTION:Wear WHITE side of jersey!
URL:https://www.randolphschool.net/event/3-4-white-soccer-vs-3-4-silver/
LOCATION:Drake Soccer Field
END:VEVENT
BEGIN:VEVENT
DTSTART;TZID=America/Chicago:20180927T170000
DTEND;TZID=America/Chicago:20180927T190000
DTSTAMP:20260424T221615
CREATED:20180831T194940Z
LAST-MODIFIED:20180909T191225Z
UID:5959-1538067600-1538074800@www.randolphschool.net
SUMMARY:5/6 Gray VB @ Holy Spirit
DESCRIPTION:5:00 PM: Gray vs. Holy Spirit 1\n6:00 PM: Gray vs. Holy Spirit 2\n7:00 PM: Holy Spirit 1 vs. Holy Spirit 2
URL:https://www.randolphschool.net/event/5-6-gray-vb-holy-spirit/
LOCATION:Holy Spirit Regional School
END:VEVENT
BEGIN:VEVENT
DTSTART;TZID=America/Chicago:20180927T163000
DTEND;TZID=America/Chicago:20180927T193000
DTSTAMP:20260424T221615
CREATED:20180831T195750Z
LAST-MODIFIED:20180916T213203Z
UID:5996-1538065800-1538076600@www.randolphschool.net
SUMMARY:V Volleyball (Home) vs. DAR/Brindlee Mountain
DESCRIPTION:V Volleyball (Home) vs. DAR/Brindlee Mountain
URL:https://www.randolphschool.net/event/v-volleyball-home-vs-dar-brindlee-mountain/
LOCATION:TOC Court
END:VEVENT
BEGIN:VEVENT
DTSTART;TZID=America/Chicago:20180927T163000
DTEND;TZID=America/Chicago:20180927T173000
DTSTAMP:20260424T221615
CREATED:20180831T194936Z
LAST-MODIFIED:20180916T213201Z
UID:5958-1538065800-1538069400@www.randolphschool.net
SUMMARY:3/4 Gray Soccer vs. 3/4 Blue
DESCRIPTION:Wear WHITE side of jersey!
URL:https://www.randolphschool.net/event/3-4-gray-soccer-vs-3-4-blue/
LOCATION:Drake Soccer Field
END:VEVENT
BEGIN:VEVENT
DTSTART;TZID=America/Chicago:20180927T163000
DTEND;TZID=America/Chicago:20180927T173000
DTSTAMP:20260424T221615
CREATED:20180831T194927Z
LAST-MODIFIED:20180916T213159Z
UID:5957-1538065800-1538069400@www.randolphschool.net
SUMMARY:3/4 Blue vs. 3/4 Gray Soccer
DESCRIPTION:Wear BLUE side of jersey!
URL:https://www.randolphschool.net/event/3-4-blue-vs-3-4-gray-soccer/
LOCATION:Drake Soccer Field
END:VEVENT
BEGIN:VEVENT
DTSTART;TZID=America/Chicago:20180927T100000
DTEND;TZID=America/Chicago:20180927T110000
DTSTAMP:20260424T221615
CREATED:20180905T204337Z
LAST-MODIFIED:20180916T213154Z
UID:6808-1538042400-1538046000@www.randolphschool.net
SUMMARY:Meade’s Reads sponsored by The SNAIL on the Wall
DESCRIPTION:Meade’s Reads sponsored by The SNAIL on the Wall
URL:https://www.randolphschool.net/event/meades-reads-sponsored-by-the-snail-on-the-wall-2/
LOCATION:Drake Front Circle
END:VEVENT
BEGIN:VEVENT
DTSTART;VALUE=DATE:20180927
DTEND;VALUE=DATE:20180928
DTSTAMP:20260424T221615
CREATED:20180831T195747Z
LAST-MODIFIED:20180916T213152Z
UID:5995-1538006400-1538092799@www.randolphschool.net
SUMMARY:MS Volleyball - County Tournament
DESCRIPTION:MS Volleyball – County Tournament
URL:https://www.randolphschool.net/event/ms-volleyball-county-tournament-4/
LOCATION:Madison County Elementary/Middle
END:VEVENT
BEGIN:VEVENT
DTSTART;TZID=America/Chicago:20180926T153000
DTEND;TZID=America/Chicago:20180926T163000
DTSTAMP:20260424T221615
CREATED:20180831T194921Z
LAST-MODIFIED:20180916T213150Z
UID:5956-1537975800-1537979400@www.randolphschool.net
SUMMARY:Head of  School Gallery
DESCRIPTION:Head of  School Gallery
URL:https://www.randolphschool.net/event/head-of-school-gallery/
LOCATION:5\, Turkey\, Turkey
END:VEVENT
BEGIN:VEVENT
DTSTART;VALUE=DATE:20180926
DTEND;VALUE=DATE:20180927
DTSTAMP:20260424T221615
CREATED:20180831T195736Z
LAST-MODIFIED:20180916T213149Z
UID:5993-1537920000-1538006399@www.randolphschool.net
SUMMARY:MS Volleyball - County Tournament
DESCRIPTION:MS Volleyball – County Tournament
URL:https://www.randolphschool.net/event/ms-volleyball-county-tournament-3/
LOCATION:Madison County Elementary/Middle
END:VEVENT
END:VCALENDAR