BEGIN:VCALENDAR
VERSION:2.0
PRODID:-//Randolph School - ECPv6.0.0.1//NONSGML v1.0//EN
CALSCALE:GREGORIAN
METHOD:PUBLISH
X-WR-CALNAME:Randolph School
X-ORIGINAL-URL:https://www.randolphschool.net
X-WR-CALDESC:Events for Randolph School
REFRESH-INTERVAL;VALUE=DURATION:PT1H
X-Robots-Tag:noindex
X-PUBLISHED-TTL:PT1H
BEGIN:VTIMEZONE
TZID:America/Chicago
BEGIN:DAYLIGHT
TZOFFSETFROM:-0600
TZOFFSETTO:-0500
TZNAME:CDT
DTSTART:20180311T080000
END:DAYLIGHT
BEGIN:STANDARD
TZOFFSETFROM:-0500
TZOFFSETTO:-0600
TZNAME:CST
DTSTART:20181104T070000
END:STANDARD
END:VTIMEZONE
BEGIN:VEVENT
DTSTART;TZID=America/Chicago:20181013T000000
DTEND;TZID=America/Chicago:20181013T030000
DTSTAMP:20260424T134801
CREATED:20180911T172225Z
LAST-MODIFIED:20180911T172225Z
UID:7115-1539388800-1539399600@www.randolphschool.net
SUMMARY:V Football (Home) vs. St. John Paul II
DESCRIPTION:V Football (Home) vs. St. John Paul II
URL:https://www.randolphschool.net/event/v-football-home-vs-st-john-paul-ii-19/
END:VEVENT
BEGIN:VEVENT
DTSTART;TZID=America/Chicago:20181013T000000
DTEND;TZID=America/Chicago:20181013T030000
DTSTAMP:20260424T134801
CREATED:20180911T161204Z
LAST-MODIFIED:20180911T161204Z
UID:7113-1539388800-1539399600@www.randolphschool.net
SUMMARY:V Football (Home) vs. St. John Paul II
DESCRIPTION:V Football (Home) vs. St. John Paul II
URL:https://www.randolphschool.net/event/v-football-home-vs-st-john-paul-ii-18/
END:VEVENT
BEGIN:VEVENT
DTSTART;TZID=America/Chicago:20181013T000000
DTEND;TZID=America/Chicago:20181013T030000
DTSTAMP:20260424T134801
CREATED:20180911T151206Z
LAST-MODIFIED:20180911T151206Z
UID:7110-1539388800-1539399600@www.randolphschool.net
SUMMARY:V Football (Home) vs. St. John Paul II
DESCRIPTION:V Football (Home) vs. St. John Paul II
URL:https://www.randolphschool.net/event/v-football-home-vs-st-john-paul-ii-17/
END:VEVENT
BEGIN:VEVENT
DTSTART;TZID=America/Chicago:20181013T000000
DTEND;TZID=America/Chicago:20181013T030000
DTSTAMP:20260424T134801
CREATED:20180911T141147Z
LAST-MODIFIED:20180911T141147Z
UID:7108-1539388800-1539399600@www.randolphschool.net
SUMMARY:V Football (Home) vs. St. John Paul II
DESCRIPTION:V Football (Home) vs. St. John Paul II
URL:https://www.randolphschool.net/event/v-football-home-vs-st-john-paul-ii-16/
END:VEVENT
BEGIN:VEVENT
DTSTART;TZID=America/Chicago:20181013T000000
DTEND;TZID=America/Chicago:20181013T030000
DTSTAMP:20260424T134801
CREATED:20180911T125150Z
LAST-MODIFIED:20180911T125150Z
UID:7106-1539388800-1539399600@www.randolphschool.net
SUMMARY:V Football (Home) vs. St. John Paul II
DESCRIPTION:V Football (Home) vs. St. John Paul II
URL:https://www.randolphschool.net/event/v-football-home-vs-st-john-paul-ii-15/
END:VEVENT
BEGIN:VEVENT
DTSTART;TZID=America/Chicago:20181013T000000
DTEND;TZID=America/Chicago:20181013T030000
DTSTAMP:20260424T134801
CREATED:20180911T115159Z
LAST-MODIFIED:20180911T115159Z
UID:7104-1539388800-1539399600@www.randolphschool.net
SUMMARY:V Football (Home) vs. St. John Paul II
DESCRIPTION:V Football (Home) vs. St. John Paul II
URL:https://www.randolphschool.net/event/v-football-home-vs-st-john-paul-ii-14/
END:VEVENT
BEGIN:VEVENT
DTSTART;TZID=America/Chicago:20181013T000000
DTEND;TZID=America/Chicago:20181013T030000
DTSTAMP:20260424T134801
CREATED:20180911T105149Z
LAST-MODIFIED:20180911T105149Z
UID:7102-1539388800-1539399600@www.randolphschool.net
SUMMARY:V Football (Home) vs. St. John Paul II
DESCRIPTION:V Football (Home) vs. St. John Paul II
URL:https://www.randolphschool.net/event/v-football-home-vs-st-john-paul-ii-13/
END:VEVENT
BEGIN:VEVENT
DTSTART;TZID=America/Chicago:20181013T000000
DTEND;TZID=America/Chicago:20181013T030000
DTSTAMP:20260424T134801
CREATED:20180911T095150Z
LAST-MODIFIED:20180911T095150Z
UID:7100-1539388800-1539399600@www.randolphschool.net
SUMMARY:V Football (Home) vs. St. John Paul II
DESCRIPTION:V Football (Home) vs. St. John Paul II
URL:https://www.randolphschool.net/event/v-football-home-vs-st-john-paul-ii-12/
END:VEVENT
BEGIN:VEVENT
DTSTART;TZID=America/Chicago:20181013T000000
DTEND;TZID=America/Chicago:20181013T030000
DTSTAMP:20260424T134801
CREATED:20180911T085214Z
LAST-MODIFIED:20180911T085214Z
UID:7098-1539388800-1539399600@www.randolphschool.net
SUMMARY:V Football (Home) vs. St. John Paul II
DESCRIPTION:V Football (Home) vs. St. John Paul II
URL:https://www.randolphschool.net/event/v-football-home-vs-st-john-paul-ii-11/
END:VEVENT
BEGIN:VEVENT
DTSTART;TZID=America/Chicago:20181013T000000
DTEND;TZID=America/Chicago:20181013T030000
DTSTAMP:20260424T134801
CREATED:20180911T075138Z
LAST-MODIFIED:20180911T075138Z
UID:7096-1539388800-1539399600@www.randolphschool.net
SUMMARY:V Football (Home) vs. St. John Paul II
DESCRIPTION:V Football (Home) vs. St. John Paul II
URL:https://www.randolphschool.net/event/v-football-home-vs-st-john-paul-ii-10/
END:VEVENT
BEGIN:VEVENT
DTSTART;TZID=America/Chicago:20181013T000000
DTEND;TZID=America/Chicago:20181013T030000
DTSTAMP:20260424T134801
CREATED:20180911T065153Z
LAST-MODIFIED:20180911T065153Z
UID:7094-1539388800-1539399600@www.randolphschool.net
SUMMARY:V Football (Home) vs. St. John Paul II
DESCRIPTION:V Football (Home) vs. St. John Paul II
URL:https://www.randolphschool.net/event/v-football-home-vs-st-john-paul-ii-9/
END:VEVENT
BEGIN:VEVENT
DTSTART;TZID=America/Chicago:20181013T000000
DTEND;TZID=America/Chicago:20181013T030000
DTSTAMP:20260424T134801
CREATED:20180911T055142Z
LAST-MODIFIED:20180911T055142Z
UID:7092-1539388800-1539399600@www.randolphschool.net
SUMMARY:V Football (Home) vs. St. John Paul II
DESCRIPTION:V Football (Home) vs. St. John Paul II
URL:https://www.randolphschool.net/event/v-football-home-vs-st-john-paul-ii-8/
END:VEVENT
BEGIN:VEVENT
DTSTART;TZID=America/Chicago:20181013T000000
DTEND;TZID=America/Chicago:20181013T030000
DTSTAMP:20260424T134801
CREATED:20180911T044220Z
LAST-MODIFIED:20180911T044220Z
UID:7090-1539388800-1539399600@www.randolphschool.net
SUMMARY:V Football (Home) vs. St. John Paul II
DESCRIPTION:V Football (Home) vs. St. John Paul II
URL:https://www.randolphschool.net/event/v-football-home-vs-st-john-paul-ii-7/
END:VEVENT
BEGIN:VEVENT
DTSTART;TZID=America/Chicago:20181013T000000
DTEND;TZID=America/Chicago:20181013T030000
DTSTAMP:20260424T134801
CREATED:20180911T034140Z
LAST-MODIFIED:20180911T034140Z
UID:7088-1539388800-1539399600@www.randolphschool.net
SUMMARY:V Football (Home) vs. St. John Paul II
DESCRIPTION:V Football (Home) vs. St. John Paul II
URL:https://www.randolphschool.net/event/v-football-home-vs-st-john-paul-ii-6/
END:VEVENT
BEGIN:VEVENT
DTSTART;TZID=America/Chicago:20181013T000000
DTEND;TZID=America/Chicago:20181013T030000
DTSTAMP:20260424T134801
CREATED:20180911T022151Z
LAST-MODIFIED:20180911T022151Z
UID:7086-1539388800-1539399600@www.randolphschool.net
SUMMARY:V Football (Home) vs. St. John Paul II
DESCRIPTION:V Football (Home) vs. St. John Paul II
URL:https://www.randolphschool.net/event/v-football-home-vs-st-john-paul-ii-5/
END:VEVENT
BEGIN:VEVENT
DTSTART;TZID=America/Chicago:20181013T000000
DTEND;TZID=America/Chicago:20181013T030000
DTSTAMP:20260424T134801
CREATED:20180911T012210Z
LAST-MODIFIED:20180911T012210Z
UID:7084-1539388800-1539399600@www.randolphschool.net
SUMMARY:V Football (Home) vs. St. John Paul II
DESCRIPTION:V Football (Home) vs. St. John Paul II
URL:https://www.randolphschool.net/event/v-football-home-vs-st-john-paul-ii-4/
END:VEVENT
BEGIN:VEVENT
DTSTART;TZID=America/Chicago:20181013T000000
DTEND;TZID=America/Chicago:20181013T030000
DTSTAMP:20260424T134801
CREATED:20180911T002238Z
LAST-MODIFIED:20180911T002238Z
UID:7082-1539388800-1539399600@www.randolphschool.net
SUMMARY:V Football (Home) vs. St. John Paul II
DESCRIPTION:V Football (Home) vs. St. John Paul II
URL:https://www.randolphschool.net/event/v-football-home-vs-st-john-paul-ii-3/
END:VEVENT
BEGIN:VEVENT
DTSTART;TZID=America/Chicago:20181013T000000
DTEND;TZID=America/Chicago:20181013T030000
DTSTAMP:20260424T134801
CREATED:20180910T212216Z
LAST-MODIFIED:20180910T212216Z
UID:7073-1539388800-1539399600@www.randolphschool.net
SUMMARY:V Football (Home) vs. St. John Paul II
DESCRIPTION:V Football (Home) vs. St. John Paul II
URL:https://www.randolphschool.net/event/v-football-home-vs-st-john-paul-ii-2/
END:VEVENT
BEGIN:VEVENT
DTSTART;TZID=America/Chicago:20181012T190000
DTEND;TZID=America/Chicago:20181012T220000
DTSTAMP:20260424T134801
CREATED:20180831T195847Z
LAST-MODIFIED:20180916T213259Z
UID:6014-1539370800-1539381600@www.randolphschool.net
SUMMARY:V Football (Home) vs. St. John Paul II
DESCRIPTION:V Football (Home) vs. St. John Paul II
URL:https://www.randolphschool.net/event/v-football-home-vs-st-john-paul-ii/
LOCATION:SportsMed Field
END:VEVENT
BEGIN:VEVENT
DTSTART;VALUE=DATE:20181012
DTEND;VALUE=DATE:20181013
DTSTAMP:20260424T134801
CREATED:20180816T202123Z
LAST-MODIFIED:20180916T213258Z
UID:5624-1539302400-1539388799@www.randolphschool.net
SUMMARY:Fall Break
DESCRIPTION:Fall Break
URL:https://www.randolphschool.net/event/fall-break-5/
END:VEVENT
BEGIN:VEVENT
DTSTART;TZID=America/Chicago:20181011T190100
DTEND;TZID=America/Chicago:20181012T185900
DTSTAMP:20260424T134801
CREATED:20180910T232240Z
LAST-MODIFIED:20180910T232240Z
UID:7080-1539284460-1539370740@www.randolphschool.net
SUMMARY:Fall Break
DESCRIPTION:Fall Break
URL:https://www.randolphschool.net/event/fall-break-7/
END:VEVENT
BEGIN:VEVENT
DTSTART;TZID=America/Chicago:20181011T190100
DTEND;TZID=America/Chicago:20181012T185900
DTSTAMP:20260424T134801
CREATED:20180910T222202Z
LAST-MODIFIED:20180910T222202Z
UID:7077-1539284460-1539370740@www.randolphschool.net
SUMMARY:Fall Break
DESCRIPTION:Fall Break
URL:https://www.randolphschool.net/event/fall-break-6/
END:VEVENT
BEGIN:VEVENT
DTSTART;VALUE=DATE:20181011
DTEND;VALUE=DATE:20181012
DTSTAMP:20260424T134801
CREATED:20180816T202119Z
LAST-MODIFIED:20180916T213257Z
UID:5623-1539216000-1539302399@www.randolphschool.net
SUMMARY:Fall Break
DESCRIPTION:Fall Break
URL:https://www.randolphschool.net/event/fall-break-4/
END:VEVENT
BEGIN:VEVENT
DTSTART;VALUE=DATE:20181010
DTEND;VALUE=DATE:20181011
DTSTAMP:20260424T134801
CREATED:20180816T202116Z
LAST-MODIFIED:20180916T213256Z
UID:5622-1539129600-1539215999@www.randolphschool.net
SUMMARY:Fall Break
DESCRIPTION:Fall Break
URL:https://www.randolphschool.net/event/fall-break-3/
END:VEVENT
BEGIN:VEVENT
DTSTART;VALUE=DATE:20181009
DTEND;VALUE=DATE:20181010
DTSTAMP:20260424T134801
CREATED:20180816T202113Z
LAST-MODIFIED:20180916T213255Z
UID:5621-1539043200-1539129599@www.randolphschool.net
SUMMARY:Fall Break
DESCRIPTION:Fall Break
URL:https://www.randolphschool.net/event/fall-break-2/
END:VEVENT
BEGIN:VEVENT
DTSTART;VALUE=DATE:20181008
DTEND;VALUE=DATE:20181009
DTSTAMP:20260424T134801
CREATED:20180816T202106Z
LAST-MODIFIED:20180916T213254Z
UID:5620-1538956800-1539043199@www.randolphschool.net
SUMMARY:Fall Break
DESCRIPTION:Fall Break
URL:https://www.randolphschool.net/event/fall-break/
END:VEVENT
BEGIN:VEVENT
DTSTART;TZID=America/Chicago:20181006T090000
DTEND;TZID=America/Chicago:20181006T120000
DTSTAMP:20260424T134801
CREATED:20180912T195140Z
LAST-MODIFIED:20180916T213249Z
UID:7170-1538816400-1538827200@www.randolphschool.net
SUMMARY:V & MS Cross Country (Boys & Girls) Meet
DESCRIPTION:V & MS Cross Country (Boys & Girls) Meet
URL:https://www.randolphschool.net/event/v-ms-cross-country-boys-girls-meet-4/
LOCATION:Guntersville High School
END:VEVENT
BEGIN:VEVENT
DTSTART;TZID=America/Chicago:20181005T190000
DTEND;TZID=America/Chicago:20181005T220000
DTSTAMP:20260424T134801
CREATED:20180831T195841Z
LAST-MODIFIED:20180916T213246Z
UID:6013-1538766000-1538776800@www.randolphschool.net
SUMMARY:V Football (Away) @ D.A.R.
DESCRIPTION:V Football (Away) @ D.A.R.
URL:https://www.randolphschool.net/event/v-football-away-d-a-r/
LOCATION:Kate Duncan Smith DAR School
END:VEVENT
BEGIN:VEVENT
DTSTART;TZID=America/Chicago:20181004T173000
DTEND;TZID=America/Chicago:20181004T183000
DTSTAMP:20260424T134801
CREATED:20180831T195835Z
LAST-MODIFIED:20180916T213241Z
UID:6012-1538674200-1538677800@www.randolphschool.net
SUMMARY:3/4 White Soccer vs. Oakwood
DESCRIPTION:Wear WHITE side of jersey!
URL:https://www.randolphschool.net/event/3-4-white-soccer-vs-oakwood/
LOCATION:Drake Soccer Field
END:VEVENT
BEGIN:VEVENT
DTSTART;TZID=America/Chicago:20181004T163000
DTEND;TZID=America/Chicago:20181004T173000
DTSTAMP:20260424T134801
CREATED:20180831T195832Z
LAST-MODIFIED:20180916T213239Z
UID:6011-1538670600-1538674200@www.randolphschool.net
SUMMARY:3/4 Blue vs. Westminster
DESCRIPTION:Wear WHITE side of jersey!
URL:https://www.randolphschool.net/event/3-4-blue-vs-westminster/
LOCATION:Drake Soccer Field
END:VEVENT
END:VCALENDAR