BEGIN:VCALENDAR
VERSION:2.0
PRODID:-//Randolph School - ECPv6.0.0.1//NONSGML v1.0//EN
CALSCALE:GREGORIAN
METHOD:PUBLISH
X-WR-CALNAME:Randolph School
X-ORIGINAL-URL:https://www.randolphschool.net
X-WR-CALDESC:Events for Randolph School
REFRESH-INTERVAL;VALUE=DURATION:PT1H
X-Robots-Tag:noindex
X-PUBLISHED-TTL:PT1H
BEGIN:VTIMEZONE
TZID:America/Chicago
BEGIN:DAYLIGHT
TZOFFSETFROM:-0600
TZOFFSETTO:-0500
TZNAME:CDT
DTSTART:20180311T080000
END:DAYLIGHT
BEGIN:STANDARD
TZOFFSETFROM:-0500
TZOFFSETTO:-0600
TZNAME:CST
DTSTART:20181104T070000
END:STANDARD
END:VTIMEZONE
BEGIN:VEVENT
DTSTART;VALUE=DATE:20181016
DTEND;VALUE=DATE:20181017
DTSTAMP:20260424T103725
CREATED:20180816T202126Z
LAST-MODIFIED:20180916T213310Z
UID:5625-1539648000-1539734399@www.randolphschool.net
SUMMARY:Parent Conferences
DESCRIPTION:Parent Conferences
URL:https://www.randolphschool.net/event/parent-conferences/
END:VEVENT
BEGIN:VEVENT
DTSTART;TZID=America/Chicago:20181015T210000
DTEND;TZID=America/Chicago:20181015T220000
DTSTAMP:20260424T103725
CREATED:20180910T202203Z
LAST-MODIFIED:20180910T202203Z
UID:7067-1539637200-1539640800@www.randolphschool.net
SUMMARY:3/4 Blue Soccer vs. Whitesburg 1
DESCRIPTION:Wear WHITE side of jersey!
URL:https://www.randolphschool.net/event/3-4-blue-soccer-vs-whitesburg-1-2/
END:VEVENT
BEGIN:VEVENT
DTSTART;TZID=America/Chicago:20181015T170000
DTEND;TZID=America/Chicago:20181015T180000
DTSTAMP:20260424T103725
CREATED:20180831T195855Z
LAST-MODIFIED:20180916T213308Z
UID:6018-1539622800-1539626400@www.randolphschool.net
SUMMARY:3/4 White Soccer vs. Whitesburg 1
DESCRIPTION:Wear WHITE side of jersey!
URL:https://www.randolphschool.net/event/3-4-white-soccer-vs-whitesburg-1/
LOCATION:Drake Soccer Field
END:VEVENT
BEGIN:VEVENT
DTSTART;TZID=America/Chicago:20181015T163000
DTEND;TZID=America/Chicago:20181015T183000
DTSTAMP:20260424T103725
CREATED:20180831T195852Z
LAST-MODIFIED:20180916T213305Z
UID:6017-1539621000-1539628200@www.randolphschool.net
SUMMARY:V Volleyball (Away) @ Brindlee Mt./Susan Moore
DESCRIPTION:V Volleyball (Away) @ Brindlee Mt./Susan Moore
URL:https://www.randolphschool.net/event/v-volleyball-away-brindlee-mt-susan-moore/
LOCATION:Brindlee Mountain High School
END:VEVENT
BEGIN:VEVENT
DTSTART;TZID=America/Chicago:20181015T160000
DTEND;TZID=America/Chicago:20181015T170000
DTSTAMP:20260424T103725
CREATED:20180831T195850Z
LAST-MODIFIED:20180916T213300Z
UID:6015-1539619200-1539622800@www.randolphschool.net
SUMMARY:3/4 Blue Soccer vs. Whitesburg 1
DESCRIPTION:Wear WHITE side of jersey!
URL:https://www.randolphschool.net/event/3-4-blue-soccer-vs-whitesburg-1/
LOCATION:Drake Soccer Field
END:VEVENT
BEGIN:VEVENT
DTSTART;TZID=America/Chicago:20181013T000000
DTEND;TZID=America/Chicago:20181013T030000
DTSTAMP:20260424T103725
CREATED:20180911T222138Z
LAST-MODIFIED:20180911T222138Z
UID:7125-1539388800-1539399600@www.randolphschool.net
SUMMARY:V Football (Home) vs. St. John Paul II
DESCRIPTION:V Football (Home) vs. St. John Paul II
URL:https://www.randolphschool.net/event/v-football-home-vs-st-john-paul-ii-24/
END:VEVENT
BEGIN:VEVENT
DTSTART;TZID=America/Chicago:20181013T000000
DTEND;TZID=America/Chicago:20181013T030000
DTSTAMP:20260424T103725
CREATED:20180911T211203Z
LAST-MODIFIED:20180911T211203Z
UID:7123-1539388800-1539399600@www.randolphschool.net
SUMMARY:V Football (Home) vs. St. John Paul II
DESCRIPTION:V Football (Home) vs. St. John Paul II
URL:https://www.randolphschool.net/event/v-football-home-vs-st-john-paul-ii-23/
END:VEVENT
BEGIN:VEVENT
DTSTART;TZID=America/Chicago:20181013T000000
DTEND;TZID=America/Chicago:20181013T030000
DTSTAMP:20260424T103725
CREATED:20180911T195201Z
LAST-MODIFIED:20180911T195201Z
UID:7121-1539388800-1539399600@www.randolphschool.net
SUMMARY:V Football (Home) vs. St. John Paul II
DESCRIPTION:V Football (Home) vs. St. John Paul II
URL:https://www.randolphschool.net/event/v-football-home-vs-st-john-paul-ii-22/
END:VEVENT
BEGIN:VEVENT
DTSTART;TZID=America/Chicago:20181013T000000
DTEND;TZID=America/Chicago:20181013T030000
DTSTAMP:20260424T103725
CREATED:20180911T184211Z
LAST-MODIFIED:20180911T184211Z
UID:7119-1539388800-1539399600@www.randolphschool.net
SUMMARY:V Football (Home) vs. St. John Paul II
DESCRIPTION:V Football (Home) vs. St. John Paul II
URL:https://www.randolphschool.net/event/v-football-home-vs-st-john-paul-ii-21/
END:VEVENT
BEGIN:VEVENT
DTSTART;TZID=America/Chicago:20181013T000000
DTEND;TZID=America/Chicago:20181013T030000
DTSTAMP:20260424T103725
CREATED:20180911T172350Z
LAST-MODIFIED:20180911T172350Z
UID:7116-1539388800-1539399600@www.randolphschool.net
SUMMARY:V Football (Home) vs. St. John Paul II
DESCRIPTION:V Football (Home) vs. St. John Paul II
URL:https://www.randolphschool.net/event/v-football-home-vs-st-john-paul-ii-20/
END:VEVENT
BEGIN:VEVENT
DTSTART;TZID=America/Chicago:20181013T000000
DTEND;TZID=America/Chicago:20181013T030000
DTSTAMP:20260424T103725
CREATED:20180911T172225Z
LAST-MODIFIED:20180911T172225Z
UID:7115-1539388800-1539399600@www.randolphschool.net
SUMMARY:V Football (Home) vs. St. John Paul II
DESCRIPTION:V Football (Home) vs. St. John Paul II
URL:https://www.randolphschool.net/event/v-football-home-vs-st-john-paul-ii-19/
END:VEVENT
BEGIN:VEVENT
DTSTART;TZID=America/Chicago:20181013T000000
DTEND;TZID=America/Chicago:20181013T030000
DTSTAMP:20260424T103725
CREATED:20180911T161204Z
LAST-MODIFIED:20180911T161204Z
UID:7113-1539388800-1539399600@www.randolphschool.net
SUMMARY:V Football (Home) vs. St. John Paul II
DESCRIPTION:V Football (Home) vs. St. John Paul II
URL:https://www.randolphschool.net/event/v-football-home-vs-st-john-paul-ii-18/
END:VEVENT
BEGIN:VEVENT
DTSTART;TZID=America/Chicago:20181013T000000
DTEND;TZID=America/Chicago:20181013T030000
DTSTAMP:20260424T103725
CREATED:20180911T151206Z
LAST-MODIFIED:20180911T151206Z
UID:7110-1539388800-1539399600@www.randolphschool.net
SUMMARY:V Football (Home) vs. St. John Paul II
DESCRIPTION:V Football (Home) vs. St. John Paul II
URL:https://www.randolphschool.net/event/v-football-home-vs-st-john-paul-ii-17/
END:VEVENT
BEGIN:VEVENT
DTSTART;TZID=America/Chicago:20181013T000000
DTEND;TZID=America/Chicago:20181013T030000
DTSTAMP:20260424T103725
CREATED:20180911T141147Z
LAST-MODIFIED:20180911T141147Z
UID:7108-1539388800-1539399600@www.randolphschool.net
SUMMARY:V Football (Home) vs. St. John Paul II
DESCRIPTION:V Football (Home) vs. St. John Paul II
URL:https://www.randolphschool.net/event/v-football-home-vs-st-john-paul-ii-16/
END:VEVENT
BEGIN:VEVENT
DTSTART;TZID=America/Chicago:20181013T000000
DTEND;TZID=America/Chicago:20181013T030000
DTSTAMP:20260424T103725
CREATED:20180911T125150Z
LAST-MODIFIED:20180911T125150Z
UID:7106-1539388800-1539399600@www.randolphschool.net
SUMMARY:V Football (Home) vs. St. John Paul II
DESCRIPTION:V Football (Home) vs. St. John Paul II
URL:https://www.randolphschool.net/event/v-football-home-vs-st-john-paul-ii-15/
END:VEVENT
BEGIN:VEVENT
DTSTART;TZID=America/Chicago:20181013T000000
DTEND;TZID=America/Chicago:20181013T030000
DTSTAMP:20260424T103725
CREATED:20180911T115159Z
LAST-MODIFIED:20180911T115159Z
UID:7104-1539388800-1539399600@www.randolphschool.net
SUMMARY:V Football (Home) vs. St. John Paul II
DESCRIPTION:V Football (Home) vs. St. John Paul II
URL:https://www.randolphschool.net/event/v-football-home-vs-st-john-paul-ii-14/
END:VEVENT
BEGIN:VEVENT
DTSTART;TZID=America/Chicago:20181013T000000
DTEND;TZID=America/Chicago:20181013T030000
DTSTAMP:20260424T103725
CREATED:20180911T105149Z
LAST-MODIFIED:20180911T105149Z
UID:7102-1539388800-1539399600@www.randolphschool.net
SUMMARY:V Football (Home) vs. St. John Paul II
DESCRIPTION:V Football (Home) vs. St. John Paul II
URL:https://www.randolphschool.net/event/v-football-home-vs-st-john-paul-ii-13/
END:VEVENT
BEGIN:VEVENT
DTSTART;TZID=America/Chicago:20181013T000000
DTEND;TZID=America/Chicago:20181013T030000
DTSTAMP:20260424T103725
CREATED:20180911T095150Z
LAST-MODIFIED:20180911T095150Z
UID:7100-1539388800-1539399600@www.randolphschool.net
SUMMARY:V Football (Home) vs. St. John Paul II
DESCRIPTION:V Football (Home) vs. St. John Paul II
URL:https://www.randolphschool.net/event/v-football-home-vs-st-john-paul-ii-12/
END:VEVENT
BEGIN:VEVENT
DTSTART;TZID=America/Chicago:20181013T000000
DTEND;TZID=America/Chicago:20181013T030000
DTSTAMP:20260424T103725
CREATED:20180911T085214Z
LAST-MODIFIED:20180911T085214Z
UID:7098-1539388800-1539399600@www.randolphschool.net
SUMMARY:V Football (Home) vs. St. John Paul II
DESCRIPTION:V Football (Home) vs. St. John Paul II
URL:https://www.randolphschool.net/event/v-football-home-vs-st-john-paul-ii-11/
END:VEVENT
BEGIN:VEVENT
DTSTART;TZID=America/Chicago:20181013T000000
DTEND;TZID=America/Chicago:20181013T030000
DTSTAMP:20260424T103725
CREATED:20180911T075138Z
LAST-MODIFIED:20180911T075138Z
UID:7096-1539388800-1539399600@www.randolphschool.net
SUMMARY:V Football (Home) vs. St. John Paul II
DESCRIPTION:V Football (Home) vs. St. John Paul II
URL:https://www.randolphschool.net/event/v-football-home-vs-st-john-paul-ii-10/
END:VEVENT
BEGIN:VEVENT
DTSTART;TZID=America/Chicago:20181013T000000
DTEND;TZID=America/Chicago:20181013T030000
DTSTAMP:20260424T103725
CREATED:20180911T065153Z
LAST-MODIFIED:20180911T065153Z
UID:7094-1539388800-1539399600@www.randolphschool.net
SUMMARY:V Football (Home) vs. St. John Paul II
DESCRIPTION:V Football (Home) vs. St. John Paul II
URL:https://www.randolphschool.net/event/v-football-home-vs-st-john-paul-ii-9/
END:VEVENT
BEGIN:VEVENT
DTSTART;TZID=America/Chicago:20181013T000000
DTEND;TZID=America/Chicago:20181013T030000
DTSTAMP:20260424T103725
CREATED:20180911T055142Z
LAST-MODIFIED:20180911T055142Z
UID:7092-1539388800-1539399600@www.randolphschool.net
SUMMARY:V Football (Home) vs. St. John Paul II
DESCRIPTION:V Football (Home) vs. St. John Paul II
URL:https://www.randolphschool.net/event/v-football-home-vs-st-john-paul-ii-8/
END:VEVENT
BEGIN:VEVENT
DTSTART;TZID=America/Chicago:20181013T000000
DTEND;TZID=America/Chicago:20181013T030000
DTSTAMP:20260424T103725
CREATED:20180911T044220Z
LAST-MODIFIED:20180911T044220Z
UID:7090-1539388800-1539399600@www.randolphschool.net
SUMMARY:V Football (Home) vs. St. John Paul II
DESCRIPTION:V Football (Home) vs. St. John Paul II
URL:https://www.randolphschool.net/event/v-football-home-vs-st-john-paul-ii-7/
END:VEVENT
BEGIN:VEVENT
DTSTART;TZID=America/Chicago:20181013T000000
DTEND;TZID=America/Chicago:20181013T030000
DTSTAMP:20260424T103725
CREATED:20180911T034140Z
LAST-MODIFIED:20180911T034140Z
UID:7088-1539388800-1539399600@www.randolphschool.net
SUMMARY:V Football (Home) vs. St. John Paul II
DESCRIPTION:V Football (Home) vs. St. John Paul II
URL:https://www.randolphschool.net/event/v-football-home-vs-st-john-paul-ii-6/
END:VEVENT
BEGIN:VEVENT
DTSTART;TZID=America/Chicago:20181013T000000
DTEND;TZID=America/Chicago:20181013T030000
DTSTAMP:20260424T103725
CREATED:20180911T022151Z
LAST-MODIFIED:20180911T022151Z
UID:7086-1539388800-1539399600@www.randolphschool.net
SUMMARY:V Football (Home) vs. St. John Paul II
DESCRIPTION:V Football (Home) vs. St. John Paul II
URL:https://www.randolphschool.net/event/v-football-home-vs-st-john-paul-ii-5/
END:VEVENT
BEGIN:VEVENT
DTSTART;TZID=America/Chicago:20181013T000000
DTEND;TZID=America/Chicago:20181013T030000
DTSTAMP:20260424T103725
CREATED:20180911T012210Z
LAST-MODIFIED:20180911T012210Z
UID:7084-1539388800-1539399600@www.randolphschool.net
SUMMARY:V Football (Home) vs. St. John Paul II
DESCRIPTION:V Football (Home) vs. St. John Paul II
URL:https://www.randolphschool.net/event/v-football-home-vs-st-john-paul-ii-4/
END:VEVENT
BEGIN:VEVENT
DTSTART;TZID=America/Chicago:20181013T000000
DTEND;TZID=America/Chicago:20181013T030000
DTSTAMP:20260424T103725
CREATED:20180911T002238Z
LAST-MODIFIED:20180911T002238Z
UID:7082-1539388800-1539399600@www.randolphschool.net
SUMMARY:V Football (Home) vs. St. John Paul II
DESCRIPTION:V Football (Home) vs. St. John Paul II
URL:https://www.randolphschool.net/event/v-football-home-vs-st-john-paul-ii-3/
END:VEVENT
BEGIN:VEVENT
DTSTART;TZID=America/Chicago:20181013T000000
DTEND;TZID=America/Chicago:20181013T030000
DTSTAMP:20260424T103725
CREATED:20180910T212216Z
LAST-MODIFIED:20180910T212216Z
UID:7073-1539388800-1539399600@www.randolphschool.net
SUMMARY:V Football (Home) vs. St. John Paul II
DESCRIPTION:V Football (Home) vs. St. John Paul II
URL:https://www.randolphschool.net/event/v-football-home-vs-st-john-paul-ii-2/
END:VEVENT
BEGIN:VEVENT
DTSTART;TZID=America/Chicago:20181012T190000
DTEND;TZID=America/Chicago:20181012T220000
DTSTAMP:20260424T103725
CREATED:20180831T195847Z
LAST-MODIFIED:20180916T213259Z
UID:6014-1539370800-1539381600@www.randolphschool.net
SUMMARY:V Football (Home) vs. St. John Paul II
DESCRIPTION:V Football (Home) vs. St. John Paul II
URL:https://www.randolphschool.net/event/v-football-home-vs-st-john-paul-ii/
LOCATION:SportsMed Field
END:VEVENT
BEGIN:VEVENT
DTSTART;VALUE=DATE:20181012
DTEND;VALUE=DATE:20181013
DTSTAMP:20260424T103725
CREATED:20180816T202123Z
LAST-MODIFIED:20180916T213258Z
UID:5624-1539302400-1539388799@www.randolphschool.net
SUMMARY:Fall Break
DESCRIPTION:Fall Break
URL:https://www.randolphschool.net/event/fall-break-5/
END:VEVENT
END:VCALENDAR