BEGIN:VCALENDAR
VERSION:2.0
PRODID:-//Randolph School - ECPv6.0.0.1//NONSGML v1.0//EN
CALSCALE:GREGORIAN
METHOD:PUBLISH
X-WR-CALNAME:Randolph School
X-ORIGINAL-URL:https://www.randolphschool.net
X-WR-CALDESC:Events for Randolph School
REFRESH-INTERVAL;VALUE=DURATION:PT1H
X-Robots-Tag:noindex
X-PUBLISHED-TTL:PT1H
BEGIN:VTIMEZONE
TZID:America/Chicago
BEGIN:DAYLIGHT
TZOFFSETFROM:-0600
TZOFFSETTO:-0500
TZNAME:CDT
DTSTART:20200308T080000
END:DAYLIGHT
BEGIN:STANDARD
TZOFFSETFROM:-0500
TZOFFSETTO:-0600
TZNAME:CST
DTSTART:20201101T070000
END:STANDARD
END:VTIMEZONE
BEGIN:VEVENT
DTSTART;TZID=America/Chicago:20200116T170000
DTEND;TZID=America/Chicago:20200116T180000
DTSTAMP:20260424T103647
CREATED:20200213T150356Z
LAST-MODIFIED:20200320T012029Z
UID:32978-1579194000-1579197600@www.randolphschool.net
SUMMARY:5/6 RAP BKB Game: B. Navy (Schmitz) v B. Gray (Leo)
DESCRIPTION:5/6 RAP BKB Game: B. Navy (Schmitz) v B. Gray (Leo)
URL:https://www.randolphschool.net/event/5-6-rap-bkb-game-b-navy-schmitz-v-b-gray-leo-41/
LOCATION:Knight-Lowe Gym
END:VEVENT
BEGIN:VEVENT
DTSTART;TZID=America/Chicago:20200115T013000
DTEND;TZID=America/Chicago:20200115T013000
DTSTAMP:20260424T103647
CREATED:20190903T201802Z
LAST-MODIFIED:20200217T190327Z
UID:28338-1579051800-1579051800@www.randolphschool.net
SUMMARY:V B Basketball Game @ DAR
DESCRIPTION:V B Basketball Game @ DAR
URL:https://www.randolphschool.net/event/v-b-basketball-game-dar/
LOCATION:Kate Duncan Smith DAR School
END:VEVENT
BEGIN:VEVENT
DTSTART;TZID=America/Chicago:20200115T010000
DTEND;TZID=America/Chicago:20200115T010000
DTSTAMP:20260424T103647
CREATED:20200211T221929Z
LAST-MODIFIED:20200217T190325Z
UID:32847-1579050000-1579050000@www.randolphschool.net
SUMMARY:MS B Basketball Game (8) v Central
DESCRIPTION:MS B Basketball Game (8) v Central
URL:https://www.randolphschool.net/event/ms-b-basketball-game-8-v-central/
LOCATION:TOC Court
END:VEVENT
BEGIN:VEVENT
DTSTART;TZID=America/Chicago:20200115T000000
DTEND;TZID=America/Chicago:20200115T000000
DTSTAMP:20260424T103647
CREATED:20190903T201801Z
LAST-MODIFIED:20200217T190318Z
UID:28337-1579046400-1579046400@www.randolphschool.net
SUMMARY:V G Basketball Game @ DAR
DESCRIPTION:V G Basketball Game @ DAR
URL:https://www.randolphschool.net/event/v-g-basketball-game-dar/
LOCATION:Kate Duncan Smith DAR School
END:VEVENT
BEGIN:VEVENT
DTSTART;TZID=America/Chicago:20200114T220000
DTEND;TZID=America/Chicago:20200114T220000
DTSTAMP:20260424T103647
CREATED:20200211T221913Z
LAST-MODIFIED:20200217T190313Z
UID:32840-1579039200-1579039200@www.randolphschool.net
SUMMARY:MS Indoor Track Meet (Full Team) @ Crossplex
DESCRIPTION:MS Indoor Track Meet (Full Team) @ Crossplex
URL:https://www.randolphschool.net/event/ms-indoor-track-meet-full-team-crossplex/
LOCATION:Birmingham Crossplex
END:VEVENT
BEGIN:VEVENT
DTSTART;TZID=America/Chicago:20200114T220000
DTEND;TZID=America/Chicago:20200114T220000
DTSTAMP:20260424T103647
CREATED:20200211T221911Z
LAST-MODIFIED:20200217T190312Z
UID:32839-1579039200-1579039200@www.randolphschool.net
SUMMARY:V Indoor Track Meet (Full Team) @ Crossplex
DESCRIPTION:V Indoor Track Meet (Full Team) @ Crossplex
URL:https://www.randolphschool.net/event/v-indoor-track-meet-full-team-crossplex/
LOCATION:Birmingham Crossplex
END:VEVENT
BEGIN:VEVENT
DTSTART;TZID=America/Chicago:20200114T190000
DTEND;TZID=America/Chicago:20200114T200000
DTSTAMP:20260424T103647
CREATED:20200211T221930Z
LAST-MODIFIED:20200320T012028Z
UID:32848-1579028400-1579032000@www.randolphschool.net
SUMMARY:5/6 RAP BKB Game: G. Navy (Batey) v Westminster (6)
DESCRIPTION:5/6 RAP BKB Game: G. Navy (Batey) v Westminster (6)
URL:https://www.randolphschool.net/event/5-6-rap-bkb-game-g-navy-batey-v-westminster-6/
LOCATION:Knight-Lowe Gym
END:VEVENT
BEGIN:VEVENT
DTSTART;TZID=America/Chicago:20200114T180000
DTEND;TZID=America/Chicago:20200114T190000
DTSTAMP:20260424T103647
CREATED:20200211T221927Z
LAST-MODIFIED:20200320T012027Z
UID:32846-1579024800-1579028400@www.randolphschool.net
SUMMARY:5/6 RAP BKB Game: G. Gray (J. Smith) v Westminster (5)
DESCRIPTION:5/6 RAP BKB Game: G. Gray (J. Smith) v Westminster (5)
URL:https://www.randolphschool.net/event/5-6-rap-bkb-game-g-gray-j-smith-v-westminster-5/
LOCATION:Knight-Lowe Gym
END:VEVENT
BEGIN:VEVENT
DTSTART;TZID=America/Chicago:20200114T180000
DTEND;TZID=America/Chicago:20200114T190000
DTSTAMP:20260424T103647
CREATED:20200211T221925Z
LAST-MODIFIED:20200320T012025Z
UID:32845-1579024800-1579028400@www.randolphschool.net
SUMMARY:MS G Basketball Game v Central
DESCRIPTION:MS G Basketball Game v Central
URL:https://www.randolphschool.net/event/ms-g-basketball-game-v-central-2/
LOCATION:TOC Court
END:VEVENT
BEGIN:VEVENT
DTSTART;TZID=America/Chicago:20200114T170000
DTEND;TZID=America/Chicago:20200114T180000
DTSTAMP:20260424T103647
CREATED:20200211T221922Z
LAST-MODIFIED:20200320T012023Z
UID:32843-1579021200-1579024800@www.randolphschool.net
SUMMARY:MS B Basketball Game (7) v Central
DESCRIPTION:MS B Basketball Game (7) v Central
URL:https://www.randolphschool.net/event/ms-b-basketball-game-7-v-central/
LOCATION:TOC Court
END:VEVENT
BEGIN:VEVENT
DTSTART;TZID=America/Chicago:20200114T170000
DTEND;TZID=America/Chicago:20200114T180000
DTSTAMP:20260424T103647
CREATED:20200211T221917Z
LAST-MODIFIED:20200320T012022Z
UID:32842-1579021200-1579024800@www.randolphschool.net
SUMMARY:5/6 RAP BKB Game: G. White (Jensen) v Westminster (4)
DESCRIPTION:5/6 RAP BKB Game: G. White (Jensen) v Westminster (4)
URL:https://www.randolphschool.net/event/5-6-rap-bkb-game-g-white-jensen-v-westminster-4/
LOCATION:Knight-Lowe Gym
END:VEVENT
BEGIN:VEVENT
DTSTART;TZID=America/Chicago:20200114T163000
DTEND;TZID=America/Chicago:20200114T180000
DTSTAMP:20260424T103647
CREATED:20190903T201759Z
LAST-MODIFIED:20200320T012021Z
UID:28336-1579019400-1579024800@www.randolphschool.net
SUMMARY:JV B Basketball Game @ DAR
DESCRIPTION:JV B Basketball Game @ DAR
URL:https://www.randolphschool.net/event/jv-b-basketball-game-dar/
LOCATION:Kate Duncan Smith DAR School
END:VEVENT
BEGIN:VEVENT
DTSTART;TZID=America/Chicago:20200114T000000
DTEND;TZID=America/Chicago:20200114T000000
DTSTAMP:20260424T103647
CREATED:20200211T221901Z
LAST-MODIFIED:20200217T190302Z
UID:32833-1578960000-1578960000@www.randolphschool.net
SUMMARY:MS B Basketball Game (8) @ Westminster
DESCRIPTION:MS B Basketball Game (8) @ Westminster
URL:https://www.randolphschool.net/event/ms-b-basketball-game-8-westminster/
LOCATION:Westminster Christian Academy
END:VEVENT
BEGIN:VEVENT
DTSTART;TZID=America/Chicago:20200113T233000
DTEND;TZID=America/Chicago:20200113T233000
DTSTAMP:20260424T103647
CREATED:20190903T201757Z
LAST-MODIFIED:20190903T201757Z
UID:28335-1578958200-1578958200@www.randolphschool.net
SUMMARY:MS G Basketball Game @ Westminster
DESCRIPTION:MS G Basketball Game @ Westminster
URL:https://www.randolphschool.net/event/ms-g-basketball-game-westminster/
LOCATION:Westminster Christian Academy
END:VEVENT
BEGIN:VEVENT
DTSTART;TZID=America/Chicago:20200113T220000
DTEND;TZID=America/Chicago:20200113T220000
DTSTAMP:20260424T103647
CREATED:20200211T221854Z
LAST-MODIFIED:20200217T190258Z
UID:32829-1578952800-1578952800@www.randolphschool.net
SUMMARY:MS B Basketball Game (7) @ Westminster
DESCRIPTION:MS B Basketball Game (7) @ Westminster
URL:https://www.randolphschool.net/event/ms-b-basketball-game-7-westminster/
LOCATION:Westminster Christian Academy
END:VEVENT
BEGIN:VEVENT
DTSTART;TZID=America/Chicago:20200113T193000
DTEND;TZID=America/Chicago:20200113T210000
DTSTAMP:20260424T103647
CREATED:20200211T221909Z
LAST-MODIFIED:20200320T012020Z
UID:32838-1578943800-1578949200@www.randolphschool.net
SUMMARY:V B Basketball Game v DAR
DESCRIPTION:V B Basketball Game v DAR
URL:https://www.randolphschool.net/event/v-b-basketball-game-v-dar-2/
LOCATION:TOC Court
END:VEVENT
BEGIN:VEVENT
DTSTART;TZID=America/Chicago:20200113T190000
DTEND;TZID=America/Chicago:20200113T200000
DTSTAMP:20260424T103647
CREATED:20200211T221907Z
LAST-MODIFIED:20200320T012019Z
UID:32837-1578942000-1578945600@www.randolphschool.net
SUMMARY:5/6 RAP BKB Game: B. Gray (Leo) v B. White (White)
DESCRIPTION:5/6 RAP BKB Game: B. Gray (Leo) v B. White (White)
URL:https://www.randolphschool.net/event/5-6-rap-bkb-game-b-gray-leo-v-b-white-white/
LOCATION:Drake Gym
END:VEVENT
BEGIN:VEVENT
DTSTART;TZID=America/Chicago:20200113T190000
DTEND;TZID=America/Chicago:20200113T200000
DTSTAMP:20260424T103647
CREATED:20200211T221906Z
LAST-MODIFIED:20200320T012018Z
UID:32836-1578942000-1578945600@www.randolphschool.net
SUMMARY:5/6 RAP BKB Game: B. White (White) v B. Gray (Leo)
DESCRIPTION:5/6 RAP BKB Game: B. White (White) v B. Gray (Leo)
URL:https://www.randolphschool.net/event/5-6-rap-bkb-game-b-white-white-v-b-gray-leo/
LOCATION:Knight-Lowe Gym
END:VEVENT
BEGIN:VEVENT
DTSTART;TZID=America/Chicago:20200113T180000
DTEND;TZID=America/Chicago:20200113T193000
DTSTAMP:20260424T103647
CREATED:20200211T221904Z
LAST-MODIFIED:20200320T012017Z
UID:32835-1578938400-1578943800@www.randolphschool.net
SUMMARY:V G Basketball Game v DAR
DESCRIPTION:V G Basketball Game v DAR
URL:https://www.randolphschool.net/event/v-g-basketball-game-v-dar-2/
LOCATION:TOC Court
END:VEVENT
BEGIN:VEVENT
DTSTART;TZID=America/Chicago:20200113T180000
DTEND;TZID=America/Chicago:20200113T190000
DTSTAMP:20260424T103647
CREATED:20200211T221903Z
LAST-MODIFIED:20200320T010038Z
UID:32834-1578938400-1578942000@www.randolphschool.net
SUMMARY:5/6 RAP BKB Game: B. Navy (Schmitz) v Oakwood
DESCRIPTION:5/6 RAP BKB Game: B. Navy (Schmitz) v Oakwood
URL:https://www.randolphschool.net/event/5-6-rap-bkb-game-b-navy-schmitz-v-oakwood/
LOCATION:Knight-Lowe Gym
END:VEVENT
BEGIN:VEVENT
DTSTART;TZID=America/Chicago:20200113T170000
DTEND;TZID=America/Chicago:20200113T193000
DTSTAMP:20260424T103647
CREATED:20200211T221859Z
LAST-MODIFIED:20200320T010035Z
UID:32832-1578934800-1578943800@www.randolphschool.net
SUMMARY:MS G Basketball Game @ Westminster
DESCRIPTION:MS G Basketball Game @ Westminster
URL:https://www.randolphschool.net/event/ms-g-basketball-game-westminster-2/
LOCATION:Westminster Christian Academy
END:VEVENT
BEGIN:VEVENT
DTSTART;TZID=America/Chicago:20200113T170000
DTEND;TZID=America/Chicago:20200113T180000
DTSTAMP:20260424T103647
CREATED:20200211T221857Z
LAST-MODIFIED:20200320T010036Z
UID:32831-1578934800-1578938400@www.randolphschool.net
SUMMARY:5/6 RAP BKB Game: G. Navy (Batey) v Oakwood
DESCRIPTION:5/6 RAP BKB Game: G. Navy (Batey) v Oakwood
URL:https://www.randolphschool.net/event/5-6-rap-bkb-game-g-navy-batey-v-oakwood/
LOCATION:Knight-Lowe Gym
END:VEVENT
BEGIN:VEVENT
DTSTART;TZID=America/Chicago:20200113T163000
DTEND;TZID=America/Chicago:20200113T180000
DTSTAMP:20260424T103647
CREATED:20200211T221856Z
LAST-MODIFIED:20200320T010034Z
UID:32830-1578933000-1578938400@www.randolphschool.net
SUMMARY:JV B Basketball Game vs DAR
DESCRIPTION:JV B Basketball Game vs DAR
URL:https://www.randolphschool.net/event/jv-b-basketball-game-vs-dar/
LOCATION:TOC Court
END:VEVENT
BEGIN:VEVENT
DTSTART;TZID=America/Chicago:20200112T190000
DTEND;TZID=America/Chicago:20200112T210000
DTSTAMP:20260424T103647
CREATED:20200211T221851Z
LAST-MODIFIED:20200320T010033Z
UID:32828-1578855600-1578862800@www.randolphschool.net
SUMMARY:Spring Sports (7th -12th) PPO (Preseason Parent Orientation)
DESCRIPTION:Spring Sports (7th -12th) PPO (Preseason Parent Orientation)
URL:https://www.randolphschool.net/event/spring-sports-7th-12th-ppo-preseason-parent-orientation/
LOCATION:TOC Court
END:VEVENT
BEGIN:VEVENT
DTSTART;TZID=America/Chicago:20200111T140000
DTEND;TZID=America/Chicago:20200111T153000
DTSTAMP:20260424T103647
CREATED:20200211T221845Z
LAST-MODIFIED:20200320T010032Z
UID:32827-1578751200-1578756600@www.randolphschool.net
SUMMARY:CANCELLED:  V B Basketball Game v DAR
DESCRIPTION:CANCELLED:  V B Basketball Game v DAR
URL:https://www.randolphschool.net/event/cancelled-v-b-basketball-game-v-dar-3/
LOCATION:TOC Court
END:VEVENT
BEGIN:VEVENT
DTSTART;TZID=America/Chicago:20200111T123000
DTEND;TZID=America/Chicago:20200111T140000
DTSTAMP:20260424T103647
CREATED:20200211T221843Z
LAST-MODIFIED:20200320T010031Z
UID:32826-1578745800-1578751200@www.randolphschool.net
SUMMARY:CANCELLED: JV B Basketball Game vs DAR
DESCRIPTION:CANCELLED: JV B Basketball Game vs DAR
URL:https://www.randolphschool.net/event/cancelled-jv-b-basketball-game-vs-dar/
LOCATION:TOC Court
END:VEVENT
BEGIN:VEVENT
DTSTART;TZID=America/Chicago:20200111T110000
DTEND;TZID=America/Chicago:20200111T123000
DTSTAMP:20260424T103647
CREATED:20200211T221842Z
LAST-MODIFIED:20200320T010030Z
UID:32825-1578740400-1578745800@www.randolphschool.net
SUMMARY:CANCELLED: V G Basketball Game v DAR
DESCRIPTION:CANCELLED: V G Basketball Game v DAR
URL:https://www.randolphschool.net/event/cancelled-v-g-basketball-game-v-dar-2/
LOCATION:TOC Court
END:VEVENT
BEGIN:VEVENT
DTSTART;TZID=America/Chicago:20200111T110000
DTEND;TZID=America/Chicago:20200111T120000
DTSTAMP:20260424T103647
CREATED:20200211T221840Z
LAST-MODIFIED:20200320T010029Z
UID:32824-1578740400-1578744000@www.randolphschool.net
SUMMARY:CANCELLED: 3/4 RAP BKB Game: B. Navy (Penney) v At
DESCRIPTION:CANCELLED: 3/4 RAP BKB Game: B. Navy (Penney) v At
URL:https://www.randolphschool.net/event/cancelled-3-4-rap-bkb-game-b-navy-penney-v-at/
LOCATION:Knight-Lowe Gym
END:VEVENT
BEGIN:VEVENT
DTSTART;TZID=America/Chicago:20200111T100000
DTEND;TZID=America/Chicago:20200111T110000
DTSTAMP:20260424T103647
CREATED:20200211T221838Z
LAST-MODIFIED:20200320T010028Z
UID:32823-1578736800-1578740400@www.randolphschool.net
SUMMARY:CANCELLED: 3/4 RAP BKB Game: B. Gray (AJ Smith) v
DESCRIPTION:CANCELLED: 3/4 RAP BKB Game: B. Gray (AJ Smith) v
URL:https://www.randolphschool.net/event/cancelled-3-4-rap-bkb-game-b-gray-aj-smith-v/
LOCATION:Knight-Lowe Gym
END:VEVENT
BEGIN:VEVENT
DTSTART;TZID=America/Chicago:20200111T090000
DTEND;TZID=America/Chicago:20200111T100000
DTSTAMP:20260424T103647
CREATED:20200211T221837Z
LAST-MODIFIED:20200320T010021Z
UID:32822-1578733200-1578736800@www.randolphschool.net
SUMMARY:CANCELLED: 3/4 RAP BKB Game: B. White (Guasti) @ G
DESCRIPTION:CANCELLED: 3/4 RAP BKB Game: B. White (Guasti) @ G
URL:https://www.randolphschool.net/event/cancelled-3-4-rap-bkb-game-b-white-guasti-g/
LOCATION:Grace Lutheran School
END:VEVENT
END:VCALENDAR