BEGIN:VCALENDAR
VERSION:2.0
PRODID:-//Randolph School - ECPv6.0.0.1//NONSGML v1.0//EN
CALSCALE:GREGORIAN
METHOD:PUBLISH
X-WR-CALNAME:Randolph School
X-ORIGINAL-URL:https://www.randolphschool.net
X-WR-CALDESC:Events for Randolph School
REFRESH-INTERVAL;VALUE=DURATION:PT1H
X-Robots-Tag:noindex
X-PUBLISHED-TTL:PT1H
BEGIN:VTIMEZONE
TZID:America/Chicago
BEGIN:DAYLIGHT
TZOFFSETFROM:-0600
TZOFFSETTO:-0500
TZNAME:CDT
DTSTART:20200308T080000
END:DAYLIGHT
BEGIN:STANDARD
TZOFFSETFROM:-0500
TZOFFSETTO:-0600
TZNAME:CST
DTSTART:20201101T070000
END:STANDARD
END:VTIMEZONE
BEGIN:VEVENT
DTSTART;TZID=America/Chicago:20200118T150000
DTEND;TZID=America/Chicago:20200118T170000
DTSTAMP:20260422T013518
CREATED:20200213T150440Z
LAST-MODIFIED:20200320T014026Z
UID:32996-1579359600-1579366800@www.randolphschool.net
SUMMARY:CANCELLED: V B Basketball Game v Woodville
DESCRIPTION:CANCELLED: V B Basketball Game v Woodville
URL:https://www.randolphschool.net/event/cancelled-v-b-basketball-game-v-woodville/
LOCATION:TOC Court
END:VEVENT
BEGIN:VEVENT
DTSTART;TZID=America/Chicago:20200118T140000
DTEND;TZID=America/Chicago:20200118T140000
DTSTAMP:20260422T013518
CREATED:20200213T150419Z
LAST-MODIFIED:20200216T230824Z
UID:32988-1579356000-1579356000@www.randolphschool.net
SUMMARY:Wrestling Match-Tiger Invitational at Grissom High
DESCRIPTION:Wrestling Match-Tiger Invitational at Grissom High
URL:https://www.randolphschool.net/event/wrestling-match-tiger-invitational-at-grissom-high/
LOCATION:Grissom High School
END:VEVENT
BEGIN:VEVENT
DTSTART;TZID=America/Chicago:20200118T133000
DTEND;TZID=America/Chicago:20200118T150000
DTSTAMP:20260422T013518
CREATED:20200213T150434Z
LAST-MODIFIED:20200320T014024Z
UID:32995-1579354200-1579359600@www.randolphschool.net
SUMMARY:Cancelled:  V G Basketball Game v Woodville
DESCRIPTION:Cancelled:  V G Basketball Game v Woodville
URL:https://www.randolphschool.net/event/cancelled-v-g-basketball-game-v-woodville/
LOCATION:TOC Court
END:VEVENT
BEGIN:VEVENT
DTSTART;TZID=America/Chicago:20200118T120000
DTEND;TZID=America/Chicago:20200118T133000
DTSTAMP:20260422T013518
CREATED:20200213T150432Z
LAST-MODIFIED:20200320T014023Z
UID:32994-1579348800-1579354200@www.randolphschool.net
SUMMARY:CANCELLED: JV B Basketball Game v Woodville
DESCRIPTION:CANCELLED: JV B Basketball Game v Woodville
URL:https://www.randolphschool.net/event/cancelled-jv-b-basketball-game-v-woodville/
LOCATION:TOC Court
END:VEVENT
BEGIN:VEVENT
DTSTART;TZID=America/Chicago:20200118T120000
DTEND;TZID=America/Chicago:20200118T130000
DTSTAMP:20260422T013518
CREATED:20200213T150429Z
LAST-MODIFIED:20200320T014022Z
UID:32993-1579348800-1579352400@www.randolphschool.net
SUMMARY:3/4 RAP BKB Game: B. Gray (AJ Smith) v Whitesburg (A)
DESCRIPTION:3/4 RAP BKB Game: B. Gray (AJ Smith) v Whitesburg (A)
URL:https://www.randolphschool.net/event/3-4-rap-bkb-game-b-gray-aj-smith-v-whitesburg-a/
LOCATION:Knight-Lowe Gym
END:VEVENT
BEGIN:VEVENT
DTSTART;TZID=America/Chicago:20200118T110000
DTEND;TZID=America/Chicago:20200118T120000
DTSTAMP:20260422T013518
CREATED:20200213T150427Z
LAST-MODIFIED:20200320T014021Z
UID:32992-1579345200-1579348800@www.randolphschool.net
SUMMARY:3/4 RAP BKB Game: G. White (Cook) v Holy Family
DESCRIPTION:3/4 RAP BKB Game: G. White (Cook) v Holy Family
URL:https://www.randolphschool.net/event/3-4-rap-bkb-game-g-white-cook-v-holy-family/
LOCATION:Knight-Lowe Gym
END:VEVENT
BEGIN:VEVENT
DTSTART;TZID=America/Chicago:20200118T100000
DTEND;TZID=America/Chicago:20200118T110000
DTSTAMP:20260422T013518
CREATED:20200213T150425Z
LAST-MODIFIED:20200320T014019Z
UID:32991-1579341600-1579345200@www.randolphschool.net
SUMMARY:3/4 RAP BKB Game: B. White (Guasti) @ Holy Spirit
DESCRIPTION:3/4 RAP BKB Game: B. White (Guasti) @ Holy Spirit
URL:https://www.randolphschool.net/event/3-4-rap-bkb-game-b-white-guasti-holy-spirit/
LOCATION:Holy Spirit Regional Catholic School
END:VEVENT
BEGIN:VEVENT
DTSTART;TZID=America/Chicago:20200118T100000
DTEND;TZID=America/Chicago:20200118T110000
DTSTAMP:20260422T013518
CREATED:20200213T150423Z
LAST-MODIFIED:20200320T014018Z
UID:32990-1579341600-1579345200@www.randolphschool.net
SUMMARY:3/4 RAP BKB Game: B. Navy (Penney) v Whitesburg (B)
DESCRIPTION:3/4 RAP BKB Game: B. Navy (Penney) v Whitesburg (B)
URL:https://www.randolphschool.net/event/3-4-rap-bkb-game-b-navy-penney-v-whitesburg-b/
LOCATION:Knight-Lowe Gym
END:VEVENT
BEGIN:VEVENT
DTSTART;TZID=America/Chicago:20200118T090000
DTEND;TZID=America/Chicago:20200118T100000
DTSTAMP:20260422T013518
CREATED:20200213T150420Z
LAST-MODIFIED:20200320T014017Z
UID:32989-1579338000-1579341600@www.randolphschool.net
SUMMARY:3/4 RAP BKB Game: G. Navy (Antes) v Whitesburg (B)
DESCRIPTION:3/4 RAP BKB Game: G. Navy (Antes) v Whitesburg (B)
URL:https://www.randolphschool.net/event/3-4-rap-bkb-game-g-navy-antes-v-whitesburg-b/
LOCATION:Knight-Lowe Gym
END:VEVENT
BEGIN:VEVENT
DTSTART;TZID=America/Chicago:20200118T074500
DTEND;TZID=America/Chicago:20200118T130000
DTSTAMP:20260422T013518
CREATED:20190903T201814Z
LAST-MODIFIED:20200320T014014Z
UID:28342-1579333500-1579352400@www.randolphschool.net
SUMMARY:EdCamp
DESCRIPTION:EdCamp
URL:https://www.randolphschool.net/event/edcamp/
LOCATION:Drake Commons Cafe
END:VEVENT
BEGIN:VEVENT
DTSTART;TZID=America/Chicago:20200118T010000
DTEND;TZID=America/Chicago:20200118T010000
DTSTAMP:20260422T013518
CREATED:20200213T150414Z
LAST-MODIFIED:20200216T230818Z
UID:32986-1579309200-1579309200@www.randolphschool.net
SUMMARY:V B Basketball Game @ North Jackson
DESCRIPTION:V B Basketball Game @ North Jackson
URL:https://www.randolphschool.net/event/v-b-basketball-game-north-jackson-2/
LOCATION:North Jackson High School
END:VEVENT
BEGIN:VEVENT
DTSTART;TZID=America/Chicago:20200117T234500
DTEND;TZID=America/Chicago:20200117T234500
DTSTAMP:20260422T013518
CREATED:20200213T150413Z
LAST-MODIFIED:20200216T230816Z
UID:32985-1579304700-1579304700@www.randolphschool.net
SUMMARY:V G Basketball Game @ North Jackson
DESCRIPTION:V G Basketball Game @ North Jackson
URL:https://www.randolphschool.net/event/v-g-basketball-game-north-jackson-2/
LOCATION:North Jackson High School
END:VEVENT
BEGIN:VEVENT
DTSTART;TZID=America/Chicago:20200117T223000
DTEND;TZID=America/Chicago:20200117T223000
DTSTAMP:20260422T013518
CREATED:20200213T150405Z
LAST-MODIFIED:20200216T230813Z
UID:32984-1579300200-1579300200@www.randolphschool.net
SUMMARY:JV B Basketball Game @ North Jackson
DESCRIPTION:JV B Basketball Game @ North Jackson
URL:https://www.randolphschool.net/event/jv-b-basketball-game-north-jackson-2/
LOCATION:North Jackson High School
END:VEVENT
BEGIN:VEVENT
DTSTART;VALUE=DATE:20200117
DTEND;VALUE=DATE:20200118
DTSTAMP:20260422T013518
CREATED:20190903T201808Z
LAST-MODIFIED:20190903T201808Z
UID:28341-1579219200-1579305599@www.randolphschool.net
SUMMARY:V B Basketball Game @ North Jackson
DESCRIPTION:V B Basketball Game @ North Jackson
URL:https://www.randolphschool.net/event/v-b-basketball-game-north-jackson/
LOCATION:North Jackson High School
END:VEVENT
BEGIN:VEVENT
DTSTART;VALUE=DATE:20200117
DTEND;VALUE=DATE:20200118
DTSTAMP:20260422T013518
CREATED:20190903T201806Z
LAST-MODIFIED:20190903T201806Z
UID:28340-1579219200-1579305599@www.randolphschool.net
SUMMARY:JV B Basketball Game @ North Jackson
DESCRIPTION:JV B Basketball Game @ North Jackson
URL:https://www.randolphschool.net/event/jv-b-basketball-game-north-jackson/
LOCATION:North Jackson High School
END:VEVENT
BEGIN:VEVENT
DTSTART;VALUE=DATE:20200117
DTEND;VALUE=DATE:20200118
DTSTAMP:20260422T013518
CREATED:20190903T201804Z
LAST-MODIFIED:20190903T201804Z
UID:28339-1579219200-1579305599@www.randolphschool.net
SUMMARY:V G Basketball Game @ North Jackson
DESCRIPTION:V G Basketball Game @ North Jackson
URL:https://www.randolphschool.net/event/v-g-basketball-game-north-jackson/
LOCATION:North Jackson High School
END:VEVENT
BEGIN:VEVENT
DTSTART;TZID=America/Chicago:20200116T190000
DTEND;TZID=America/Chicago:20200116T200000
DTSTAMP:20260422T013518
CREATED:20200213T150403Z
LAST-MODIFIED:20200320T012035Z
UID:32983-1579201200-1579204800@www.randolphschool.net
SUMMARY:5/6 RAP BKB Game: B. White (White) v Whitesburg (A)
DESCRIPTION:5/6 RAP BKB Game: B. White (White) v Whitesburg (A)
URL:https://www.randolphschool.net/event/5-6-rap-bkb-game-b-white-white-v-whitesburg-a/
LOCATION:Knight-Lowe Gym
END:VEVENT
BEGIN:VEVENT
DTSTART;TZID=America/Chicago:20200116T180000
DTEND;TZID=America/Chicago:20200116T193000
DTSTAMP:20260422T013518
CREATED:20200213T150402Z
LAST-MODIFIED:20200320T012032Z
UID:32982-1579197600-1579203000@www.randolphschool.net
SUMMARY:K-12 Open House
DESCRIPTION:K-12 Open House
URL:https://www.randolphschool.net/event/k-12-open-house/
LOCATION:Garth & Drake Campuses
END:VEVENT
BEGIN:VEVENT
DTSTART;TZID=America/Chicago:20200116T180000
DTEND;TZID=America/Chicago:20200116T190000
DTSTAMP:20260422T013518
CREATED:20200213T150359Z
LAST-MODIFIED:20200320T012033Z
UID:32980-1579197600-1579201200@www.randolphschool.net
SUMMARY:5/6 RAP BKB Game: G. Gray (J. Smith) v Whitesburg (A)
DESCRIPTION:5/6 RAP BKB Game: G. Gray (J. Smith) v Whitesburg (A)
URL:https://www.randolphschool.net/event/5-6-rap-bkb-game-g-gray-j-smith-v-whitesburg-a/
LOCATION:Knight-Lowe Gym
END:VEVENT
BEGIN:VEVENT
DTSTART;TZID=America/Chicago:20200116T170000
DTEND;TZID=America/Chicago:20200116T180000
DTSTAMP:20260422T013518
CREATED:20200213T150358Z
LAST-MODIFIED:20200320T012031Z
UID:32979-1579194000-1579197600@www.randolphschool.net
SUMMARY:5/6 RAP BKB Game: B. Gray (Leo) v B. Navy (Schmitz)
DESCRIPTION:5/6 RAP BKB Game: B. Gray (Leo) v B. Navy (Schmitz)
URL:https://www.randolphschool.net/event/5-6-rap-bkb-game-b-gray-leo-v-b-navy-schmitz/
LOCATION:Drake Gym
END:VEVENT
BEGIN:VEVENT
DTSTART;TZID=America/Chicago:20200116T170000
DTEND;TZID=America/Chicago:20200116T180000
DTSTAMP:20260422T013518
CREATED:20200213T150356Z
LAST-MODIFIED:20200320T012029Z
UID:32978-1579194000-1579197600@www.randolphschool.net
SUMMARY:5/6 RAP BKB Game: B. Navy (Schmitz) v B. Gray (Leo)
DESCRIPTION:5/6 RAP BKB Game: B. Navy (Schmitz) v B. Gray (Leo)
URL:https://www.randolphschool.net/event/5-6-rap-bkb-game-b-navy-schmitz-v-b-gray-leo-41/
LOCATION:Knight-Lowe Gym
END:VEVENT
BEGIN:VEVENT
DTSTART;TZID=America/Chicago:20200115T013000
DTEND;TZID=America/Chicago:20200115T013000
DTSTAMP:20260422T013518
CREATED:20190903T201802Z
LAST-MODIFIED:20200217T190327Z
UID:28338-1579051800-1579051800@www.randolphschool.net
SUMMARY:V B Basketball Game @ DAR
DESCRIPTION:V B Basketball Game @ DAR
URL:https://www.randolphschool.net/event/v-b-basketball-game-dar/
LOCATION:Kate Duncan Smith DAR School
END:VEVENT
BEGIN:VEVENT
DTSTART;TZID=America/Chicago:20200115T010000
DTEND;TZID=America/Chicago:20200115T010000
DTSTAMP:20260422T013518
CREATED:20200211T221929Z
LAST-MODIFIED:20200217T190325Z
UID:32847-1579050000-1579050000@www.randolphschool.net
SUMMARY:MS B Basketball Game (8) v Central
DESCRIPTION:MS B Basketball Game (8) v Central
URL:https://www.randolphschool.net/event/ms-b-basketball-game-8-v-central/
LOCATION:TOC Court
END:VEVENT
BEGIN:VEVENT
DTSTART;TZID=America/Chicago:20200115T000000
DTEND;TZID=America/Chicago:20200115T000000
DTSTAMP:20260422T013518
CREATED:20190903T201801Z
LAST-MODIFIED:20200217T190318Z
UID:28337-1579046400-1579046400@www.randolphschool.net
SUMMARY:V G Basketball Game @ DAR
DESCRIPTION:V G Basketball Game @ DAR
URL:https://www.randolphschool.net/event/v-g-basketball-game-dar/
LOCATION:Kate Duncan Smith DAR School
END:VEVENT
BEGIN:VEVENT
DTSTART;TZID=America/Chicago:20200114T220000
DTEND;TZID=America/Chicago:20200114T220000
DTSTAMP:20260422T013518
CREATED:20200211T221913Z
LAST-MODIFIED:20200217T190313Z
UID:32840-1579039200-1579039200@www.randolphschool.net
SUMMARY:MS Indoor Track Meet (Full Team) @ Crossplex
DESCRIPTION:MS Indoor Track Meet (Full Team) @ Crossplex
URL:https://www.randolphschool.net/event/ms-indoor-track-meet-full-team-crossplex/
LOCATION:Birmingham Crossplex
END:VEVENT
BEGIN:VEVENT
DTSTART;TZID=America/Chicago:20200114T220000
DTEND;TZID=America/Chicago:20200114T220000
DTSTAMP:20260422T013518
CREATED:20200211T221911Z
LAST-MODIFIED:20200217T190312Z
UID:32839-1579039200-1579039200@www.randolphschool.net
SUMMARY:V Indoor Track Meet (Full Team) @ Crossplex
DESCRIPTION:V Indoor Track Meet (Full Team) @ Crossplex
URL:https://www.randolphschool.net/event/v-indoor-track-meet-full-team-crossplex/
LOCATION:Birmingham Crossplex
END:VEVENT
BEGIN:VEVENT
DTSTART;TZID=America/Chicago:20200114T190000
DTEND;TZID=America/Chicago:20200114T200000
DTSTAMP:20260422T013518
CREATED:20200211T221930Z
LAST-MODIFIED:20200320T012028Z
UID:32848-1579028400-1579032000@www.randolphschool.net
SUMMARY:5/6 RAP BKB Game: G. Navy (Batey) v Westminster (6)
DESCRIPTION:5/6 RAP BKB Game: G. Navy (Batey) v Westminster (6)
URL:https://www.randolphschool.net/event/5-6-rap-bkb-game-g-navy-batey-v-westminster-6/
LOCATION:Knight-Lowe Gym
END:VEVENT
BEGIN:VEVENT
DTSTART;TZID=America/Chicago:20200114T180000
DTEND;TZID=America/Chicago:20200114T190000
DTSTAMP:20260422T013518
CREATED:20200211T221927Z
LAST-MODIFIED:20200320T012027Z
UID:32846-1579024800-1579028400@www.randolphschool.net
SUMMARY:5/6 RAP BKB Game: G. Gray (J. Smith) v Westminster (5)
DESCRIPTION:5/6 RAP BKB Game: G. Gray (J. Smith) v Westminster (5)
URL:https://www.randolphschool.net/event/5-6-rap-bkb-game-g-gray-j-smith-v-westminster-5/
LOCATION:Knight-Lowe Gym
END:VEVENT
BEGIN:VEVENT
DTSTART;TZID=America/Chicago:20200114T180000
DTEND;TZID=America/Chicago:20200114T190000
DTSTAMP:20260422T013518
CREATED:20200211T221925Z
LAST-MODIFIED:20200320T012025Z
UID:32845-1579024800-1579028400@www.randolphschool.net
SUMMARY:MS G Basketball Game v Central
DESCRIPTION:MS G Basketball Game v Central
URL:https://www.randolphschool.net/event/ms-g-basketball-game-v-central-2/
LOCATION:TOC Court
END:VEVENT
BEGIN:VEVENT
DTSTART;TZID=America/Chicago:20200114T170000
DTEND;TZID=America/Chicago:20200114T180000
DTSTAMP:20260422T013518
CREATED:20200211T221922Z
LAST-MODIFIED:20200320T012023Z
UID:32843-1579021200-1579024800@www.randolphschool.net
SUMMARY:MS B Basketball Game (7) v Central
DESCRIPTION:MS B Basketball Game (7) v Central
URL:https://www.randolphschool.net/event/ms-b-basketball-game-7-v-central/
LOCATION:TOC Court
END:VEVENT
END:VCALENDAR