BEGIN:VCALENDAR
VERSION:2.0
PRODID:-//Randolph School - ECPv6.0.0.1//NONSGML v1.0//EN
CALSCALE:GREGORIAN
METHOD:PUBLISH
X-WR-CALNAME:Randolph School
X-ORIGINAL-URL:https://www.randolphschool.net
X-WR-CALDESC:Events for Randolph School
REFRESH-INTERVAL;VALUE=DURATION:PT1H
X-Robots-Tag:noindex
X-PUBLISHED-TTL:PT1H
BEGIN:VTIMEZONE
TZID:America/Chicago
BEGIN:DAYLIGHT
TZOFFSETFROM:-0600
TZOFFSETTO:-0500
TZNAME:CDT
DTSTART:20200308T080000
END:DAYLIGHT
BEGIN:STANDARD
TZOFFSETFROM:-0500
TZOFFSETTO:-0600
TZNAME:CST
DTSTART:20201101T070000
END:STANDARD
END:VTIMEZONE
BEGIN:VEVENT
DTSTART;VALUE=DATE:20200122
DTEND;VALUE=DATE:20200123
DTSTAMP:20260421T040820
CREATED:20200213T150512Z
LAST-MODIFIED:20200216T230931Z
UID:33008-1579651200-1579737599@www.randolphschool.net
SUMMARY:MS B Basketball County Tournament
DESCRIPTION:MS B Basketball County Tournament
URL:https://www.randolphschool.net/event/ms-b-basketball-county-tournament-2/
LOCATION:New Hope Elementary School (K-8)
END:VEVENT
BEGIN:VEVENT
DTSTART;VALUE=DATE:20200122
DTEND;VALUE=DATE:20200123
DTSTAMP:20260421T040820
CREATED:20190903T201825Z
LAST-MODIFIED:20190903T201825Z
UID:28350-1579651200-1579737599@www.randolphschool.net
SUMMARY:MS G Basketball County Tournament @ New Hope
DESCRIPTION:MS G Basketball County Tournament @ New Hope
URL:https://www.randolphschool.net/event/ms-g-basketball-county-tournament-new-hope-2/
LOCATION:New Hope Middle School
END:VEVENT
BEGIN:VEVENT
DTSTART;TZID=America/Chicago:20200121T230000
DTEND;TZID=America/Chicago:20200121T230000
DTSTAMP:20260421T040820
CREATED:20190903T201824Z
LAST-MODIFIED:20200216T230921Z
UID:28349-1579647600-1579647600@www.randolphschool.net
SUMMARY:JV B Basketball Game @ Crossville
DESCRIPTION:JV B Basketball Game @ Crossville
URL:https://www.randolphschool.net/event/jv-b-basketball-game-crossville/
LOCATION:Crossville High School
END:VEVENT
BEGIN:VEVENT
DTSTART;TZID=America/Chicago:20200121T180000
DTEND;TZID=America/Chicago:20200121T190000
DTSTAMP:20260421T040820
CREATED:20200213T150518Z
LAST-MODIFIED:20200320T020021Z
UID:33011-1579629600-1579633200@www.randolphschool.net
SUMMARY:5/6 RAP BKB Game: B. Gray (Leo) @ Oakwood
DESCRIPTION:5/6 RAP BKB Game: B. Gray (Leo) @ Oakwood
URL:https://www.randolphschool.net/event/5-6-rap-bkb-game-b-gray-leo-oakwood/
LOCATION:Oakwood Adventist Academy (K-12)
END:VEVENT
BEGIN:VEVENT
DTSTART;TZID=America/Chicago:20200121T180000
DTEND;TZID=America/Chicago:20200121T190000
DTSTAMP:20260421T040820
CREATED:20200213T150515Z
LAST-MODIFIED:20200320T020020Z
UID:33010-1579629600-1579633200@www.randolphschool.net
SUMMARY:5/6 RAP BKB Game: B. White (White) v Whitesburg (B)
DESCRIPTION:5/6 RAP BKB Game: B. White (White) v Whitesburg (B)
URL:https://www.randolphschool.net/event/5-6-rap-bkb-game-b-white-white-v-whitesburg-b/
LOCATION:Knight-Lowe Gym
END:VEVENT
BEGIN:VEVENT
DTSTART;TZID=America/Chicago:20200121T180000
DTEND;TZID=America/Chicago:20200121T190000
DTSTAMP:20260421T040820
CREATED:20200213T150513Z
LAST-MODIFIED:20200320T020008Z
UID:33009-1579629600-1579633200@www.randolphschool.net
SUMMARY:5/6 RAP BKB Game: G. Gray (J. Smith) @ Oakwood
DESCRIPTION:5/6 RAP BKB Game: G. Gray (J. Smith) @ Oakwood
URL:https://www.randolphschool.net/event/5-6-rap-bkb-game-g-gray-j-smith-oakwood/
LOCATION:Oakwood Adventist Academy (K-12)
END:VEVENT
BEGIN:VEVENT
DTSTART;TZID=America/Chicago:20200121T170000
DTEND;TZID=America/Chicago:20200121T180000
DTSTAMP:20260421T040820
CREATED:20200213T150503Z
LAST-MODIFIED:20200320T014032Z
UID:33007-1579626000-1579629600@www.randolphschool.net
SUMMARY:CANCELLED: 3/4 RAP BKB Game: B. White (Guasti) @ O
DESCRIPTION:CANCELLED: 3/4 RAP BKB Game: B. White (Guasti) @ O
URL:https://www.randolphschool.net/event/cancelled-3-4-rap-bkb-game-b-white-guasti-o/
LOCATION:Oakwood Adventist Academy (K-12)
END:VEVENT
BEGIN:VEVENT
DTSTART;TZID=America/Chicago:20200121T170000
DTEND;TZID=America/Chicago:20200121T180000
DTSTAMP:20260421T040820
CREATED:20200213T150501Z
LAST-MODIFIED:20200320T014030Z
UID:33006-1579626000-1579629600@www.randolphschool.net
SUMMARY:3/4 RAP BKB Game: G. White (Cook) v Westminster (B)
DESCRIPTION:3/4 RAP BKB Game: G. White (Cook) v Westminster (B)
URL:https://www.randolphschool.net/event/3-4-rap-bkb-game-g-white-cook-v-westminster-b/
LOCATION:Knight-Lowe Gym
END:VEVENT
BEGIN:VEVENT
DTSTART;TZID=America/Chicago:20200121T163000
DTEND;TZID=America/Chicago:20200121T180000
DTSTAMP:20260421T040820
CREATED:20200213T150456Z
LAST-MODIFIED:20200320T014028Z
UID:33004-1579624200-1579629600@www.randolphschool.net
SUMMARY:MSGBKBL Cty Tourn vs Whitesburg Chr Aca
DESCRIPTION:MSGBKBL Cty Tourn vs Whitesburg Chr Aca
URL:https://www.randolphschool.net/event/msgbkbl-cty-tourn-vs-whitesburg-chr-aca/
LOCATION:New Hope Elementary School (K-8)
END:VEVENT
BEGIN:VEVENT
DTSTART;TZID=America/Chicago:20200121T013000
DTEND;TZID=America/Chicago:20200121T013000
DTSTAMP:20260421T040820
CREATED:20200213T150453Z
LAST-MODIFIED:20200216T230918Z
UID:33003-1579570200-1579570200@www.randolphschool.net
SUMMARY:V B Basketball Game @ Decatur
DESCRIPTION:V B Basketball Game @ Decatur
URL:https://www.randolphschool.net/event/v-b-basketball-game-decatur-2/
LOCATION:Decatur High School
END:VEVENT
BEGIN:VEVENT
DTSTART;TZID=America/Chicago:20200121T000000
DTEND;TZID=America/Chicago:20200121T000000
DTSTAMP:20260421T040820
CREATED:20200213T150450Z
LAST-MODIFIED:20200216T230913Z
UID:33002-1579564800-1579564800@www.randolphschool.net
SUMMARY:V G Basketball Game @ Decatur
DESCRIPTION:V G Basketball Game @ Decatur
URL:https://www.randolphschool.net/event/v-g-basketball-game-decatur-2/
LOCATION:Decatur High School
END:VEVENT
BEGIN:VEVENT
DTSTART;VALUE=DATE:20200121
DTEND;VALUE=DATE:20200122
DTSTAMP:20260421T040820
CREATED:20200213T150448Z
LAST-MODIFIED:20200216T230901Z
UID:33001-1579564800-1579651199@www.randolphschool.net
SUMMARY:MS B Basketball County Tournament
DESCRIPTION:MS B Basketball County Tournament
URL:https://www.randolphschool.net/event/ms-b-basketball-county-tournament/
LOCATION:New Hope Elementary School (K-8)
END:VEVENT
BEGIN:VEVENT
DTSTART;VALUE=DATE:20200121
DTEND;VALUE=DATE:20200122
DTSTAMP:20260421T040820
CREATED:20190903T201822Z
LAST-MODIFIED:20190903T201822Z
UID:28347-1579564800-1579651199@www.randolphschool.net
SUMMARY:MS G Basketball County Tournament @ New Hope
DESCRIPTION:MS G Basketball County Tournament @ New Hope
URL:https://www.randolphschool.net/event/ms-g-basketball-county-tournament-new-hope/
LOCATION:New Hope Middle School
END:VEVENT
BEGIN:VEVENT
DTSTART;TZID=America/Chicago:20200120T223000
DTEND;TZID=America/Chicago:20200120T223000
DTSTAMP:20260421T040820
CREATED:20200213T150447Z
LAST-MODIFIED:20200216T230900Z
UID:33000-1579559400-1579559400@www.randolphschool.net
SUMMARY:CANCELLED: JV B Basketball Game @ Decatur
DESCRIPTION:CANCELLED: JV B Basketball Game @ Decatur
URL:https://www.randolphschool.net/event/cancelled-jv-b-basketball-game-decatur/
LOCATION:Decatur High School
END:VEVENT
BEGIN:VEVENT
DTSTART;TZID=America/Chicago:20200120T140000
DTEND;TZID=America/Chicago:20200120T140000
DTSTAMP:20260421T040820
CREATED:20200213T150445Z
LAST-MODIFIED:20200216T230858Z
UID:32999-1579528800-1579528800@www.randolphschool.net
SUMMARY:V Indoor Track Meet (MLK Invite) @ Crossplex
DESCRIPTION:V Indoor Track Meet (MLK Invite) @ Crossplex
URL:https://www.randolphschool.net/event/v-indoor-track-meet-mlk-invite-crossplex/
LOCATION:Birmingham Crossplex
END:VEVENT
BEGIN:VEVENT
DTSTART;TZID=America/Chicago:20200120T140000
DTEND;TZID=America/Chicago:20200120T140000
DTSTAMP:20260421T040820
CREATED:20200213T150443Z
LAST-MODIFIED:20200216T230856Z
UID:32998-1579528800-1579528800@www.randolphschool.net
SUMMARY:V Wrestling Match-Dick Clem Invitational
DESCRIPTION:V Wrestling Match-Dick Clem Invitational
URL:https://www.randolphschool.net/event/v-wrestling-match-dick-clem-invitational/
LOCATION:Bob Jones High School
END:VEVENT
BEGIN:VEVENT
DTSTART;VALUE=DATE:20200120
DTEND;VALUE=DATE:20200121
DTSTAMP:20260421T040820
CREATED:20190903T201821Z
LAST-MODIFIED:20200216T230851Z
UID:28346-1579478400-1579564799@www.randolphschool.net
SUMMARY:Martin Luther King\, Jr. Holiday
DESCRIPTION:Martin Luther King\, Jr. Holiday
URL:https://www.randolphschool.net/event/martin-luther-king-jr-holiday/
END:VEVENT
BEGIN:VEVENT
DTSTART;VALUE=DATE:20200120
DTEND;VALUE=DATE:20200121
DTSTAMP:20260421T040820
CREATED:20190903T201820Z
LAST-MODIFIED:20190903T201820Z
UID:28345-1579478400-1579564799@www.randolphschool.net
SUMMARY:V B Basketball Game @ Decatur
DESCRIPTION:V B Basketball Game @ Decatur
URL:https://www.randolphschool.net/event/v-b-basketball-game-decatur/
LOCATION:Decatur High School
END:VEVENT
BEGIN:VEVENT
DTSTART;VALUE=DATE:20200120
DTEND;VALUE=DATE:20200121
DTSTAMP:20260421T040820
CREATED:20190903T201817Z
LAST-MODIFIED:20190903T201817Z
UID:28344-1579478400-1579564799@www.randolphschool.net
SUMMARY:JV B Basketball Game @ Decatur
DESCRIPTION:JV B Basketball Game @ Decatur
URL:https://www.randolphschool.net/event/jv-b-basketball-game-decatur/
LOCATION:Decatur High School
END:VEVENT
BEGIN:VEVENT
DTSTART;VALUE=DATE:20200120
DTEND;VALUE=DATE:20200121
DTSTAMP:20260421T040820
CREATED:20190903T201816Z
LAST-MODIFIED:20190903T201816Z
UID:28343-1579478400-1579564799@www.randolphschool.net
SUMMARY:V G Basketball Game @ Decatur
DESCRIPTION:V G Basketball Game @ Decatur
URL:https://www.randolphschool.net/event/v-g-basketball-game-decatur/
LOCATION:Decatur High School
END:VEVENT
BEGIN:VEVENT
DTSTART;TZID=America/Chicago:20200118T150000
DTEND;TZID=America/Chicago:20200118T170000
DTSTAMP:20260421T040820
CREATED:20200213T150440Z
LAST-MODIFIED:20200320T014026Z
UID:32996-1579359600-1579366800@www.randolphschool.net
SUMMARY:CANCELLED: V B Basketball Game v Woodville
DESCRIPTION:CANCELLED: V B Basketball Game v Woodville
URL:https://www.randolphschool.net/event/cancelled-v-b-basketball-game-v-woodville/
LOCATION:TOC Court
END:VEVENT
BEGIN:VEVENT
DTSTART;TZID=America/Chicago:20200118T140000
DTEND;TZID=America/Chicago:20200118T140000
DTSTAMP:20260421T040820
CREATED:20200213T150419Z
LAST-MODIFIED:20200216T230824Z
UID:32988-1579356000-1579356000@www.randolphschool.net
SUMMARY:Wrestling Match-Tiger Invitational at Grissom High
DESCRIPTION:Wrestling Match-Tiger Invitational at Grissom High
URL:https://www.randolphschool.net/event/wrestling-match-tiger-invitational-at-grissom-high/
LOCATION:Grissom High School
END:VEVENT
BEGIN:VEVENT
DTSTART;TZID=America/Chicago:20200118T133000
DTEND;TZID=America/Chicago:20200118T150000
DTSTAMP:20260421T040820
CREATED:20200213T150434Z
LAST-MODIFIED:20200320T014024Z
UID:32995-1579354200-1579359600@www.randolphschool.net
SUMMARY:Cancelled:  V G Basketball Game v Woodville
DESCRIPTION:Cancelled:  V G Basketball Game v Woodville
URL:https://www.randolphschool.net/event/cancelled-v-g-basketball-game-v-woodville/
LOCATION:TOC Court
END:VEVENT
BEGIN:VEVENT
DTSTART;TZID=America/Chicago:20200118T120000
DTEND;TZID=America/Chicago:20200118T133000
DTSTAMP:20260421T040820
CREATED:20200213T150432Z
LAST-MODIFIED:20200320T014023Z
UID:32994-1579348800-1579354200@www.randolphschool.net
SUMMARY:CANCELLED: JV B Basketball Game v Woodville
DESCRIPTION:CANCELLED: JV B Basketball Game v Woodville
URL:https://www.randolphschool.net/event/cancelled-jv-b-basketball-game-v-woodville/
LOCATION:TOC Court
END:VEVENT
BEGIN:VEVENT
DTSTART;TZID=America/Chicago:20200118T120000
DTEND;TZID=America/Chicago:20200118T130000
DTSTAMP:20260421T040820
CREATED:20200213T150429Z
LAST-MODIFIED:20200320T014022Z
UID:32993-1579348800-1579352400@www.randolphschool.net
SUMMARY:3/4 RAP BKB Game: B. Gray (AJ Smith) v Whitesburg (A)
DESCRIPTION:3/4 RAP BKB Game: B. Gray (AJ Smith) v Whitesburg (A)
URL:https://www.randolphschool.net/event/3-4-rap-bkb-game-b-gray-aj-smith-v-whitesburg-a/
LOCATION:Knight-Lowe Gym
END:VEVENT
BEGIN:VEVENT
DTSTART;TZID=America/Chicago:20200118T110000
DTEND;TZID=America/Chicago:20200118T120000
DTSTAMP:20260421T040820
CREATED:20200213T150427Z
LAST-MODIFIED:20200320T014021Z
UID:32992-1579345200-1579348800@www.randolphschool.net
SUMMARY:3/4 RAP BKB Game: G. White (Cook) v Holy Family
DESCRIPTION:3/4 RAP BKB Game: G. White (Cook) v Holy Family
URL:https://www.randolphschool.net/event/3-4-rap-bkb-game-g-white-cook-v-holy-family/
LOCATION:Knight-Lowe Gym
END:VEVENT
BEGIN:VEVENT
DTSTART;TZID=America/Chicago:20200118T100000
DTEND;TZID=America/Chicago:20200118T110000
DTSTAMP:20260421T040820
CREATED:20200213T150425Z
LAST-MODIFIED:20200320T014019Z
UID:32991-1579341600-1579345200@www.randolphschool.net
SUMMARY:3/4 RAP BKB Game: B. White (Guasti) @ Holy Spirit
DESCRIPTION:3/4 RAP BKB Game: B. White (Guasti) @ Holy Spirit
URL:https://www.randolphschool.net/event/3-4-rap-bkb-game-b-white-guasti-holy-spirit/
LOCATION:Holy Spirit Regional Catholic School
END:VEVENT
BEGIN:VEVENT
DTSTART;TZID=America/Chicago:20200118T100000
DTEND;TZID=America/Chicago:20200118T110000
DTSTAMP:20260421T040820
CREATED:20200213T150423Z
LAST-MODIFIED:20200320T014018Z
UID:32990-1579341600-1579345200@www.randolphschool.net
SUMMARY:3/4 RAP BKB Game: B. Navy (Penney) v Whitesburg (B)
DESCRIPTION:3/4 RAP BKB Game: B. Navy (Penney) v Whitesburg (B)
URL:https://www.randolphschool.net/event/3-4-rap-bkb-game-b-navy-penney-v-whitesburg-b/
LOCATION:Knight-Lowe Gym
END:VEVENT
BEGIN:VEVENT
DTSTART;TZID=America/Chicago:20200118T090000
DTEND;TZID=America/Chicago:20200118T100000
DTSTAMP:20260421T040820
CREATED:20200213T150420Z
LAST-MODIFIED:20200320T014017Z
UID:32989-1579338000-1579341600@www.randolphschool.net
SUMMARY:3/4 RAP BKB Game: G. Navy (Antes) v Whitesburg (B)
DESCRIPTION:3/4 RAP BKB Game: G. Navy (Antes) v Whitesburg (B)
URL:https://www.randolphschool.net/event/3-4-rap-bkb-game-g-navy-antes-v-whitesburg-b/
LOCATION:Knight-Lowe Gym
END:VEVENT
BEGIN:VEVENT
DTSTART;TZID=America/Chicago:20200118T074500
DTEND;TZID=America/Chicago:20200118T130000
DTSTAMP:20260421T040820
CREATED:20190903T201814Z
LAST-MODIFIED:20200320T014014Z
UID:28342-1579333500-1579352400@www.randolphschool.net
SUMMARY:EdCamp
DESCRIPTION:EdCamp
URL:https://www.randolphschool.net/event/edcamp/
LOCATION:Drake Commons Cafe
END:VEVENT
END:VCALENDAR