BEGIN:VCALENDAR
VERSION:2.0
PRODID:-//Randolph School - ECPv6.0.0.1//NONSGML v1.0//EN
CALSCALE:GREGORIAN
METHOD:PUBLISH
X-WR-CALNAME:Randolph School
X-ORIGINAL-URL:https://www.randolphschool.net
X-WR-CALDESC:Events for Randolph School
REFRESH-INTERVAL;VALUE=DURATION:PT1H
X-Robots-Tag:noindex
X-PUBLISHED-TTL:PT1H
BEGIN:VTIMEZONE
TZID:America/Chicago
BEGIN:DAYLIGHT
TZOFFSETFROM:-0600
TZOFFSETTO:-0500
TZNAME:CDT
DTSTART:20240310T080000
END:DAYLIGHT
BEGIN:STANDARD
TZOFFSETFROM:-0500
TZOFFSETTO:-0600
TZNAME:CST
DTSTART:20241103T070000
END:STANDARD
END:VTIMEZONE
BEGIN:VEVENT
DTSTART;TZID=America/Chicago:20241125T163000
DTEND;TZID=America/Chicago:20241125T173000
DTSTAMP:20260423T160625
CREATED:20241012T215015Z
LAST-MODIFIED:20241012T215015Z
UID:80389-1732552200-1732555800@www.randolphschool.net
SUMMARY:JVB Basketball Game vs. Asbury
DESCRIPTION:JVB Basketball Game vs. Asbury
URL:https://www.randolphschool.net/event/jvb-basketball-game-vs-asbury/
LOCATION:TOC Court
END:VEVENT
BEGIN:VEVENT
DTSTART;TZID=America/Chicago:20241125T180000
DTEND;TZID=America/Chicago:20241125T190000
DTSTAMP:20260423T160625
CREATED:20241012T220005Z
LAST-MODIFIED:20241012T220005Z
UID:80390-1732557600-1732561200@www.randolphschool.net
SUMMARY:VG Basketball Game vs. Asbury
DESCRIPTION:VG Basketball Game vs. Asbury
URL:https://www.randolphschool.net/event/vg-basketball-game-vs-asbury/
LOCATION:TOC Court
END:VEVENT
END:VCALENDAR