BEGIN:VCALENDAR
VERSION:2.0
PRODID:-//Randolph School - ECPv6.0.0.1//NONSGML v1.0//EN
CALSCALE:GREGORIAN
METHOD:PUBLISH
X-ORIGINAL-URL:https://www.randolphschool.net
X-WR-CALDESC:Events for Randolph School
REFRESH-INTERVAL;VALUE=DURATION:PT1H
X-Robots-Tag:noindex
X-PUBLISHED-TTL:PT1H
BEGIN:VTIMEZONE
TZID:America/Chicago
BEGIN:DAYLIGHT
TZOFFSETFROM:-0600
TZOFFSETTO:-0500
TZNAME:CDT
DTSTART:20240310T080000
END:DAYLIGHT
BEGIN:STANDARD
TZOFFSETFROM:-0500
TZOFFSETTO:-0600
TZNAME:CST
DTSTART:20241103T070000
END:STANDARD
END:VTIMEZONE
BEGIN:VEVENT
DTSTART;TZID=America/Chicago:20240829T163000
DTEND;TZID=America/Chicago:20240829T173000
DTSTAMP:20260422T031734
CREATED:20240524T210012Z
LAST-MODIFIED:20240829T222012Z
UID:76496-1724949000-1724952600@www.randolphschool.net
SUMMARY:JV Volleyball Match @ JPII
DESCRIPTION:JV Volleyball Match @ JPII
URL:https://www.randolphschool.net/event/jv-volleyball-game-jpii/
LOCATION:St. John Paul II Catholic High School
END:VEVENT
BEGIN:VEVENT
DTSTART;TZID=America/Chicago:20240829T163000
DTEND;TZID=America/Chicago:20240829T173000
DTSTAMP:20260422T031734
CREATED:20240529T181010Z
LAST-MODIFIED:20240829T222011Z
UID:76641-1724949000-1724952600@www.randolphschool.net
SUMMARY:MS Volleyball (B) Game @ Westminster Christian
DESCRIPTION:MS Volleyball (B) Game @ Westminster Christian
URL:https://www.randolphschool.net/event/ms-volleyball-b-game-westminster-christian/
LOCATION:Westminster Christian Academy (6-12)
END:VEVENT
BEGIN:VEVENT
DTSTART;TZID=America/Chicago:20240829T173000
DTEND;TZID=America/Chicago:20240829T183000
DTSTAMP:20260422T031734
CREATED:20240524T200011Z
LAST-MODIFIED:20240829T232008Z
UID:76489-1724952600-1724956200@www.randolphschool.net
SUMMARY:V Volleyball Match @ JPII
DESCRIPTION:V Volleyball Match @ JPII
URL:https://www.randolphschool.net/event/v-volleyball-game-jpii/
LOCATION:St. John Paul II Catholic High School
END:VEVENT
BEGIN:VEVENT
DTSTART;TZID=America/Chicago:20240829T173000
DTEND;TZID=America/Chicago:20240829T183000
DTSTAMP:20260422T031734
CREATED:20240529T212007Z
LAST-MODIFIED:20240829T232009Z
UID:76650-1724952600-1724956200@www.randolphschool.net
SUMMARY:MS Volleyball (A) Game @ Westminster Christian
DESCRIPTION:MS Volleyball (A) Game @ Westminster Christian
URL:https://www.randolphschool.net/event/ms-volleyball-a-game-westminster-christian/
LOCATION:Westminster Christian Academy (6-12)
END:VEVENT
BEGIN:VEVENT
DTSTART;TZID=America/Chicago:20240829T190000
DTEND;TZID=America/Chicago:20240829T210000
DTSTAMP:20260422T031734
CREATED:20240815T161008Z
LAST-MODIFIED:20240830T015009Z
UID:78686-1724958000-1724965200@www.randolphschool.net
SUMMARY:Information Session for WashU\, Hopkins\, Emory and Notre Dame
DESCRIPTION:Information Session for WashU\, Hopkins\, Emory and Notre Dame
URL:https://www.randolphschool.net/event/information-session-for-washu-hopkins-emory-and-notre-dame/
LOCATION:Thurber Arts Center Auditorium
END:VEVENT
END:VCALENDAR