BEGIN:VCALENDAR
VERSION:2.0
PRODID:-//Randolph School - ECPv6.0.0.1//NONSGML v1.0//EN
CALSCALE:GREGORIAN
METHOD:PUBLISH
X-ORIGINAL-URL:https://www.randolphschool.net
X-WR-CALDESC:Events for Randolph School
REFRESH-INTERVAL;VALUE=DURATION:PT1H
X-Robots-Tag:noindex
X-PUBLISHED-TTL:PT1H
BEGIN:VTIMEZONE
TZID:America/Chicago
BEGIN:DAYLIGHT
TZOFFSETFROM:-0600
TZOFFSETTO:-0500
TZNAME:CDT
DTSTART:20240310T080000
END:DAYLIGHT
BEGIN:STANDARD
TZOFFSETFROM:-0500
TZOFFSETTO:-0600
TZNAME:CST
DTSTART:20241103T070000
END:STANDARD
END:VTIMEZONE
BEGIN:VEVENT
DTSTART;VALUE=DATE:20240610
DTEND;VALUE=DATE:20240611
DTSTAMP:20260422T031714
CREATED:20240508T172008Z
LAST-MODIFIED:20240523T185015Z
UID:76006-1717977600-1718063999@www.randolphschool.net
SUMMARY:Varsity/MS Girls Play Date @ Brewer
DESCRIPTION:Varsity/MS Girls Play Date @ Brewer
URL:https://www.randolphschool.net/event/varsity-ms-girls-play-date-brewer/
END:VEVENT
BEGIN:VEVENT
DTSTART;TZID=America/Chicago:20240610T113000
DTEND;TZID=America/Chicago:20240610T123000
DTSTAMP:20260422T031714
CREATED:20240507T161142Z
LAST-MODIFIED:20240510T160010Z
UID:75964-1718019000-1718022600@www.randolphschool.net
SUMMARY:V/JV Football: Lunch and Lead
DESCRIPTION:V/JV Football: Lunch and Lead
URL:https://www.randolphschool.net/event/v-jv-football-lunch-and-lead-2/
LOCATION:Garth Commons
END:VEVENT
BEGIN:VEVENT
DTSTART;TZID=America/Chicago:20240610T183000
DTEND;TZID=America/Chicago:20240610T203000
DTSTAMP:20260422T031714
CREATED:20240521T173006Z
LAST-MODIFIED:20240611T005007Z
UID:76364-1718044200-1718051400@www.randolphschool.net
SUMMARY:Randolph Sponsors Concerts in the Park
DESCRIPTION:Randolph Sponsors Concerts in the Park
URL:https://www.randolphschool.net/event/randolph-sponsors-concerts-in-the-park/
LOCATION:Big Spring Park
END:VEVENT
END:VCALENDAR