BEGIN:VCALENDAR
VERSION:2.0
PRODID:-//Randolph School - ECPv6.0.0.1//NONSGML v1.0//EN
CALSCALE:GREGORIAN
METHOD:PUBLISH
X-ORIGINAL-URL:https://www.randolphschool.net
X-WR-CALDESC:Events for Randolph School
REFRESH-INTERVAL;VALUE=DURATION:PT1H
X-Robots-Tag:noindex
X-PUBLISHED-TTL:PT1H
BEGIN:VTIMEZONE
TZID:America/Chicago
BEGIN:DAYLIGHT
TZOFFSETFROM:-0600
TZOFFSETTO:-0500
TZNAME:CDT
DTSTART:20240310T080000
END:DAYLIGHT
BEGIN:STANDARD
TZOFFSETFROM:-0500
TZOFFSETTO:-0600
TZNAME:CST
DTSTART:20241103T070000
END:STANDARD
END:VTIMEZONE
BEGIN:VEVENT
DTSTART;VALUE=DATE:20240504
DTEND;VALUE=DATE:20240505
DTSTAMP:20260422T031739
CREATED:20240419T090010Z
LAST-MODIFIED:20240501T153008Z
UID:75396-1714780800-1714867199@www.randolphschool.net
SUMMARY:Varsity Boys Soccer 3rd Rd. State Playoffs
DESCRIPTION:Varsity Boys Soccer 3rd Rd. State Playoffs
URL:https://www.randolphschool.net/event/varsity-boys-soccer-3rd-rd-state-playoffs-3/
END:VEVENT
BEGIN:VEVENT
DTSTART;VALUE=DATE:20240504
DTEND;VALUE=DATE:20240505
DTSTAMP:20260422T031739
CREATED:20240419T091006Z
LAST-MODIFIED:20240501T113006Z
UID:75397-1714780800-1714867199@www.randolphschool.net
SUMMARY:(V) Track AHSAA 5A State Championships
DESCRIPTION:(V) Track AHSAA 5A State Championships
URL:https://www.randolphschool.net/event/v-track-ahsaa-5a-state-championships-3/
LOCATION:Gulf Shores\, AL
END:VEVENT
BEGIN:VEVENT
DTSTART;VALUE=DATE:20240504
DTEND;VALUE=DATE:20240505
DTSTAMP:20260422T031739
CREATED:20240419T091008Z
LAST-MODIFIED:20240502T142012Z
UID:75398-1714780800-1714867199@www.randolphschool.net
SUMMARY:V Baseball Quaterfinals State Playoffs
DESCRIPTION:V Baseball Quaterfinals State Playoffs
URL:https://www.randolphschool.net/event/v-baseball-quaterfinals-state-playoffs-2/
END:VEVENT
END:VCALENDAR