BEGIN:VCALENDAR
VERSION:2.0
PRODID:-//Randolph School - ECPv6.0.0.1//NONSGML v1.0//EN
CALSCALE:GREGORIAN
METHOD:PUBLISH
X-ORIGINAL-URL:https://www.randolphschool.net
X-WR-CALDESC:Events for Randolph School
REFRESH-INTERVAL;VALUE=DURATION:PT1H
X-Robots-Tag:noindex
X-PUBLISHED-TTL:PT1H
BEGIN:VTIMEZONE
TZID:America/Chicago
BEGIN:DAYLIGHT
TZOFFSETFROM:-0600
TZOFFSETTO:-0500
TZNAME:CDT
DTSTART:20240310T080000
END:DAYLIGHT
BEGIN:STANDARD
TZOFFSETFROM:-0500
TZOFFSETTO:-0600
TZNAME:CST
DTSTART:20241103T070000
END:STANDARD
END:VTIMEZONE
BEGIN:VEVENT
DTSTART;VALUE=DATE:20240427
DTEND;VALUE=DATE:20240428
DTSTAMP:20260422T031745
CREATED:20240416T235010Z
LAST-MODIFIED:20240426T232009Z
UID:75283-1714176000-1714262399@www.randolphschool.net
SUMMARY:V Baseball Rd. 2 State Playoffs
DESCRIPTION:V Baseball Rd. 2 State Playoffs
URL:https://www.randolphschool.net/event/v-baseball-rd-2-state-playoffs-2/
END:VEVENT
BEGIN:VEVENT
DTSTART;VALUE=DATE:20240427
DTEND;VALUE=DATE:20240428
DTSTAMP:20260422T031745
CREATED:20240417T015010Z
LAST-MODIFIED:20240423T145008Z
UID:75293-1714176000-1714262399@www.randolphschool.net
SUMMARY:(V) Track AHSAA Sec 5 Championships
DESCRIPTION:(V) Track AHSAA Sec 5 Championships
URL:https://www.randolphschool.net/event/v-track-ahsaa-sec-5-championships-2/
LOCATION:Scottsboro\, AL
END:VEVENT
BEGIN:VEVENT
DTSTART;VALUE=DATE:20240427
DTEND;VALUE=DATE:20240428
DTSTAMP:20260422T031745
CREATED:20240423T155009Z
LAST-MODIFIED:20240426T232007Z
UID:75552-1714176000-1714262399@www.randolphschool.net
SUMMARY:V Track AHSAA Sectionals  Championships
DESCRIPTION:V Track AHSAA Sectionals  Championships
URL:https://www.randolphschool.net/event/v-track-ahsaa-sectionals-championships/
LOCATION:Scottsboro\, AL
END:VEVENT
END:VCALENDAR