BEGIN:VCALENDAR
VERSION:2.0
PRODID:-//Randolph School - ECPv6.0.0.1//NONSGML v1.0//EN
CALSCALE:GREGORIAN
METHOD:PUBLISH
X-WR-CALNAME:Randolph School
X-ORIGINAL-URL:https://www.randolphschool.net
X-WR-CALDESC:Events for Randolph School
REFRESH-INTERVAL;VALUE=DURATION:PT1H
X-Robots-Tag:noindex
X-PUBLISHED-TTL:PT1H
BEGIN:VTIMEZONE
TZID:America/Chicago
BEGIN:DAYLIGHT
TZOFFSETFROM:-0600
TZOFFSETTO:-0500
TZNAME:CDT
DTSTART:20240310T080000
END:DAYLIGHT
BEGIN:STANDARD
TZOFFSETFROM:-0500
TZOFFSETTO:-0600
TZNAME:CST
DTSTART:20241103T070000
END:STANDARD
END:VTIMEZONE
BEGIN:VEVENT
DTSTART;TZID=America/Chicago:20240425T170000
DTEND;TZID=America/Chicago:20240425T190000
DTSTAMP:20260422T192941
CREATED:20240416T235007Z
LAST-MODIFIED:20240425T233010Z
UID:75280-1714064400-1714071600@www.randolphschool.net
SUMMARY:V Softball Game @ Mae Jemison
DESCRIPTION:V Softball Game @ Mae Jemison
URL:https://www.randolphschool.net/event/v-softball-game-mae-jemison-3/
LOCATION:Mae Jemison High School
END:VEVENT
END:VCALENDAR