BEGIN:VCALENDAR
VERSION:2.0
PRODID:-//Randolph School - ECPv6.0.0.1//NONSGML v1.0//EN
CALSCALE:GREGORIAN
METHOD:PUBLISH
X-ORIGINAL-URL:https://www.randolphschool.net
X-WR-CALDESC:Events for Randolph School
REFRESH-INTERVAL;VALUE=DURATION:PT1H
X-Robots-Tag:noindex
X-PUBLISHED-TTL:PT1H
BEGIN:VTIMEZONE
TZID:America/Chicago
BEGIN:DAYLIGHT
TZOFFSETFROM:-0600
TZOFFSETTO:-0500
TZNAME:CDT
DTSTART:20240310T080000
END:DAYLIGHT
BEGIN:STANDARD
TZOFFSETFROM:-0500
TZOFFSETTO:-0600
TZNAME:CST
DTSTART:20241103T070000
END:STANDARD
END:VTIMEZONE
BEGIN:VEVENT
DTSTART;TZID=America/Chicago:20240206T170000
DTEND;TZID=America/Chicago:20240206T190000
DTSTAMP:20260422T031725
CREATED:20240117T073015Z
LAST-MODIFIED:20240206T235008Z
UID:72204-1707238800-1707246000@www.randolphschool.net
SUMMARY:JVB Soccer Game @ Grissom HS @ 5:00 pm
DESCRIPTION:JVB Soccer Game @ Grissom HS @ 5:00 pm
URL:https://www.randolphschool.net/event/jv-boys-soccer-game-grissom-hs-500-pm/
LOCATION:Grissom High School
END:VEVENT
BEGIN:VEVENT
DTSTART;TZID=America/Chicago:20240206T190000
DTEND;TZID=America/Chicago:20240206T210000
DTSTAMP:20260422T031725
CREATED:20240122T195019Z
LAST-MODIFIED:20240207T020008Z
UID:72374-1707246000-1707253200@www.randolphschool.net
SUMMARY:Varsity Boys Soccer Game @ Grissom HS 7:00 pm
DESCRIPTION:Varsity Boys Soccer Game @ Grissom HS 7:00 pm
URL:https://www.randolphschool.net/event/varsity-boys-soccer-game-girssom-hs-700-pm/
LOCATION:Grissom High School
END:VEVENT
END:VCALENDAR