BEGIN:VCALENDAR
VERSION:2.0
PRODID:-//Randolph School - ECPv6.0.0.1//NONSGML v1.0//EN
CALSCALE:GREGORIAN
METHOD:PUBLISH
X-WR-CALNAME:Randolph School
X-ORIGINAL-URL:https://www.randolphschool.net
X-WR-CALDESC:Events for Randolph School
REFRESH-INTERVAL;VALUE=DURATION:PT1H
X-Robots-Tag:noindex
X-PUBLISHED-TTL:PT1H
BEGIN:VTIMEZONE
TZID:America/Chicago
BEGIN:DAYLIGHT
TZOFFSETFROM:-0600
TZOFFSETTO:-0500
TZNAME:CDT
DTSTART:20230312T080000
END:DAYLIGHT
BEGIN:STANDARD
TZOFFSETFROM:-0500
TZOFFSETTO:-0600
TZNAME:CST
DTSTART:20231105T070000
END:STANDARD
END:VTIMEZONE
BEGIN:VEVENT
DTSTART;TZID=America/Chicago:20231106T160000
DTEND;TZID=America/Chicago:20231106T174500
DTSTAMP:20260421T095429
CREATED:20231008T035009Z
LAST-MODIFIED:20231106T225013Z
UID:69232-1699286400-1699292700@www.randolphschool.net
SUMMARY:MSB Basketball Game (B) @ Madison County
DESCRIPTION:MSB Basketball Game (B) @ Madison County
URL:https://www.randolphschool.net/event/msb-basketball-game-b-madison-county/
LOCATION:Madison County Elementary School (K-8)
END:VEVENT
BEGIN:VEVENT
DTSTART;TZID=America/Chicago:20231106T160000
DTEND;TZID=America/Chicago:20231106T180000
DTSTAMP:20260421T095429
CREATED:20231008T034017Z
LAST-MODIFIED:20231106T235016Z
UID:69230-1699286400-1699293600@www.randolphschool.net
SUMMARY:VG Bowling Match vs. Oakwood @ Pin Palace
DESCRIPTION:VG Bowling Match vs. Oakwood @ Pin Palace
URL:https://www.randolphschool.net/event/vg-bowling-match-vs-oakwood-pin-palace-2/
LOCATION:AMF Pin Palace Lanes
END:VEVENT
BEGIN:VEVENT
DTSTART;TZID=America/Chicago:20231106T160000
DTEND;TZID=America/Chicago:20231106T180000
DTSTAMP:20260421T095429
CREATED:20231018T111016Z
LAST-MODIFIED:20231106T235014Z
UID:69524-1699286400-1699293600@www.randolphschool.net
SUMMARY:VB Bowling Match vs. Oakwood @ Pin Place
DESCRIPTION:VB Bowling Match vs. Oakwood @ Pin Place
URL:https://www.randolphschool.net/event/vb-bowling-match-vs-oakwood-pin-place-2/
LOCATION:AMF Pin Palace Lanes
END:VEVENT
BEGIN:VEVENT
DTSTART;TZID=America/Chicago:20231106T170000
DTEND;TZID=America/Chicago:20231106T190000
DTSTAMP:20260421T095429
CREATED:20231008T034019Z
LAST-MODIFIED:20231030T162012Z
UID:69231-1699290000-1699297200@www.randolphschool.net
SUMMARY:MSB Basketball Game (A) @ Madison County
DESCRIPTION:MSB Basketball Game (A) @ Madison County
URL:https://www.randolphschool.net/event/msb-basketball-game-a-madison-county-2/
LOCATION:Madison County Elementary School (K-8)
END:VEVENT
BEGIN:VEVENT
DTSTART;TZID=America/Chicago:20231106T173000
DTEND;TZID=America/Chicago:20231106T183000
DTSTAMP:20260421T095429
CREATED:20231102T171018Z
LAST-MODIFIED:20231106T235019Z
UID:69977-1699291800-1699295400@www.randolphschool.net
SUMMARY:JVG BBKBL vs Brooks
DESCRIPTION:JVG BBKBL vs Brooks
URL:https://www.randolphschool.net/event/jvg-bbkbl-vs-brooks/
LOCATION:Brooks High School
END:VEVENT
BEGIN:VEVENT
DTSTART;TZID=America/Chicago:20231106T180000
DTEND;TZID=America/Chicago:20231106T190000
DTSTAMP:20260421T095429
CREATED:20231101T161014Z
LAST-MODIFIED:20231107T005009Z
UID:69942-1699293600-1699297200@www.randolphschool.net
SUMMARY:VG BBKBL vs.Brooks
DESCRIPTION:VG BBKBL vs.Brooks
URL:https://www.randolphschool.net/event/vg-bbkbl-vs-brooks/
LOCATION:Brooks High School
END:VEVENT
END:VCALENDAR