BEGIN:VCALENDAR
VERSION:2.0
PRODID:-//Randolph School - ECPv6.0.0.1//NONSGML v1.0//EN
CALSCALE:GREGORIAN
METHOD:PUBLISH
X-ORIGINAL-URL:https://www.randolphschool.net
X-WR-CALDESC:Events for Randolph School
REFRESH-INTERVAL;VALUE=DURATION:PT1H
X-Robots-Tag:noindex
X-PUBLISHED-TTL:PT1H
BEGIN:VTIMEZONE
TZID:America/Chicago
BEGIN:DAYLIGHT
TZOFFSETFROM:-0600
TZOFFSETTO:-0500
TZNAME:CDT
DTSTART:20200308T080000
END:DAYLIGHT
BEGIN:STANDARD
TZOFFSETFROM:-0500
TZOFFSETTO:-0600
TZNAME:CST
DTSTART:20201101T070000
END:STANDARD
END:VTIMEZONE
BEGIN:VEVENT
DTSTART;VALUE=DATE:20200403
DTEND;VALUE=DATE:20200404
DTSTAMP:20260424T161238
CREATED:20190903T202033Z
LAST-MODIFIED:20200721T234024Z
UID:28409-1585872000-1585958399@www.randolphschool.net
SUMMARY:Spring Break
DESCRIPTION:Spring Break
URL:https://www.randolphschool.net/event/spring-break-40/
END:VEVENT
BEGIN:VEVENT
DTSTART;VALUE=DATE:20200403
DTEND;VALUE=DATE:20200404
DTSTAMP:20260424T161238
CREATED:20200213T151320Z
LAST-MODIFIED:20200721T234018Z
UID:33278-1585872000-1585958399@www.randolphschool.net
SUMMARY:CANCELLED: V Baseball Tournament @ Fairview
DESCRIPTION:CANCELLED: V Baseball Tournament @ Fairview
URL:https://www.randolphschool.net/event/v-baseball-tournament-fairview/
LOCATION:Fairview High School
END:VEVENT
BEGIN:VEVENT
DTSTART;VALUE=DATE:20200403
DTEND;VALUE=DATE:20200404
DTSTAMP:20260424T161238
CREATED:20200213T151322Z
LAST-MODIFIED:20200721T234026Z
UID:33279-1585872000-1585958399@www.randolphschool.net
SUMMARY:CANCELLED: VB Soccer Southern Coast Cup @ Gulf Sho
DESCRIPTION:CANCELLED: VB Soccer Southern Coast Cup @ Gulf Sho
URL:https://www.randolphschool.net/event/vb-soccer-southern-coast-cup-gulf-shores-2/
LOCATION:Gulf Shores
END:VEVENT
BEGIN:VEVENT
DTSTART;VALUE=DATE:20200403
DTEND;VALUE=DATE:20200404
DTSTAMP:20260424T161238
CREATED:20200213T151323Z
LAST-MODIFIED:20200721T234020Z
UID:33280-1585872000-1585958399@www.randolphschool.net
SUMMARY:CANCELLED: VG Soccer Southern Coast Cup @ Gulf Sho
DESCRIPTION:CANCELLED: VG Soccer Southern Coast Cup @ Gulf Sho
URL:https://www.randolphschool.net/event/vg-soccer-southern-coast-cup-gulf-shores-2/
LOCATION:Gulf Shores
END:VEVENT
END:VCALENDAR