BEGIN:VCALENDAR
VERSION:2.0
PRODID:-//Randolph School - ECPv6.0.0.1//NONSGML v1.0//EN
CALSCALE:GREGORIAN
METHOD:PUBLISH
X-ORIGINAL-URL:https://www.randolphschool.net
X-WR-CALDESC:Events for Randolph School
REFRESH-INTERVAL;VALUE=DURATION:PT1H
X-Robots-Tag:noindex
X-PUBLISHED-TTL:PT1H
BEGIN:VTIMEZONE
TZID:America/Chicago
BEGIN:DAYLIGHT
TZOFFSETFROM:-0600
TZOFFSETTO:-0500
TZNAME:CDT
DTSTART:20200308T080000
END:DAYLIGHT
BEGIN:STANDARD
TZOFFSETFROM:-0500
TZOFFSETTO:-0600
TZNAME:CST
DTSTART:20201101T070000
END:STANDARD
END:VTIMEZONE
BEGIN:VEVENT
DTSTART;VALUE=DATE:20200402
DTEND;VALUE=DATE:20200403
DTSTAMP:20260424T161240
CREATED:20190903T202031Z
LAST-MODIFIED:20200721T231026Z
UID:28408-1585785600-1585871999@www.randolphschool.net
SUMMARY:Spring Break
DESCRIPTION:Spring Break
URL:https://www.randolphschool.net/event/spring-break-39/
END:VEVENT
BEGIN:VEVENT
DTSTART;VALUE=DATE:20200402
DTEND;VALUE=DATE:20200403
DTSTAMP:20260424T161240
CREATED:20200213T151314Z
LAST-MODIFIED:20200721T231026Z
UID:33273-1585785600-1585871999@www.randolphschool.net
SUMMARY:CANCELLED: VB Soccer Southern Coast Cup @ Gulf Sho
DESCRIPTION:CANCELLED: VB Soccer Southern Coast Cup @ Gulf Sho
URL:https://www.randolphschool.net/event/vb-soccer-southern-coast-cup-gulf-shores/
LOCATION:Gulf Shores
END:VEVENT
BEGIN:VEVENT
DTSTART;VALUE=DATE:20200402
DTEND;VALUE=DATE:20200403
DTSTAMP:20260424T161240
CREATED:20200213T151315Z
LAST-MODIFIED:20200721T231027Z
UID:33274-1585785600-1585871999@www.randolphschool.net
SUMMARY:CANCELLED: VG Soccer Southern Coast Cup @ Gulf Sho
DESCRIPTION:CANCELLED: VG Soccer Southern Coast Cup @ Gulf Sho
URL:https://www.randolphschool.net/event/vg-soccer-southern-coast-cup-gulf-shores/
LOCATION:Gulf Shores
END:VEVENT
BEGIN:VEVENT
DTSTART;TZID=America/Chicago:20200402T150000
DTEND;TZID=America/Chicago:20200402T170000
DTSTAMP:20260424T161240
CREATED:20200213T151317Z
LAST-MODIFIED:20200721T234023Z
UID:33276-1585839600-1585846800@www.randolphschool.net
SUMMARY:CANCELLED: JV Baseball Game @ Fairview
DESCRIPTION:CANCELLED: JV Baseball Game @ Fairview
URL:https://www.randolphschool.net/event/jv-baseball-game-fairview-2/
LOCATION:Fairview High School
END:VEVENT
BEGIN:VEVENT
DTSTART;TZID=America/Chicago:20200402T170000
DTEND;TZID=America/Chicago:20200402T200000
DTSTAMP:20260424T161240
CREATED:20200213T151318Z
LAST-MODIFIED:20200721T234022Z
UID:33277-1585846800-1585857600@www.randolphschool.net
SUMMARY:CANCELLED: JV Baseball Game vs. West Point @ Fairv
DESCRIPTION:CANCELLED: JV Baseball Game vs. West Point @ Fairv
URL:https://www.randolphschool.net/event/jv-baseball-game-vs-west-point-fairview/
LOCATION:Fairview High School
END:VEVENT
END:VCALENDAR