BEGIN:VCALENDAR
VERSION:2.0
PRODID:-//Randolph School - ECPv6.0.0.1//NONSGML v1.0//EN
CALSCALE:GREGORIAN
METHOD:PUBLISH
X-WR-CALNAME:Randolph School
X-ORIGINAL-URL:https://www.randolphschool.net
X-WR-CALDESC:Events for Randolph School
REFRESH-INTERVAL;VALUE=DURATION:PT1H
X-Robots-Tag:noindex
X-PUBLISHED-TTL:PT1H
BEGIN:VTIMEZONE
TZID:America/Chicago
BEGIN:DAYLIGHT
TZOFFSETFROM:-0600
TZOFFSETTO:-0500
TZNAME:CDT
DTSTART:20200308T080000
END:DAYLIGHT
BEGIN:STANDARD
TZOFFSETFROM:-0500
TZOFFSETTO:-0600
TZNAME:CST
DTSTART:20201101T070000
END:STANDARD
END:VTIMEZONE
BEGIN:VEVENT
DTSTART;TZID=America/Chicago:20200321T090000
DTEND;TZID=America/Chicago:20200321T170000
DTSTAMP:20260424T161251
CREATED:20200213T151259Z
LAST-MODIFIED:20200722T102010Z
UID:33261-1584781200-1584810000@www.randolphschool.net
SUMMARY:CANCELLED: V Outdoor Track Meet @ James Clemens
DESCRIPTION:CANCELLED: V Outdoor Track Meet @ James Clemens
URL:https://www.randolphschool.net/event/v-outdoor-track-meet-james-clemens/
LOCATION:James Clemens High School
END:VEVENT
BEGIN:VEVENT
DTSTART;TZID=America/Chicago:20200321T110000
DTEND;TZID=America/Chicago:20200321T130000
DTSTAMP:20260424T161251
CREATED:20200213T151301Z
LAST-MODIFIED:20200722T102023Z
UID:33262-1584788400-1584795600@www.randolphschool.net
SUMMARY:CANCELLED: V Baseball Game vs. Priceville
DESCRIPTION:CANCELLED: V Baseball Game vs. Priceville
URL:https://www.randolphschool.net/event/v-baseball-game-vs-priceville/
LOCATION:Garth Baseball Field
END:VEVENT
BEGIN:VEVENT
DTSTART;TZID=America/Chicago:20200321T130000
DTEND;TZID=America/Chicago:20200321T153000
DTSTAMP:20260424T161251
CREATED:20200213T151304Z
LAST-MODIFIED:20200722T102022Z
UID:33263-1584795600-1584804600@www.randolphschool.net
SUMMARY:CANCELLED: JV Baseball Game vs. Priceville
DESCRIPTION:CANCELLED: JV Baseball Game vs. Priceville
URL:https://www.randolphschool.net/event/jv-baseball-game-vs-priceville/
LOCATION:Garth Baseball Field
END:VEVENT
END:VCALENDAR