BEGIN:VCALENDAR
VERSION:2.0
PRODID:-//Randolph School - ECPv6.0.0.1//NONSGML v1.0//EN
CALSCALE:GREGORIAN
METHOD:PUBLISH
X-WR-CALNAME:Randolph School
X-ORIGINAL-URL:https://www.randolphschool.net
X-WR-CALDESC:Events for Randolph School
REFRESH-INTERVAL;VALUE=DURATION:PT1H
X-Robots-Tag:noindex
X-PUBLISHED-TTL:PT1H
BEGIN:VTIMEZONE
TZID:America/Chicago
BEGIN:DAYLIGHT
TZOFFSETFROM:-0600
TZOFFSETTO:-0500
TZNAME:CDT
DTSTART:20200308T080000
END:DAYLIGHT
BEGIN:STANDARD
TZOFFSETFROM:-0500
TZOFFSETTO:-0600
TZNAME:CST
DTSTART:20201101T070000
END:STANDARD
END:VTIMEZONE
BEGIN:VEVENT
DTSTART;TZID=America/Chicago:20200320T170000
DTEND;TZID=America/Chicago:20200320T190000
DTSTAMP:20260424T143529
CREATED:20200320T035042Z
LAST-MODIFIED:20200722T095041Z
UID:34933-1584723600-1584730800@www.randolphschool.net
SUMMARY:CANCELLED: V Softball Game vs. Lee
DESCRIPTION:CANCELLED: V Softball Game vs. Lee
URL:https://www.randolphschool.net/event/cancelled-v-softball-game-vs-lee/
LOCATION:Garth Softball Field
END:VEVENT
BEGIN:VEVENT
DTSTART;TZID=America/Chicago:20200320T190000
DTEND;TZID=America/Chicago:20200320T210000
DTSTAMP:20260424T143529
CREATED:20200213T151257Z
LAST-MODIFIED:20200218T013507Z
UID:33260-1584730800-1584738000@www.randolphschool.net
SUMMARY:Huntsville Community Chorus Concert
DESCRIPTION:Huntsville Community Chorus Concert
URL:https://www.randolphschool.net/event/huntsville-community-chorus-concert/
LOCATION:Thurber Arts Center Auditorium
END:VEVENT
BEGIN:VEVENT
DTSTART;TZID=America/Chicago:20200320T213000
DTEND;TZID=America/Chicago:20200320T213000
DTSTAMP:20260424T143529
CREATED:20200213T151255Z
LAST-MODIFIED:20200722T095040Z
UID:33259-1584739800-1584739800@www.randolphschool.net
SUMMARY:CANCELLED: MS Baseball Game vs. Madison County
DESCRIPTION:CANCELLED: MS Baseball Game vs. Madison County
URL:https://www.randolphschool.net/event/ms-baseball-game-vs-madison-county/
LOCATION:Garth Baseball Field
END:VEVENT
END:VCALENDAR