BEGIN:VCALENDAR
VERSION:2.0
PRODID:-//Randolph School - ECPv6.0.0.1//NONSGML v1.0//EN
CALSCALE:GREGORIAN
METHOD:PUBLISH
X-ORIGINAL-URL:https://www.randolphschool.net
X-WR-CALDESC:Events for Randolph School
REFRESH-INTERVAL;VALUE=DURATION:PT1H
X-Robots-Tag:noindex
X-PUBLISHED-TTL:PT1H
BEGIN:VTIMEZONE
TZID:America/Chicago
BEGIN:DAYLIGHT
TZOFFSETFROM:-0600
TZOFFSETTO:-0500
TZNAME:CDT
DTSTART:20200308T080000
END:DAYLIGHT
BEGIN:STANDARD
TZOFFSETFROM:-0500
TZOFFSETTO:-0600
TZNAME:CST
DTSTART:20201101T070000
END:STANDARD
END:VTIMEZONE
BEGIN:VEVENT
DTSTART;TZID=America/Chicago:20200312T160000
DTEND;TZID=America/Chicago:20200312T200000
DTSTAMP:20260424T112343
CREATED:20200213T151159Z
LAST-MODIFIED:20200320T034928Z
UID:33225-1584028800-1584043200@www.randolphschool.net
SUMMARY:CANCELLED: 7th-9th Outdoor Track Meet @ Bob Jones
DESCRIPTION:CANCELLED: 7th-9th Outdoor Track Meet @ Bob Jones
URL:https://www.randolphschool.net/event/7th-9th-outdoor-track-meet-bob-jones-high-school/
LOCATION:Bob Jones High School
END:VEVENT
BEGIN:VEVENT
DTSTART;TZID=America/Chicago:20200312T160000
DTEND;TZID=America/Chicago:20200312T200000
DTSTAMP:20260424T112343
CREATED:20200320T034929Z
LAST-MODIFIED:20200320T034929Z
UID:34907-1584028800-1584043200@www.randolphschool.net
SUMMARY:CANCELLED: 7th-9th Outdoor Track Meet @ Bob Jones
DESCRIPTION:CANCELLED: 7th-9th Outdoor Track Meet @ Bob Jones
URL:https://www.randolphschool.net/event/cancelled-7th-9th-outdoor-track-meet-bob-jones/
LOCATION:Bob Jones High School
END:VEVENT
BEGIN:VEVENT
DTSTART;TZID=America/Chicago:20200312T163000
DTEND;TZID=America/Chicago:20200312T183000
DTSTAMP:20260424T112343
CREATED:20200213T151202Z
LAST-MODIFIED:20200320T034931Z
UID:33227-1584030600-1584037800@www.randolphschool.net
SUMMARY:V Baseball Game @ Decatur Heritage
DESCRIPTION:V Baseball Game @ Decatur Heritage
URL:https://www.randolphschool.net/event/v-baseball-game-decatur-heritage/
LOCATION:Decatur Heritage Christian Academy (K-12)
END:VEVENT
BEGIN:VEVENT
DTSTART;TZID=America/Chicago:20200312T170000
DTEND;TZID=America/Chicago:20200312T190000
DTSTAMP:20260424T112343
CREATED:20190903T201940Z
LAST-MODIFIED:20200320T034933Z
UID:28394-1584032400-1584039600@www.randolphschool.net
SUMMARY:V Softball Game vs. Jemison
DESCRIPTION:V Softball Game vs. Jemison
URL:https://www.randolphschool.net/event/500pm-home-vsb-6/
LOCATION:Garth Softball Field
END:VEVENT
BEGIN:VEVENT
DTSTART;TZID=America/Chicago:20200312T183000
DTEND;TZID=America/Chicago:20200312T203000
DTSTAMP:20260424T112343
CREATED:20200213T151206Z
LAST-MODIFIED:20200320T034934Z
UID:33230-1584037800-1584045000@www.randolphschool.net
SUMMARY:JV Baseball Game @ Decatur Heritage
DESCRIPTION:JV Baseball Game @ Decatur Heritage
URL:https://www.randolphschool.net/event/jv-baseball-game-decatur-heritage/
LOCATION:Decatur Heritage Christian Academy (K-12)
END:VEVENT
BEGIN:VEVENT
DTSTART;TZID=America/Chicago:20200312T190000
DTEND;TZID=America/Chicago:20200312T203000
DTSTAMP:20260424T112343
CREATED:20200213T151209Z
LAST-MODIFIED:20200320T034936Z
UID:33232-1584039600-1584045000@www.randolphschool.net
SUMMARY:5/6 Play: The Lion\, The Witch\, and The Wardrobe
DESCRIPTION:5/6 Play: The Lion\, The Witch\, and The Wardrobe
URL:https://www.randolphschool.net/event/5-6-play-the-lion-the-witch-and-the-wardrobe/
LOCATION:Rhett Fine Arts Center Auditorium
END:VEVENT
BEGIN:VEVENT
DTSTART;TZID=America/Chicago:20200312T213000
DTEND;TZID=America/Chicago:20200312T213000
DTSTAMP:20260424T112343
CREATED:20200213T151200Z
LAST-MODIFIED:20200216T231841Z
UID:33226-1584048600-1584048600@www.randolphschool.net
SUMMARY:MS Baseball Game vs. Whitesburg Christian (DH)
DESCRIPTION:MS Baseball Game vs. Whitesburg Christian (DH)
URL:https://www.randolphschool.net/event/ms-baseball-game-vs-whitesburg-christian-dh/
LOCATION:Garth Baseball Field
END:VEVENT
BEGIN:VEVENT
DTSTART;TZID=America/Chicago:20200312T220000
DTEND;TZID=America/Chicago:20200312T220000
DTSTAMP:20260424T112343
CREATED:20200213T151203Z
LAST-MODIFIED:20200216T231846Z
UID:33228-1584050400-1584050400@www.randolphschool.net
SUMMARY:CANCELLED: MS Baseball Game vs. Brindlee Mountain
DESCRIPTION:CANCELLED: MS Baseball Game vs. Brindlee Mountain
URL:https://www.randolphschool.net/event/cancelled-ms-baseball-game-vs-brindlee-mountain/
LOCATION:Garth Baseball Field
END:VEVENT
END:VCALENDAR