BEGIN:VCALENDAR
VERSION:2.0
PRODID:-//Randolph School - ECPv6.0.0.1//NONSGML v1.0//EN
CALSCALE:GREGORIAN
METHOD:PUBLISH
X-ORIGINAL-URL:https://www.randolphschool.net
X-WR-CALDESC:Events for Randolph School
REFRESH-INTERVAL;VALUE=DURATION:PT1H
X-Robots-Tag:noindex
X-PUBLISHED-TTL:PT1H
BEGIN:VTIMEZONE
TZID:America/Chicago
BEGIN:DAYLIGHT
TZOFFSETFROM:-0600
TZOFFSETTO:-0500
TZNAME:CDT
DTSTART:20200308T080000
END:DAYLIGHT
BEGIN:STANDARD
TZOFFSETFROM:-0500
TZOFFSETTO:-0600
TZNAME:CST
DTSTART:20201101T070000
END:STANDARD
END:VTIMEZONE
BEGIN:VEVENT
DTSTART;TZID=America/Chicago:20200311T154500
DTEND;TZID=America/Chicago:20200311T174500
DTSTAMP:20260424T112342
CREATED:20200320T034926Z
LAST-MODIFIED:20200320T034926Z
UID:34905-1583941500-1583948700@www.randolphschool.net
SUMMARY:CANCELLED: VB Tennis Match vs. Madison Academy @ A
DESCRIPTION:CANCELLED: VB Tennis Match vs. Madison Academy @ A
URL:https://www.randolphschool.net/event/cancelled-vb-tennis-match-vs-madison-academy-a/
LOCATION:Athletic Club Alabama
END:VEVENT
END:VCALENDAR