BEGIN:VCALENDAR
VERSION:2.0
PRODID:-//Randolph School - ECPv6.0.0.1//NONSGML v1.0//EN
CALSCALE:GREGORIAN
METHOD:PUBLISH
X-WR-CALNAME:Randolph School
X-ORIGINAL-URL:https://www.randolphschool.net
X-WR-CALDESC:Events for Randolph School
REFRESH-INTERVAL;VALUE=DURATION:PT1H
X-Robots-Tag:noindex
X-PUBLISHED-TTL:PT1H
BEGIN:VTIMEZONE
TZID:America/Chicago
BEGIN:DAYLIGHT
TZOFFSETFROM:-0600
TZOFFSETTO:-0500
TZNAME:CDT
DTSTART:20200308T080000
END:DAYLIGHT
BEGIN:STANDARD
TZOFFSETFROM:-0500
TZOFFSETTO:-0600
TZNAME:CST
DTSTART:20201101T070000
END:STANDARD
END:VTIMEZONE
BEGIN:VEVENT
DTSTART;TZID=America/Chicago:20200310T154500
DTEND;TZID=America/Chicago:20200310T174500
DTSTAMP:20260424T161243
CREATED:20200213T151142Z
LAST-MODIFIED:20200320T034916Z
UID:33218-1583855100-1583862300@www.randolphschool.net
SUMMARY:CANCELLED: VB Tennis Match vs. Madison Academy @ A
DESCRIPTION:CANCELLED: VB Tennis Match vs. Madison Academy @ A
URL:https://www.randolphschool.net/event/vb-tennis-match-vs-madison-academy-aca/
LOCATION:Athletic Club Alabama
END:VEVENT
BEGIN:VEVENT
DTSTART;TZID=America/Chicago:20200310T163000
DTEND;TZID=America/Chicago:20200310T183000
DTSTAMP:20260424T161243
CREATED:20200213T151147Z
LAST-MODIFIED:20200320T034917Z
UID:33220-1583857800-1583865000@www.randolphschool.net
SUMMARY:CANCELLED: JV Baseball Game @ Fairview
DESCRIPTION:CANCELLED: JV Baseball Game @ Fairview
URL:https://www.randolphschool.net/event/jv-baseball-game-fairview/
LOCATION:Fairview High School
END:VEVENT
BEGIN:VEVENT
DTSTART;TZID=America/Chicago:20200310T170000
DTEND;TZID=America/Chicago:20200310T190000
DTSTAMP:20260424T161243
CREATED:20190903T201937Z
LAST-MODIFIED:20200218T013427Z
UID:28393-1583859600-1583866800@www.randolphschool.net
SUMMARY:V Softball Game vs. DAR
DESCRIPTION:V Softball Game vs. DAR
URL:https://www.randolphschool.net/event/500pm-home-vsb-5/
LOCATION:Garth Softball Field
END:VEVENT
BEGIN:VEVENT
DTSTART;TZID=America/Chicago:20200310T170000
DTEND;TZID=America/Chicago:20200310T190000
DTSTAMP:20260424T161243
CREATED:20200213T151152Z
LAST-MODIFIED:20200320T034918Z
UID:33221-1583859600-1583866800@www.randolphschool.net
SUMMARY:CANCELLED: VG Soccer Game vs. Whitesburg Christian
DESCRIPTION:CANCELLED: VG Soccer Game vs. Whitesburg Christian
URL:https://www.randolphschool.net/event/vg-soccer-game-vs-whitesburg-christian/
LOCATION:SportsMed Field
END:VEVENT
BEGIN:VEVENT
DTSTART;TZID=America/Chicago:20200310T183000
DTEND;TZID=America/Chicago:20200310T203000
DTSTAMP:20260424T161243
CREATED:20200213T151155Z
LAST-MODIFIED:20200320T034920Z
UID:33223-1583865000-1583872200@www.randolphschool.net
SUMMARY:CANCELLED: V Baseball Game @ Fairview
DESCRIPTION:CANCELLED: V Baseball Game @ Fairview
URL:https://www.randolphschool.net/event/v-baseball-game-fairview/
LOCATION:Fairview High School
END:VEVENT
BEGIN:VEVENT
DTSTART;TZID=America/Chicago:20200310T190000
DTEND;TZID=America/Chicago:20200310T210000
DTSTAMP:20260424T161243
CREATED:20200213T151157Z
LAST-MODIFIED:20200320T034923Z
UID:33224-1583866800-1583874000@www.randolphschool.net
SUMMARY:CANCELLED: VB Soccer Game vs. Whitesburg Christian
DESCRIPTION:CANCELLED: VB Soccer Game vs. Whitesburg Christian
URL:https://www.randolphschool.net/event/vb-soccer-game-vs-whitesburg-christian/
LOCATION:SportsMed Field
END:VEVENT
BEGIN:VEVENT
DTSTART;TZID=America/Chicago:20200310T210000
DTEND;TZID=America/Chicago:20200310T210000
DTSTAMP:20260424T161243
CREATED:20200213T151145Z
LAST-MODIFIED:20200216T231820Z
UID:33219-1583874000-1583874000@www.randolphschool.net
SUMMARY:VG Tennis Match vs. Madison Academy @ ACA
DESCRIPTION:VG Tennis Match vs. Madison Academy @ ACA
URL:https://www.randolphschool.net/event/vg-tennis-match-vs-madison-academy-aca/
LOCATION:Athletic Club Alabama
END:VEVENT
END:VCALENDAR