BEGIN:VCALENDAR
VERSION:2.0
PRODID:-//Randolph School - ECPv6.0.0.1//NONSGML v1.0//EN
CALSCALE:GREGORIAN
METHOD:PUBLISH
X-ORIGINAL-URL:https://www.randolphschool.net
X-WR-CALDESC:Events for Randolph School
REFRESH-INTERVAL;VALUE=DURATION:PT1H
X-Robots-Tag:noindex
X-PUBLISHED-TTL:PT1H
BEGIN:VTIMEZONE
TZID:America/Chicago
BEGIN:DAYLIGHT
TZOFFSETFROM:-0600
TZOFFSETTO:-0500
TZNAME:CDT
DTSTART:20200308T080000
END:DAYLIGHT
BEGIN:STANDARD
TZOFFSETFROM:-0500
TZOFFSETTO:-0600
TZNAME:CST
DTSTART:20201101T070000
END:STANDARD
END:VTIMEZONE
BEGIN:VEVENT
DTSTART;TZID=America/Chicago:20200308T170000
DTEND;TZID=America/Chicago:20200308T190000
DTSTAMP:20260424T161234
CREATED:20200320T034902Z
LAST-MODIFIED:20200320T034902Z
UID:34897-1583686800-1583694000@www.randolphschool.net
SUMMARY:JV/V B. Basketball End of Season Celebration
DESCRIPTION:JV/V B. Basketball End of Season Celebration
URL:https://www.randolphschool.net/event/jv-v-b-basketball-end-of-season-celebration/
LOCATION:Garth Commons
END:VEVENT
BEGIN:VEVENT
DTSTART;TZID=America/Chicago:20200308T170000
DTEND;TZID=America/Chicago:20200308T190000
DTSTAMP:20260424T161234
CREATED:20200320T034908Z
LAST-MODIFIED:20200320T034908Z
UID:34898-1583686800-1583694000@www.randolphschool.net
SUMMARY:JV/V B. Basketball End of Season Celebration
DESCRIPTION:JV/V B. Basketball End of Season Celebration
URL:https://www.randolphschool.net/event/jv-v-b-basketball-end-of-season-celebration-2/
LOCATION:Garth Commons
END:VEVENT
END:VCALENDAR