BEGIN:VCALENDAR
VERSION:2.0
PRODID:-//Randolph School - ECPv6.0.0.1//NONSGML v1.0//EN
CALSCALE:GREGORIAN
METHOD:PUBLISH
X-ORIGINAL-URL:https://www.randolphschool.net
X-WR-CALDESC:Events for Randolph School
REFRESH-INTERVAL;VALUE=DURATION:PT1H
X-Robots-Tag:noindex
X-PUBLISHED-TTL:PT1H
BEGIN:VTIMEZONE
TZID:America/Chicago
BEGIN:DAYLIGHT
TZOFFSETFROM:-0600
TZOFFSETTO:-0500
TZNAME:CDT
DTSTART:20200308T080000
END:DAYLIGHT
BEGIN:STANDARD
TZOFFSETFROM:-0500
TZOFFSETTO:-0600
TZNAME:CST
DTSTART:20201101T070000
END:STANDARD
END:VTIMEZONE
BEGIN:VEVENT
DTSTART;VALUE=DATE:20200305
DTEND;VALUE=DATE:20200306
DTSTAMP:20260424T161230
CREATED:20200213T151103Z
LAST-MODIFIED:20200216T231714Z
UID:33197-1583366400-1583452799@www.randolphschool.net
SUMMARY:VB Tennis Match vs. JPII @ UAH
DESCRIPTION:VB Tennis Match vs. JPII @ UAH
URL:https://www.randolphschool.net/event/vb-tennis-match-vs-jpii-uah/
LOCATION:University of Alabama Huntsville
END:VEVENT
BEGIN:VEVENT
DTSTART;TZID=America/Chicago:20200305T163000
DTEND;TZID=America/Chicago:20200305T183000
DTSTAMP:20260424T161230
CREATED:20200213T151104Z
LAST-MODIFIED:20200320T034825Z
UID:33198-1583425800-1583433000@www.randolphschool.net
SUMMARY:V Baseball Game vs. Madison County
DESCRIPTION:V Baseball Game vs. Madison County
URL:https://www.randolphschool.net/event/v-baseball-game-vs-madison-county/
LOCATION:Madison County High School
END:VEVENT
BEGIN:VEVENT
DTSTART;TZID=America/Chicago:20200305T170000
DTEND;TZID=America/Chicago:20200305T190000
DTSTAMP:20260424T161230
CREATED:20190903T201936Z
LAST-MODIFIED:20200320T034827Z
UID:28392-1583427600-1583434800@www.randolphschool.net
SUMMARY:V Softball Game @ Westminster
DESCRIPTION:V Softball Game @ Westminster
URL:https://www.randolphschool.net/event/500pm-away-vsb-2/
LOCATION:Westminster Christian Academy
END:VEVENT
BEGIN:VEVENT
DTSTART;TZID=America/Chicago:20200305T180000
DTEND;TZID=America/Chicago:20200305T200000
DTSTAMP:20260424T161230
CREATED:20200213T151110Z
LAST-MODIFIED:20200320T034828Z
UID:33202-1583431200-1583438400@www.randolphschool.net
SUMMARY:VB Soccer Game @ Muscle Shoals
DESCRIPTION:VB Soccer Game @ Muscle Shoals
URL:https://www.randolphschool.net/event/vb-soccer-game-muscle-shoals-2/
LOCATION:Muscle Shoals High School
END:VEVENT
BEGIN:VEVENT
DTSTART;TZID=America/Chicago:20200305T183000
DTEND;TZID=America/Chicago:20200305T203000
DTSTAMP:20260424T161230
CREATED:20200213T151111Z
LAST-MODIFIED:20200320T034835Z
UID:33203-1583433000-1583440200@www.randolphschool.net
SUMMARY:JV Baseball Game vs. Madison County
DESCRIPTION:JV Baseball Game vs. Madison County
URL:https://www.randolphschool.net/event/jv-baseball-game-vs-madison-county/
LOCATION:Madison County High School
END:VEVENT
END:VCALENDAR