BEGIN:VCALENDAR
VERSION:2.0
PRODID:-//Randolph School - ECPv6.0.0.1//NONSGML v1.0//EN
CALSCALE:GREGORIAN
METHOD:PUBLISH
X-ORIGINAL-URL:https://www.randolphschool.net
X-WR-CALDESC:Events for Randolph School
REFRESH-INTERVAL;VALUE=DURATION:PT1H
X-Robots-Tag:noindex
X-PUBLISHED-TTL:PT1H
BEGIN:VTIMEZONE
TZID:America/Chicago
BEGIN:DAYLIGHT
TZOFFSETFROM:-0600
TZOFFSETTO:-0500
TZNAME:CDT
DTSTART:20200308T080000
END:DAYLIGHT
BEGIN:STANDARD
TZOFFSETFROM:-0500
TZOFFSETTO:-0600
TZNAME:CST
DTSTART:20201101T070000
END:STANDARD
END:VTIMEZONE
BEGIN:VEVENT
DTSTART;TZID=America/Chicago:20200304T073000
DTEND;TZID=America/Chicago:20200304T083000
DTSTAMP:20260424T161237
CREATED:20190903T201934Z
LAST-MODIFIED:20200320T034815Z
UID:28391-1583307000-1583310600@www.randolphschool.net
SUMMARY:TotAcademy Music Mania
DESCRIPTION:You don’t have to wait until Kindergarten to experience the Randolph difference. Our TotAcademy classes are designed with toddlers in mind. Parents are invited to bring their 2\,3\,4\, and 5-year-olds on campus to participate in sensory-rich\, engaging\, themed activities. Together\, you’ll learn and connect with some of our Lower School teachers. TotAcademy courses are free and open to the public.
URL:https://www.randolphschool.net/event/totacademy-music-mania/
LOCATION:LS Music Room
END:VEVENT
BEGIN:VEVENT
DTSTART;TZID=America/Chicago:20200304T163000
DTEND;TZID=America/Chicago:20200304T183000
DTSTAMP:20260424T161237
CREATED:20200320T034816Z
LAST-MODIFIED:20200320T034816Z
UID:34889-1583339400-1583346600@www.randolphschool.net
SUMMARY:V Baseball Game vs. Lee
DESCRIPTION:V Baseball Game vs. Lee
URL:https://www.randolphschool.net/event/v-baseball-game-vs-lee-2/
LOCATION:Garth Baseball Field
END:VEVENT
BEGIN:VEVENT
DTSTART;TZID=America/Chicago:20200304T170000
DTEND;TZID=America/Chicago:20200304T183000
DTSTAMP:20260424T161237
CREATED:20200214T150718Z
LAST-MODIFIED:20200320T034819Z
UID:33612-1583341200-1583346600@www.randolphschool.net
SUMMARY:MSG Soccer Game vs. Monrovia
DESCRIPTION:MSG Soccer Game vs. Monrovia
URL:https://www.randolphschool.net/event/msg-soccer-game-vs-monrovia-2/
LOCATION:SportsMed Field
END:VEVENT
BEGIN:VEVENT
DTSTART;TZID=America/Chicago:20200304T183000
DTEND;TZID=America/Chicago:20200304T200000
DTSTAMP:20260424T161237
CREATED:20200214T150721Z
LAST-MODIFIED:20200320T034821Z
UID:33614-1583346600-1583352000@www.randolphschool.net
SUMMARY:MSB Soccer Game vs. Monrovia
DESCRIPTION:MSB Soccer Game vs. Monrovia
URL:https://www.randolphschool.net/event/msb-soccer-game-vs-monrovia-2/
LOCATION:SportsMed Field
END:VEVENT
BEGIN:VEVENT
DTSTART;TZID=America/Chicago:20200304T183000
DTEND;TZID=America/Chicago:20200304T203000
DTSTAMP:20260424T161237
CREATED:20200320T034823Z
LAST-MODIFIED:20200320T034823Z
UID:34890-1583346600-1583353800@www.randolphschool.net
SUMMARY:JV Baseball Game vs. Lee
DESCRIPTION:JV Baseball Game vs. Lee
URL:https://www.randolphschool.net/event/jv-baseball-game-vs-lee-2/
LOCATION:Garth Baseball Field
END:VEVENT
END:VCALENDAR