BEGIN:VCALENDAR
VERSION:2.0
PRODID:-//Randolph School - ECPv6.0.0.1//NONSGML v1.0//EN
CALSCALE:GREGORIAN
METHOD:PUBLISH
X-ORIGINAL-URL:https://www.randolphschool.net
X-WR-CALDESC:Events for Randolph School
REFRESH-INTERVAL;VALUE=DURATION:PT1H
X-Robots-Tag:noindex
X-PUBLISHED-TTL:PT1H
BEGIN:VTIMEZONE
TZID:America/Chicago
BEGIN:DAYLIGHT
TZOFFSETFROM:-0600
TZOFFSETTO:-0500
TZNAME:CDT
DTSTART:20200308T080000
END:DAYLIGHT
BEGIN:STANDARD
TZOFFSETFROM:-0500
TZOFFSETTO:-0600
TZNAME:CST
DTSTART:20201101T070000
END:STANDARD
END:VTIMEZONE
BEGIN:VEVENT
DTSTART;VALUE=DATE:20200228
DTEND;VALUE=DATE:20200229
DTSTAMP:20260424T065053
CREATED:20200213T151023Z
LAST-MODIFIED:20200216T231626Z
UID:33173-1582848000-1582934399@www.randolphschool.net
SUMMARY:V G Basketball StateTournament
DESCRIPTION:V G Basketball StateTournament
URL:https://www.randolphschool.net/event/v-g-basketball-statetournament-5/
LOCATION:Birmingham\, AL\, United States
END:VEVENT
BEGIN:VEVENT
DTSTART;VALUE=DATE:20200228
DTEND;VALUE=DATE:20200229
DTSTAMP:20260424T065053
CREATED:20200213T151025Z
LAST-MODIFIED:20200216T231630Z
UID:33174-1582848000-1582934399@www.randolphschool.net
SUMMARY:V B Basketball StateTournament
DESCRIPTION:V B Basketball StateTournament
URL:https://www.randolphschool.net/event/v-b-basketball-statetournament-5/
LOCATION:Birmingham\, AL\, United States
END:VEVENT
BEGIN:VEVENT
DTSTART;TZID=America/Chicago:20200228T160000
DTEND;TZID=America/Chicago:20200228T200000
DTSTAMP:20260424T065053
CREATED:20200213T151029Z
LAST-MODIFIED:20200218T013344Z
UID:33177-1582905600-1582920000@www.randolphschool.net
SUMMARY:V Outdoor Track Meet @ Guntersville High School
DESCRIPTION:V Outdoor Track Meet @ Guntersville High School
URL:https://www.randolphschool.net/event/v-outdoor-track-meet-guntersville-high-school/
LOCATION:Guntersville High School
END:VEVENT
BEGIN:VEVENT
DTSTART;TZID=America/Chicago:20200228T170000
DTEND;TZID=America/Chicago:20200228T183000
DTSTAMP:20260424T065053
CREATED:20200213T151030Z
LAST-MODIFIED:20200218T013345Z
UID:33178-1582909200-1582914600@www.randolphschool.net
SUMMARY:MSG Soccer Game @ Discovery
DESCRIPTION:MSG Soccer Game @ Discovery
URL:https://www.randolphschool.net/event/msg-soccer-game-discovery-51/
LOCATION:Discovery Middle School
END:VEVENT
BEGIN:VEVENT
DTSTART;TZID=America/Chicago:20200228T183000
DTEND;TZID=America/Chicago:20200228T200000
DTSTAMP:20260424T065053
CREATED:20200213T151034Z
LAST-MODIFIED:20200218T013346Z
UID:33181-1582914600-1582920000@www.randolphschool.net
SUMMARY:MSB Soccer Game @ Discovery
DESCRIPTION:MSB Soccer Game @ Discovery
URL:https://www.randolphschool.net/event/msb-soccer-game-discovery-31/
LOCATION:Discovery Middle School
END:VEVENT
END:VCALENDAR