BEGIN:VCALENDAR
VERSION:2.0
PRODID:-//Randolph School - ECPv6.0.0.1//NONSGML v1.0//EN
CALSCALE:GREGORIAN
METHOD:PUBLISH
X-ORIGINAL-URL:https://www.randolphschool.net
X-WR-CALDESC:Events for Randolph School
REFRESH-INTERVAL;VALUE=DURATION:PT1H
X-Robots-Tag:noindex
X-PUBLISHED-TTL:PT1H
BEGIN:VTIMEZONE
TZID:America/Chicago
BEGIN:DAYLIGHT
TZOFFSETFROM:-0600
TZOFFSETTO:-0500
TZNAME:CDT
DTSTART:20200308T080000
END:DAYLIGHT
BEGIN:STANDARD
TZOFFSETFROM:-0500
TZOFFSETTO:-0600
TZNAME:CST
DTSTART:20201101T070000
END:STANDARD
END:VTIMEZONE
BEGIN:VEVENT
DTSTART;VALUE=DATE:20200226
DTEND;VALUE=DATE:20200227
DTSTAMP:20260424T065048
CREATED:20190903T201926Z
LAST-MODIFIED:20200216T231600Z
UID:28385-1582675200-1582761599@www.randolphschool.net
SUMMARY:Parent Conferences
DESCRIPTION:Parent Conferences
URL:https://www.randolphschool.net/event/parent-conferences-27/
END:VEVENT
BEGIN:VEVENT
DTSTART;VALUE=DATE:20200226
DTEND;VALUE=DATE:20200227
DTSTAMP:20260424T065048
CREATED:20200213T150954Z
LAST-MODIFIED:20200216T231558Z
UID:33160-1582675200-1582761599@www.randolphschool.net
SUMMARY:V G Basketball StateTournament
DESCRIPTION:V G Basketball StateTournament
URL:https://www.randolphschool.net/event/v-g-basketball-statetournament-3/
LOCATION:Birmingham\, AL\, United States
END:VEVENT
BEGIN:VEVENT
DTSTART;VALUE=DATE:20200226
DTEND;VALUE=DATE:20200227
DTSTAMP:20260424T065048
CREATED:20200213T150955Z
LAST-MODIFIED:20200216T231559Z
UID:33161-1582675200-1582761599@www.randolphschool.net
SUMMARY:V B Basketball StateTournament
DESCRIPTION:V B Basketball StateTournament
URL:https://www.randolphschool.net/event/v-b-basketball-statetournament-3/
LOCATION:Birmingham\, AL\, United States
END:VEVENT
END:VCALENDAR